Uber Exif Photo
Keywords : Barn, Brush Creek
By-line : Rowedean Doss
Copyright Notice : ROWEDEAN DOSS
Copyright Flag : True
Make : NIKON CORPORATION
Camera Model Name : NIKON D300S
Software : Adobe Photoshop Lightroom 3.5 (Windows)
Modify Date : 2011:11:07 06:44:18
Artist : Rowedean Doss
Copyright : ROWEDEAN DOSS
Exposure Time : 1/180
F Number : 16.0
Exposure Program : Aperture-priority AE
ISO : 200
Date/Time Original : 2011:07:05 08:13:00
Create Date : 2011:07:05 08:13:00
Shutter Speed Value : 1/180
Aperture Value : 16.0
Exposure Compensation : -1/3
Max Aperture Value : 5.1
Subject Distance : 4294967295 m
Metering Mode : Multi-segment
Light Source : Fine Weather
Flash : No Flash
Focal Length : 75.0 mm
Sensing Method : One-chip color area
Scene Type : Directly photographed
CFA Pattern : [Red,Green][Green,Blue]
Custom Rendered : Normal
Exposure Mode : Auto
White Balance : Manual
Digital Zoom Ratio : 1
Focal Length In 35mm Format : 112 mm
Scene Capture Type : Standard
Gain Control : None
Contrast : Normal
Saturation : Normal
Sharpness : Normal
Subject Distance Range : Unknown
Serial Number : 3010078
Lens Info : 18-200mm f/3.5-5.6
Lens Model : 18.0-200.0 mm f/3.5-5.6
Profile Description : sRGB IEC61966-2.1
Creator Tool : Adobe Photoshop Lightroom 3.5 (Windows)
Lens : 18.0-200.0 mm f/3.5-5.6
Image Number : 5923
Approximate Focus Distance : 4294967295
Date Created : 2011:07:05 08:13:00.06
Marked : True
Version : 6.5
Process Version : 5.7
Color Temperature : 5000
Tint : +1
Exposure : 0.00
Shadows : 5
Brightness : +50
Luminance Smoothing : 0
Color Noise Reduction : 25
Chromatic Aberration R : 0
Chromatic Aberration B : 0
Vignette Amount : 0
Shadow Tint : 0
Red Hue : 0
Red Saturation : 0
Green Hue : 0
Green Saturation : 0
Blue Hue : 0
Blue Saturation : 0
Fill Light : 0
Vibrance : +78
Highlight Recovery : 0
Clarity : +50
Defringe : 0
Hue Adjustment Red : 0
Hue Adjustment Orange : 0
Hue Adjustment Yellow : 0
Hue Adjustment Green : 0
Hue Adjustment Aqua : 0
Hue Adjustment Blue : 0
Hue Adjustment Purple : 0
Hue Adjustment Magenta : 0
Saturation Adjustment Red : 0
Saturation Adjustment Orange : 0
Saturation Adjustment Yellow : 0
Saturation Adjustment Green : 0
Saturation Adjustment Aqua : 0
Saturation Adjustment Blue : 0
Saturation Adjustment Purple : 0
Saturation Adjustment Magenta : 0
Luminance Adjustment Red : 0
Luminance Adjustment Orange : 0
Luminance Adjustment Yellow : 0
Luminance Adjustment Green : 0
Luminance Adjustment Aqua : 0
Luminance Adjustment Blue : 0
Luminance Adjustment Purple : 0
Luminance Adjustment Magenta : 0
Split Toning Shadow Hue : 0
Split Toning Shadow Saturation : 0
Split Toning Highlight Hue : 0
Split Toning Highlight Saturation : 0
Split Toning Balance : 0
Parametric Shadows : 0
Parametric Darks : 0
Parametric Lights : 0
Parametric Highlights : 0
Parametric Shadow Split : 25
Parametric Midtone Split : 50
Parametric Highlight Split : 75
Sharpen Radius : +1.9
Sharpen Detail : 50
Sharpen Edge Masking : 0
Post Crop Vignette Amount : -3
Post Crop Vignette Midpoint : 50
Post Crop Vignette Feather : 50
Post Crop Vignette Roundness : 0
Post Crop Vignette Style : Highlight Priority
Post Crop Vignette Highlight Contrast : 0
Grain Amount : 0
Color Noise Reduction Detail : 50
Lens Profile Enable : 1
Lens Manual Distortion Amount : 0
Perspective Vertical : 0
Perspective Horizontal : 0
Perspective Rotate : 0.0
Perspective Scale : 100
Convert To Grayscale : False
Tone Curve Name : Medium Contrast
Camera Profile : Camera Standard
Lens Profile Setup : LensDefaults
Lens Profile Name : Adobe (Nikon AF-S DX NIKKOR 18-200mm f/3.5-5.6G ED VR II)
Lens Profile Filename : NIKON D90 (Nikon AF-S DX NIKKOR 18-200mm f3.5-5.6G ED VR II) - RAW.lcp
Lens Profile Distortion Scale : 100
Lens Profile Chromatic Aberration Scale : 100
Lens Profile Vignetting Scale : 100
Has Settings : True
Crop Top : 0
Crop Left : 0
Crop Bottom : 0.991011
Crop Right : 0.991011
Crop Angle : 0
Crop Constrain To Warp : 0
Crop Width : 1000
Crop Height : 664
Crop Unit : pixels
Has Crop : True
Already Applied : True
Usage Terms : This photograph can only be used with the written consent of the photographer.
Creator : Rowedean Doss
Rights : ROWEDEAN DOSS
Subject : Barn, Brush Creek
Creator Postal Code : 80918
Creator Work Telephone : 719 531 5437
Creator Region : Colorado
Creator Country : USA
Creator City : Colorado Springs
Creator Address : 1967 Brookdale Drive
Creator Work Email : roder10@comcast.net
Tone Curve : 0, 0, 32, 22, 64, 56, 128, 128, 192, 196, 255, 255
Image Width : 300
Image Height : 199
Bits Per Sample : 8
Color Components : 3
Aperture : 16.0
Image Size : 300x199
Megapixels : 0.060
Scale Factor To 35 mm Equivalent : 1.5
Shutter Speed : 1/180
Create Date : 2011:07:05 08:13:00.06
Date/Time Original : 2011:07:05 08:13:00.06
Circle Of Confusion : 0.020 mm
Depth Of Field : inf (17.47 m - inf)
Field Of View : 18.3 deg
Focal Length : 75.0 mm (35 mm equivalent: 112.0 mm)
Hyperfocal Distance : 17.47 m
Light Value : 14.5
Lens ID : AF-S DX VR Zoom-Nikkor 18-200mm f/3.5-5.6G IF-ED [II] or AF-S DX VR Zoom-Nikkor 18-200mm f/3.5-5.6G IF-ED