Uber Exif Photo
Make : NIKON CORPORATION
Camera Model Name : NIKON D300
Software : Ver.1.10
Modify Date : 2011:10:16 16:30:55
Exposure Time : 1/8000
F Number : 4.5
Exposure Program : Aperture-priority AE
ISO : 1600
Date/Time Original : 2011:10:13 07:27:28
Create Date : 2011:10:13 07:27:28
Shutter Speed Value : 1/8000
Aperture Value : 4.5
Exposure Compensation : 0
Max Aperture Value : 4.4
Subject Distance : 0.45 m
Metering Mode : Spot
Light Source : Unknown
Focal Length : 70.0 mm
Sensing Method : One-chip color area
Scene Type : Directly photographed
CFA Pattern : [Red,Green][Green,Blue]
Custom Rendered : Normal
Exposure Mode : Auto
White Balance : Auto
Digital Zoom Ratio : 1
Focal Length In 35mm Format : 105 mm
Scene Capture Type : Standard
Gain Control : High gain up
Contrast : Normal
Saturation : Normal
Sharpness : Soft
Subject Distance Range : Unknown
Profile Description : sRGB IEC61966-2.1
Date/Time Digitized : 2011:10:13 07:27:28.43+05:30
Exif Image Width : 1100
Exif Image Height : 731
Creator Tool : Adobe Photoshop Lightroom
Serial Number : 6010757
Lens Info : 18-70mm f/3.5-4.5
Lens : 18.0-70.0 mm f/3.5-4.5
Image Number : 25906
Version : 5.7
Incremental Temperature : 0
Incremental Tint : 0
Exposure : 0.00
Shadows : 38
Brightness : 0
Luminance Smoothing : 0
Color Noise Reduction : 25
Chromatic Aberration R : 0
Chromatic Aberration B : 0
Vignette Amount : 0
Shadow Tint : 0
Red Hue : 0
Red Saturation : 0
Green Hue : 0
Green Saturation : 0
Blue Hue : 0
Blue Saturation : 0
Fill Light : 0
Vibrance : 0
Highlight Recovery : 0
Clarity : +33
Defringe : 0
Hue Adjustment Red : 0
Hue Adjustment Orange : 0
Hue Adjustment Yellow : -26
Hue Adjustment Green : +26
Hue Adjustment Aqua : 0
Hue Adjustment Blue : 0
Hue Adjustment Purple : 0
Hue Adjustment Magenta : -45
Saturation Adjustment Red : +57
Saturation Adjustment Orange : +31
Saturation Adjustment Yellow : +24
Saturation Adjustment Green : +36
Saturation Adjustment Aqua : +45
Saturation Adjustment Blue : +33
Saturation Adjustment Purple : +60
Saturation Adjustment Magenta : +40
Luminance Adjustment Red : +43
Luminance Adjustment Orange : +10
Luminance Adjustment Yellow : +7
Luminance Adjustment Green : +5
Luminance Adjustment Aqua : +38
Luminance Adjustment Blue : +33
Luminance Adjustment Purple : 0
Luminance Adjustment Magenta : +29
Split Toning Shadow Hue : 0
Split Toning Shadow Saturation : 0
Split Toning Highlight Hue : 0
Split Toning Highlight Saturation : 0
Split Toning Balance : 0
Parametric Shadows : -6
Parametric Darks : -21
Parametric Lights : +6
Parametric Highlights : 0
Parametric Shadow Split : 25
Parametric Midtone Split : 50
Parametric Highlight Split : 75
Sharpen Radius : +1.0
Sharpen Detail : 25
Sharpen Edge Masking : 0
Post Crop Vignette Amount : 0
Convert To Grayscale : False
Tone Curve Name : Medium Contrast
Camera Profile : Embedded
Has Settings : True
Has Crop : False
Already Applied : True
Flash Fired : False
Flash Return : No return detection
Flash Mode : Unknown
Flash Function : False
Flash Red Eye Mode : False
Tone Curve : 0, 0, 32, 22, 64, 56, 128, 128, 192, 196, 255, 255
Image Width : 300
Image Height : 200
Bits Per Sample : 8
Color Components : 3
Aperture : 4.5
Image Size : 300x200
Megapixels : 0.060
Scale Factor To 35 mm Equivalent : 1.5
Shutter Speed : 1/8000
Create Date : 2011:10:13 07:27:28.43
Date/Time Original : 2011:10:13 07:27:28.43
Flash : No Flash
Circle Of Confusion : 0.020 mm
Depth Of Field : 0.006 m (0.447 - 0.453 m)
Field Of View : 19.5 deg
Focal Length : 70.0 mm (35 mm equivalent: 105.0 mm)
Hyperfocal Distance : 54.36 m
Light Value : 13.3
Lens ID : AF-S DX Zoom-Nikkor 18-70mm f/3.5-4.5G IF-ED