Uber Exif Photo
Caption-Abstract : Family
By-line : M.C.Liu
Keywords : Family photos
Copyright Notice : Copyrighted
Copyright Flag : True
Photometric Interpretation : RGB
Image Description : Family
Make : NIKON CORPORATION
Camera Model Name : NIKON D300
Orientation : Horizontal (normal)
Samples Per Pixel : 3
Planar Configuration : Chunky
Software : Adobe Photoshop CS5 (12.0x20100115 [20100115.m.998 2010/01/15:02:00:00 cutoff; m branch]) Windows
Modify Date : 2011:11:20 21:38:20
Artist : M.C.Liu
Copyright : Copyrighted
Exposure Time : 1/100
F Number : 4.5
Exposure Program : Manual
ISO : 320
Date/Time Original : 2011:11:20 02:46:53
Create Date : 2011:11:20 02:46:53
Shutter Speed Value : 1/100
Aperture Value : 4.5
Exposure Compensation : -1
Max Aperture Value : 2.8
Metering Mode : Spot
Light Source : Cloudy
Flash : No Flash
Focal Length : 135.0 mm
Color Space : Uncalibrated
Exif Image Width : 1200
Exif Image Height : 797
Sensing Method : One-chip color area
Scene Type : Directly photographed
CFA Pattern : [Red,Green][Green,Blue]
Custom Rendered : Normal
Exposure Mode : Manual
White Balance : Manual
Digital Zoom Ratio : 1
Focal Length In 35mm Format : 202 mm
Scene Capture Type : Standard
Gain Control : None
Contrast : Normal
Saturation : Normal
Sharpness : Normal
Subject Distance Range : Unknown
Creator Tool : Adobe Photoshop CS5 (12.0x20100115 [20100115.m.998 2010/01/15:02:00:00 cutoff; m branch]) Windows
Label : Family
Serial Number : 6050632
Lens Info : 50-135mm f/2.8
Lens : 50.0-135.0 mm f/2.8
Image Number : 13102
Marked : True
Date Created : 2011:01:01
Color Mode : RGB
ICC Profile Name : Adobe RGB (1998)
Format : image/jpeg
Version : 6.1
Process Version : 5.7
Color Temperature : 3839
Tint : -2
Exposure : +0.14
Shadows : 6
Brightness : +50
Luminance Smoothing : 24
Color Noise Reduction : 30
Chromatic Aberration R : 0
Chromatic Aberration B : 0
Vignette Amount : 0
Shadow Tint : 0
Red Hue : 0
Red Saturation : 0
Green Hue : 0
Green Saturation : 0
Blue Hue : 0
Blue Saturation : 0
Fill Light : 15
Highlight Recovery : 38
Clarity : +29
Defringe : 0
Gray Mixer Red : -25
Gray Mixer Orange : -20
Gray Mixer Yellow : -9
Gray Mixer Green : -64
Gray Mixer Aqua : -48
Gray Mixer Blue : -1
Gray Mixer Purple : -16
Gray Mixer Magenta : +59
Split Toning Shadow Hue : 0
Split Toning Shadow Saturation : 0
Split Toning Highlight Hue : 0
Split Toning Highlight Saturation : 0
Split Toning Balance : 0
Parametric Shadows : -5
Parametric Darks : 0
Parametric Lights : +25
Parametric Highlights : 0
Parametric Shadow Split : 25
Parametric Midtone Split : 50
Parametric Highlight Split : 75
Sharpen Radius : +1.2
Sharpen Detail : 45
Sharpen Edge Masking : 83
Post Crop Vignette Amount : -49
Post Crop Vignette Midpoint : 50
Post Crop Vignette Feather : 50
Post Crop Vignette Roundness : 0
Post Crop Vignette Style : Highlight Priority
Post Crop Vignette Highlight Contrast : 0
Grain Amount : 0
Luminance Noise Reduction Detail : 50
Color Noise Reduction Detail : 50
Luminance Noise Reduction Contrast : 0
Lens Profile Enable : 0
Lens Manual Distortion Amount : 0
Perspective Vertical : 0
Perspective Horizontal : 0
Perspective Rotate : 0.0
Perspective Scale : 100
Convert To Grayscale : True
Tone Curve Name : Medium Contrast
Camera Profile : ACR 4.4
Lens Profile Setup : LensDefaults
Has Settings : True
Has Crop : False
Already Applied : True
Creator Postal Code : 769001
Creator Country : India
Creator Work Email : minxliu@live.com
Creator Work Telephone : 9937590100
Creator Region : Orissa
Creator City : Rourkela
Creator Address : Liu's Dental Cilinc , Bisra Road
Usage Terms : Permission reqiured
Creator : M.C.Liu
Rights : Copyrighted
Subject : Family photos
Description : Family
Tone Curve : 0, 0, 32, 22, 64, 56, 128, 128, 192, 196, 255, 255
Image Width : 300
Image Height : 199
Bits Per Sample : 8
Color Components : 1
Aperture : 4.5
Image Size : 300x199
Megapixels : 0.060
Scale Factor To 35 mm Equivalent : 1.5
Shutter Speed : 1/100
Create Date : 2011:11:20 02:46:53.51
Date/Time Original : 2011:11:20 02:46:53.51
Circle Of Confusion : 0.020 mm
Field Of View : 10.2 deg
Focal Length : 135.0 mm (35 mm equivalent: 202.0 mm)
Hyperfocal Distance : 201.69 m
Light Value : 9.3
Lens ID : 50.0-135.0mm f/2.8