Uber Exif Photo
By-line : DUPUIS
Copyright Flag : False
Make : NIKON CORPORATION
Camera Model Name : NIKON D700
Orientation : Horizontal (normal)
Software : Adobe Photoshop CS3 Windows
Modify Date : 2011:11:21 21:49:43
Artist : DUPUIS
Exposure Time : 1/80
F Number : 11.0
Exposure Program : Manual
ISO : 100
Date/Time Original : 2010:08:25 20:07:13
Create Date : 2010:08:25 20:07:13
Shutter Speed Value : 1/80
Aperture Value : 11.0
Exposure Compensation : 0
Max Aperture Value : 2.8
Subject Distance : 2.99 m
Metering Mode : Multi-segment
Light Source : Unknown
Focal Length : 56.0 mm
Color Space : sRGB
Exif Image Width : 1578
Exif Image Height : 1913
Sensing Method : One-chip color area
Scene Type : Directly photographed
CFA Pattern : [Red,Green][Green,Blue]
Custom Rendered : Normal
Exposure Mode : Manual
White Balance : Manual
Digital Zoom Ratio : 1
Focal Length In 35mm Format : 56 mm
Scene Capture Type : Standard
Gain Control : None
Contrast : Normal
Saturation : Normal
Sharpness : Normal
Subject Distance Range : Unknown
Profile Description : sRGB IEC61966-2.1
Creator Tool : Adobe Photoshop CS3 Windows
Rating : 0
Format : image/jpeg
Serial Number : 2042035
Lens Info : 28-70mm f/2.8
Lens : 28.0-70.0 mm f/2.8
Image Number : 8425
Raw File Name : _DSC8404.NEF
Version : 6.0
Process Version : 5.7
Color Temperature : 4800
Tint : -5
Exposure : -0.35
Shadows : 5
Brightness : +50
Luminance Smoothing : 0
Color Noise Reduction : 25
Chromatic Aberration R : 0
Chromatic Aberration B : 0
Vignette Amount : 0
Shadow Tint : 0
Red Hue : 0
Red Saturation : 0
Green Hue : 0
Green Saturation : 0
Blue Hue : 0
Blue Saturation : 0
Fill Light : 8
Vibrance : 0
Highlight Recovery : 5
Clarity : 0
Defringe : 0
Hue Adjustment Red : 0
Hue Adjustment Orange : 0
Hue Adjustment Yellow : 0
Hue Adjustment Green : 0
Hue Adjustment Aqua : 0
Hue Adjustment Blue : 0
Hue Adjustment Purple : 0
Hue Adjustment Magenta : 0
Saturation Adjustment Red : 0
Saturation Adjustment Orange : 0
Saturation Adjustment Yellow : 0
Saturation Adjustment Green : 0
Saturation Adjustment Aqua : 0
Saturation Adjustment Blue : 0
Saturation Adjustment Purple : 0
Saturation Adjustment Magenta : 0
Luminance Adjustment Red : 0
Luminance Adjustment Orange : 0
Luminance Adjustment Yellow : 0
Luminance Adjustment Green : 0
Luminance Adjustment Aqua : 0
Luminance Adjustment Blue : 0
Luminance Adjustment Purple : 0
Luminance Adjustment Magenta : 0
Split Toning Shadow Hue : 0
Split Toning Shadow Saturation : 0
Split Toning Highlight Hue : 0
Split Toning Highlight Saturation : 0
Split Toning Balance : 0
Parametric Shadows : 0
Parametric Darks : 0
Parametric Lights : 0
Parametric Highlights : 0
Parametric Shadow Split : 25
Parametric Midtone Split : 50
Parametric Highlight Split : 75
Sharpen Radius : +1.0
Sharpen Detail : 25
Sharpen Edge Masking : 0
Post Crop Vignette Amount : 0
Grain Amount : 0
Color Noise Reduction Detail : 50
Convert To Grayscale : False
Tone Curve Name : Medium Contrast
Camera Profile : Adobe Standard
Has Settings : True
Has Crop : False
Already Applied : True
Sidecar For Extension : NEF
Color Mode : RGB
ICC Profile Name : sRGB IEC61966-2.1
Date Created : 2010:08:25
Date/Time Digitized : 2010:08:25 20:07:13+02:00
Creator : DUPUIS
Tone Curve : 0, 0, 32, 22, 64, 56, 128, 128, 192, 196, 255, 255
Flash Fired : False
Flash Return : No return detection
Flash Mode : Unknown
Flash Function : False
Flash Red Eye Mode : False
Image Width : 247
Image Height : 300
Bits Per Sample : 8
Color Components : 3
Aperture : 11.0
Image Size : 247x300
Megapixels : 0.074
Scale Factor To 35 mm Equivalent : 1.0
Shutter Speed : 1/80
Create Date : 2010:08:25 20:07:13.33
Date/Time Original : 2010:08:25 20:07:13.33
Modify Date : 2011:11:21 21:49:43.33
Flash : No Flash
Circle Of Confusion : 0.030 mm
Depth Of Field : 2.04 m (2.28 - 4.33 m)
Field Of View : 35.6 deg
Focal Length : 56.0 mm (35 mm equivalent: 56.0 mm)
Hyperfocal Distance : 9.49 m
Light Value : 13.2
Lens ID : AF-S Zoom-Nikkor 28-70mm f/2.8D IF-ED