Uber Exif Photo
Make : NIKON CORPORATION
Camera Model Name : NIKON D90
Software : Adobe Photoshop Lightroom 3.4.1
Modify Date : 2011:09:11 20:21:34
Exposure Time : 1/160
F Number : 5.6
Exposure Program : Aperture-priority AE
ISO : 100
Date/Time Original : 2011:06:04 18:06:11
Create Date : 2011:06:04 18:06:11
Shutter Speed Value : 1/160
Aperture Value : 5.6
Exposure Compensation : -2
Max Aperture Value : 5.7
Subject Distance : 6.31 m
Metering Mode : Multi-segment
Light Source : Unknown
Flash : No Flash
Focal Length : 300.0 mm
Sensing Method : One-chip color area
Scene Type : Directly photographed
CFA Pattern : [Green,Blue][Red,Green]
Custom Rendered : Normal
Exposure Mode : Auto
White Balance : Auto
Digital Zoom Ratio : 1
Focal Length In 35mm Format : 450 mm
Scene Capture Type : Standard
Gain Control : None
Contrast : Normal
Saturation : Normal
Sharpness : Normal
Subject Distance Range : Unknown
Serial Number : 6492972
Lens Info : 70-300mm f/4.5-5.6
Lens Model : 70.0-300.0 mm f/4.5-5.6
Profile Description : sRGB IEC61966-2.1
Creator Tool : Adobe Photoshop Lightroom 3.4.1
Rating : 1
Lens : 70.0-300.0 mm f/4.5-5.6
Image Number : 8519
Approximate Focus Distance : 6.31
Date Created : 2011:06:04 18:06:11.00
Version : 6.4.1
Process Version : 5.7
Color Temperature : 6300
Tint : +3
Exposure : 0.00
Shadows : 0
Brightness : +71
Luminance Smoothing : 0
Color Noise Reduction : 25
Chromatic Aberration R : 0
Chromatic Aberration B : 0
Vignette Amount : 0
Shadow Tint : +69
Red Hue : -2
Red Saturation : -35
Green Hue : 0
Green Saturation : +23
Blue Hue : 0
Blue Saturation : -54
Fill Light : 0
Vibrance : 0
Highlight Recovery : 100
Clarity : +60
Defringe : 0
Hue Adjustment Red : 0
Hue Adjustment Orange : 0
Hue Adjustment Yellow : 0
Hue Adjustment Green : 0
Hue Adjustment Aqua : 0
Hue Adjustment Blue : 0
Hue Adjustment Purple : 0
Hue Adjustment Magenta : 0
Saturation Adjustment Red : +25
Saturation Adjustment Orange : 0
Saturation Adjustment Yellow : 0
Saturation Adjustment Green : 0
Saturation Adjustment Aqua : 0
Saturation Adjustment Blue : -73
Saturation Adjustment Purple : 0
Saturation Adjustment Magenta : 0
Luminance Adjustment Red : +13
Luminance Adjustment Orange : +25
Luminance Adjustment Yellow : +29
Luminance Adjustment Green : 0
Luminance Adjustment Aqua : 0
Luminance Adjustment Blue : 0
Luminance Adjustment Purple : 0
Luminance Adjustment Magenta : 0
Split Toning Shadow Hue : 205
Split Toning Shadow Saturation : 41
Split Toning Highlight Hue : 54
Split Toning Highlight Saturation : 53
Split Toning Balance : +44
Parametric Shadows : +23
Parametric Darks : +46
Parametric Lights : +13
Parametric Highlights : -29
Parametric Shadow Split : 25
Parametric Midtone Split : 50
Parametric Highlight Split : 75
Sharpen Radius : +1.4
Sharpen Detail : 15
Sharpen Edge Masking : 60
Post Crop Vignette Amount : 0
Grain Amount : 0
Color Noise Reduction Detail : 50
Lens Profile Enable : 0
Lens Manual Distortion Amount : 0
Perspective Vertical : 0
Perspective Horizontal : 0
Perspective Rotate : 0.0
Perspective Scale : 100
Convert To Grayscale : False
Tone Curve Name : Strong Contrast
Camera Profile : ACR 4.6
Lens Profile Setup : LensDefaults
Has Settings : True
Has Crop : False
Already Applied : True
Tone Curve : 0, 0, 32, 16, 64, 50, 128, 128, 192, 202, 255, 255
Image Width : 300
Image Height : 199
Bits Per Sample : 8
Color Components : 3
Aperture : 5.6
Image Size : 300x199
Megapixels : 0.060
Scale Factor To 35 mm Equivalent : 1.5
Shutter Speed : 1/160
Create Date : 2011:06:04 18:06:11.00
Date/Time Original : 2011:06:04 18:06:11.00
Circle Of Confusion : 0.020 mm
Depth Of Field : 0.09 m (6.26 - 6.36 m)
Field Of View : 4.6 deg
Focal Length : 300.0 mm (35 mm equivalent: 450.0 mm)
Hyperfocal Distance : 802.33 m
Light Value : 12.3
Lens ID : AF-S VR Zoom-Nikkor 70-300mm f/4.5-5.6G IF-ED