Uber Exif Photo
Copyright Notice : (C)2009 {Geir Walmann}, all rights reserved
By-line Title : Nikon digital camera user
By-line : {Geir Walmann}
Photometric Interpretation : RGB
Make : NIKON CORPORATION
Camera Model Name : NIKON D7000
Planar Configuration : Chunky
Software : Adobe Photoshop Lightroom 4.0 (Windows)
Modify Date : 2012:01:22 22:26:50
Artist : {Geir Walmann}
Copyright : (C)2009 {Geir Walmann}, all rights reserved
Exposure Time : 6
F Number : 2.8
Exposure Program : Manual
ISO : 800
Date/Time Original : 2012:01:22 19:23:54
Create Date : 2012:01:22 19:23:54
Shutter Speed Value : 6
Aperture Value : 2.8
Exposure Compensation : 0
Max Aperture Value : 2.8
Metering Mode : Center-weighted average
Light Source : Unknown
Flash : Off, Did not fire
Focal Length : 17.0 mm
Sensing Method : One-chip color area
Scene Type : Directly photographed
CFA Pattern : [Red,Green][Green,Blue]
Custom Rendered : Normal
Exposure Mode : Manual
White Balance : Auto
Digital Zoom Ratio : 1
Focal Length In 35mm Format : 25 mm
Scene Capture Type : Standard
Gain Control : Low gain up
Contrast : Normal
Saturation : Normal
Sharpness : Hard
Subject Distance Range : Unknown
Serial Number : 6274951
Lens Info : 17-55mm f/2.8
Lens Model : 17.0-55.0 mm f/2.8
Exif Image Width : 1011
Exif Image Height : 1527
Color Space : Uncalibrated
Orientation : Horizontal (normal)
Profile Description : sRGB IEC61966-2.1
Format : image/jpeg
Creator : {Geir Walmann}
Rights : (C)2009 {Geir Walmann}, all rights reserved
Authors Position : Nikon digital camera user
Date Created : 2012:01:22 19:23:54.00
Rating Percent : 0
Creator Tool : Adobe Photoshop Lightroom 4.0 (Windows)
Lens : 17.0-55.0 mm f/2.8
Image Number : 2048
Approximate Focus Distance : 4294967295
Version : 7.0
Process Version : 6.6
Color Temperature : 4450
Tint : +51
Exposure : 0.00
Shadows : 5
Brightness : +50
Luminance Smoothing : 34
Color Noise Reduction : 25
Vignette Amount : 0
Shadow Tint : 0
Red Hue : 0
Red Saturation : 0
Green Hue : 0
Green Saturation : +50
Blue Hue : 0
Blue Saturation : +65
Fill Light : 0
Vibrance : 0
Highlight Recovery : 0
Clarity : 0
Defringe : 0
Hue Adjustment Red : 0
Hue Adjustment Orange : 0
Hue Adjustment Yellow : 0
Hue Adjustment Green : 0
Hue Adjustment Aqua : 0
Hue Adjustment Blue : 0
Hue Adjustment Purple : 0
Hue Adjustment Magenta : 0
Saturation Adjustment Red : 0
Saturation Adjustment Orange : 0
Saturation Adjustment Yellow : 0
Saturation Adjustment Green : 0
Saturation Adjustment Aqua : 0
Saturation Adjustment Blue : 0
Saturation Adjustment Purple : 0
Saturation Adjustment Magenta : 0
Luminance Adjustment Red : 0
Luminance Adjustment Orange : 0
Luminance Adjustment Yellow : 0
Luminance Adjustment Green : 0
Luminance Adjustment Aqua : 0
Luminance Adjustment Blue : 0
Luminance Adjustment Purple : 0
Luminance Adjustment Magenta : 0
Split Toning Shadow Hue : 0
Split Toning Shadow Saturation : 0
Split Toning Highlight Hue : 0
Split Toning Highlight Saturation : 0
Split Toning Balance : 0
Parametric Shadows : +23
Parametric Darks : +55
Parametric Lights : +58
Parametric Highlights : 0
Parametric Shadow Split : 25
Parametric Midtone Split : 50
Parametric Highlight Split : 75
Sharpen Radius : +1.0
Sharpen Detail : 30
Sharpen Edge Masking : 60
Post Crop Vignette Amount : 0
Grain Amount : 0
Luminance Noise Reduction Detail : 50
Color Noise Reduction Detail : 50
Luminance Noise Reduction Contrast : 0
Lens Profile Enable : 1
Lens Manual Distortion Amount : 0
Perspective Vertical : 0
Perspective Horizontal : 0
Perspective Rotate : 0.0
Perspective Scale : 100
Auto Lateral CA : 0
Exposure 2012 : +0.60
Contrast 2012 : 0
Highlights 2012 : -17
Shadows 2012 : +17
Whites 2012 : -30
Blacks 2012 : +11
Clarity 2012 : +30
Convert To Grayscale : False
Tone Curve Name : Medium Contrast
Tone Curve Name 2012 : Linear
Camera Profile : Adobe Standard
Lens Profile Setup : LensDefaults
Lens Profile Name : Adobe (Nikon AF-S DX Zoom-Nikkor 17-55mm f/2.8G IF-ED)
Lens Profile Filename : NIKON D90 (Nikon AF-S DX Zoom-NIKKOR 17-55mm f2.8G IF-ED) - RAW.lcp
Lens Profile Distortion Scale : 100
Lens Profile Chromatic Aberration Scale : 100
Lens Profile Vignetting Scale : 100
Has Settings : True
Has Crop : False
Already Applied : True
Tone Curve : 0, 0, 32, 22, 64, 56, 128, 128, 192, 196, 255, 255
Tone Curve Red : 0, 0, 255, 255
Tone Curve Green : 0, 0, 255, 255
Tone Curve Blue : 0, 0, 255, 255
Tone Curve PV2012 : 0, 0, 255, 255
Tone Curve PV2012 Red : 0, 0, 255, 255
Tone Curve PV2012 Green : 0, 0, 255, 255
Tone Curve PV2012 Blue : 0, 0, 255, 255
Usage Terms : For consideration only, no reproduction without prior permission
Image Width : 198
Image Height : 300
Bits Per Sample : 8
Color Components : 3
Aperture : 2.8
Image Size : 198x300
Megapixels : 0.059
Scale Factor To 35 mm Equivalent : 1.5
Shutter Speed : 6
Create Date : 2012:01:22 19:23:54.00
Date/Time Original : 2012:01:22 19:23:54.00
Circle Of Confusion : 0.020 mm
Depth Of Field : inf (5.05 m - inf)
Field Of View : 71.5 deg
Focal Length : 17.0 mm (35 mm equivalent: 25.0 mm)
Hyperfocal Distance : 5.05 m
Light Value : -2.6
Lens ID : AF-S DX Zoom-Nikkor 17-55mm f/2.8G IF-ED