Uber Exif Photo
By-line : Randy Giesbrecht
Keywords : Black Knight Holdings © 2011, Black Knight Holdings © 2012, Randy Giesbrecht © 2011, Randy Giesbrecht © 2012
Copyright Notice : Randy Giesbrecht © 2011
Copyright Flag : True
URL : www.randygiesbrecht.com
Photometric Interpretation : RGB
Make : NIKON CORPORATION
Camera Model Name : NIKON D3
Orientation : Horizontal (normal)
Samples Per Pixel : 3
Software : Adobe Photoshop CS5 Windows
Modify Date : 2012:01:30 08:26:37
Artist : Randy Giesbrecht
Copyright : Randy Giesbrecht © 2011
Exposure Time : 1/1000
F Number : 4.0
Exposure Program : Aperture-priority AE
ISO : 640
Date/Time Original : 2012:01:15 16:08:51
Create Date : 2012:01:15 16:08:51
Shutter Speed Value : 1/1000
Aperture Value : 4.0
Exposure Compensation : 0
Max Aperture Value : 4.0
Subject Distance : 31.6 m
Metering Mode : Multi-segment
Light Source : Unknown
Flash : No Flash
Focal Length : 600.0 mm
Color Space : Uncalibrated
Exif Image Width : 1500
Exif Image Height : 1000
Sensing Method : One-chip color area
Scene Type : Directly photographed
CFA Pattern : [Red,Green][Green,Blue]
Custom Rendered : Normal
Exposure Mode : Auto
White Balance : Auto
Digital Zoom Ratio : 1
Focal Length In 35mm Format : 600 mm
Scene Capture Type : Standard
Gain Control : Low gain up
Contrast : Normal
Saturation : Normal
Sharpness : Normal
Subject Distance Range : Unknown
Serial Number : 2022320
Lens Info : 600mm f/4
Lens Model : 600.0 mm f/4.0
Profile Description : ProPhoto RGB
Rating : 0
Label :
Creator Tool : Adobe Photoshop CS5 Windows
Lens : 600.0 mm f/4.0
Image Number : 55742
Approximate Focus Distance : 31.6
Date Created : 2012:01:15
Color Mode : RGB
ICC Profile Name : ProPhoto RGB
Marked : True
Web Statement : www.randygiesbrecht.com
Digital Source Type : http://cv.iptc.org/newscodes/digitalsourcetype/digitalCapture
Format : image/jpeg
Raw File Name : BKD_9852.JPG
Version : 6.6
Process Version : 5.7
Incremental Temperature : 0
Incremental Tint : 0
Exposure : 0.00
Shadows : 14
Brightness : 0
Luminance Smoothing : 0
Color Noise Reduction : 0
Chromatic Aberration R : 0
Chromatic Aberration B : 0
Vignette Amount : 0
Shadow Tint : 0
Red Hue : 0
Red Saturation : 0
Green Hue : 0
Green Saturation : 0
Blue Hue : 0
Blue Saturation : 0
Fill Light : 29
Vibrance : +29
Highlight Recovery : 0
Clarity : +29
Defringe : 0
Hue Adjustment Red : 0
Hue Adjustment Orange : 0
Hue Adjustment Yellow : 0
Hue Adjustment Green : 0
Hue Adjustment Aqua : 0
Hue Adjustment Blue : 0
Hue Adjustment Purple : 0
Hue Adjustment Magenta : 0
Saturation Adjustment Red : 0
Saturation Adjustment Orange : 0
Saturation Adjustment Yellow : 0
Saturation Adjustment Green : 0
Saturation Adjustment Aqua : 0
Saturation Adjustment Blue : 0
Saturation Adjustment Purple : 0
Saturation Adjustment Magenta : 0
Luminance Adjustment Red : 0
Luminance Adjustment Orange : 0
Luminance Adjustment Yellow : 0
Luminance Adjustment Green : 0
Luminance Adjustment Aqua : 0
Luminance Adjustment Blue : 0
Luminance Adjustment Purple : 0
Luminance Adjustment Magenta : 0
Split Toning Shadow Hue : 0
Split Toning Shadow Saturation : 0
Split Toning Highlight Hue : 0
Split Toning Highlight Saturation : 0
Split Toning Balance : 0
Parametric Shadows : 0
Parametric Darks : 0
Parametric Lights : 0
Parametric Highlights : 0
Parametric Shadow Split : 25
Parametric Midtone Split : 50
Parametric Highlight Split : 75
Sharpen Radius : +1.0
Sharpen Detail : 25
Sharpen Edge Masking : 0
Post Crop Vignette Amount : 0
Grain Amount : 0
Lens Profile Enable : 0
Lens Manual Distortion Amount : 0
Perspective Vertical : 0
Perspective Horizontal : 0
Perspective Rotate : 0.0
Perspective Scale : 100
Convert To Grayscale : False
Tone Curve Name : Linear
Camera Profile : Embedded
Lens Profile Setup : LensDefaults
Has Settings : True
Crop Top : 0
Crop Left : 0
Crop Bottom : 1
Crop Right : 1
Crop Angle : 0
Crop Constrain To Warp : 0
Has Crop : True
Already Applied : True
Creator : Randy Giesbrecht
Rights : Randy Giesbrecht © 2011
Subject : Black Knight Holdings © 2011, Black Knight Holdings © 2012, Randy Giesbrecht © 2011, Randy Giesbrecht © 2012
Tone Curve : 0, 0, 255, 255
Creator Postal Code : V2S 3L7
Creator Work Telephone : 604-309-1738
Creator Region : BC
Creator Country : Canada
Creator Work Email : randybkh@shaw.ca
Creator City : Abbotsford
Creator Address : 2764 Mountview Street
Creator Work URL : randygiesbrecht.com
Hierarchical Subject : Black Knight Holdings © 2011, Black Knight Holdings © 2012, Randy Giesbrecht © 2011, Randy Giesbrecht © 2012
Image Width : 300
Image Height : 200
Bits Per Sample : 8
Color Components : 3
Aperture : 4.0
Image Size : 300x200
Megapixels : 0.060
Scale Factor To 35 mm Equivalent : 1.0
Shutter Speed : 1/1000
Create Date : 2012:01:15 16:08:51.00
Date/Time Original : 2012:01:15 16:08:51.00
Modify Date : 2012:01:30 08:26:37.00
Circle Of Confusion : 0.030 mm
Depth Of Field : 0.65 m (31.28 - 31.93 m)
Field Of View : 3.4 deg
Focal Length : 600.0 mm (35 mm equivalent: 600.0 mm)
Hyperfocal Distance : 2995.38 m
Light Value : 11.3
Lens ID : AF-I Nikkor 600mm f/4D IF-ED + TC-14E or AF-I Nikkor 600mm f/4D IF-ED + TC-20E or AF-I Nikkor 600mm f/4D IF-ED + TC-17E or AF-I Nikkor 600mm f/4D IF-ED