Uber Exif Photo
Keywords : RIAT 2011
By-line : Copyright_AlanEJones_2011
Copyright Notice : Alan E Jones
Copyright Flag : True
Make : NIKON CORPORATION
Camera Model Name : NIKON D300
Software : Ver.1.10
Modify Date : 2011:11:06 23:31:06
Artist : Copyright_AlanEJones_2010
Copyright : Alan E Jones
Exposure Time : 1/1250
F Number : 4.8
Exposure Program : Aperture-priority AE
ISO : 200
Date/Time Original : 2011:07:16 16:17:07
Create Date : 2011:07:16 16:17:07
Shutter Speed Value : 1/1250
Aperture Value : 4.8
Exposure Compensation : 0
Max Aperture Value : 4.8
Subject Distance : 4294967295 m
Metering Mode : Multi-segment
Light Source : Unknown
Focal Length : 300.0 mm
User Comment : Copyright 2008 Alan E Jones
Sensing Method : One-chip color area
Scene Type : Directly photographed
CFA Pattern : [Red,Green][Green,Blue]
Custom Rendered : Normal
Exposure Mode : Auto
White Balance : Auto
Digital Zoom Ratio : 1
Focal Length In 35mm Format : 450 mm
Scene Capture Type : Standard
Gain Control : None
Contrast : Normal
Saturation : Normal
Sharpness : Normal
Subject Distance Range : Unknown
Profile Description : sRGB IEC61966-2.1
Date/Time Digitized : 2011:07:16 16:17:07.00+01:00
Exif Image Width : 1191
Exif Image Height : 635
Creator Tool : Adobe Photoshop Lightroom
Serial Number : 8009146
Lens Info : 70-200mm f/2.8
Lens : 70.0-200.0 mm f/2.8
Image Number : 11600
Marked : True
Version : 5.7
Color Temperature : 5900
Tint : +2
Exposure : -0.67
Shadows : 5
Brightness : +50
Luminance Smoothing : 0
Color Noise Reduction : 25
Chromatic Aberration R : 0
Chromatic Aberration B : 0
Vignette Amount : 0
Shadow Tint : 0
Red Hue : 0
Red Saturation : 0
Green Hue : 0
Green Saturation : 0
Blue Hue : 0
Blue Saturation : 0
Fill Light : 0
Vibrance : 0
Highlight Recovery : 0
Clarity : +55
Defringe : 0
Hue Adjustment Red : 0
Hue Adjustment Orange : 0
Hue Adjustment Yellow : 0
Hue Adjustment Green : 0
Hue Adjustment Aqua : 0
Hue Adjustment Blue : 0
Hue Adjustment Purple : 0
Hue Adjustment Magenta : 0
Saturation Adjustment Red : 0
Saturation Adjustment Orange : +73
Saturation Adjustment Yellow : 0
Saturation Adjustment Green : 0
Saturation Adjustment Aqua : 0
Saturation Adjustment Blue : 0
Saturation Adjustment Purple : 0
Saturation Adjustment Magenta : 0
Luminance Adjustment Red : 0
Luminance Adjustment Orange : 0
Luminance Adjustment Yellow : 0
Luminance Adjustment Green : 0
Luminance Adjustment Aqua : 0
Luminance Adjustment Blue : 0
Luminance Adjustment Purple : 0
Luminance Adjustment Magenta : 0
Split Toning Shadow Hue : 0
Split Toning Shadow Saturation : 0
Split Toning Highlight Hue : 0
Split Toning Highlight Saturation : 0
Split Toning Balance : 0
Parametric Shadows : 0
Parametric Darks : 0
Parametric Lights : 0
Parametric Highlights : 0
Parametric Shadow Split : 25
Parametric Midtone Split : 50
Parametric Highlight Split : 75
Sharpen Radius : +1.0
Sharpen Detail : 25
Sharpen Edge Masking : 0
Post Crop Vignette Amount : 0
Convert To Grayscale : False
Tone Curve Name : Strong Contrast
Camera Profile : Camera Vivid
Has Settings : True
Crop Top : 0.318681
Crop Left : 0.07056
Crop Bottom : 0.813187
Crop Right : 0.686131
Crop Angle : 0
Crop Width : 1191
Crop Height : 635
Crop Unit : pixels
Has Crop : True
Already Applied : True
Flash Fired : False
Flash Return : No return detection
Flash Mode : Unknown
Flash Function : False
Flash Red Eye Mode : False
Usage Terms : No usage without prior written consent.
Creator Work Email : alanejones@hotmail.com
Creator : Copyright_AlanEJones_2011
Rights : Alan E Jones
Subject : RIAT 2011
Tone Curve : 0, 0, 32, 16, 64, 50, 128, 128, 192, 202, 255, 255
Image Width : 300
Image Height : 160
Bits Per Sample : 8
Color Components : 3
Aperture : 4.8
Image Size : 300x160
Megapixels : 0.048
Scale Factor To 35 mm Equivalent : 1.5
Shutter Speed : 1/1250
Create Date : 2011:07:16 16:17:07.00
Date/Time Original : 2011:07:16 16:17:07.00
Flash : No Flash
Circle Of Confusion : 0.020 mm
Depth Of Field : inf (936.06 m - inf)
Field Of View : 4.6 deg
Focal Length : 300.0 mm (35 mm equivalent: 450.0 mm)
Hyperfocal Distance : 936.06 m
Light Value : 13.8
Lens ID : AF-S VR Zoom-Nikkor 70-200mm f/2.8G IF-ED