Uber Exif Photo
By-line : BUDI AFRIANTO
Copyright Notice : Copyright@BUDIBOYO
Make : NIKON CORPORATION
Camera Model Name : NIKON D700
Orientation : Horizontal (normal)
Software : Adobe Photoshop CS5.1 Macintosh
Modify Date : 2012:02:12 21:56:48
Artist : BUDI AFRIANTO
Copyright : Copyright@BUDIBOYO
Exposure Time : 1/5000
F Number : 2.0
Exposure Program : Aperture-priority AE
ISO : 200
Sensitivity Type : Unknown
Date/Time Original : 2012:02:12 11:09:54
Create Date : 2012:02:12 11:09:54
Shutter Speed Value : 1/5000
Aperture Value : 2.0
Exposure Compensation : 0
Max Aperture Value : 1.4
Metering Mode : Multi-segment
Light Source : Fine Weather
Flash : No Flash
Focal Length : 85.0 mm
Color Space : Uncalibrated
Exif Image Width : 900
Exif Image Height : 714
Sensing Method : One-chip color area
Scene Type : Directly photographed
CFA Pattern : [Red,Green][Green,Blue]
Custom Rendered : Normal
Exposure Mode : Auto
White Balance : Manual
Digital Zoom Ratio : 1
Focal Length In 35mm Format : 85 mm
Scene Capture Type : Standard
Gain Control : None
Contrast : Normal
Saturation : Normal
Sharpness : Normal
Subject Distance Range : Unknown
Serial Number : 2374238
Lens Info : 85mm f/1.4
Lens Model : Zeiss Planar T* 1.4/85 ZF.2
Profile Description : Adobe RGB (1998)
Creator Tool : Ver.1.02
Format : image/jpeg
Lens : Zeiss Planar T* 1.4/85 ZF.2
Image Number : 6182
Version : 6.2
Process Version : 5.7
Color Temperature : 5000
Tint : -6
Exposure : -0.60
Shadows : 8
Brightness : +60
Luminance Smoothing : 0
Color Noise Reduction : 25
Chromatic Aberration R : 0
Chromatic Aberration B : 0
Vignette Amount : 0
Shadow Tint : 0
Red Hue : 0
Red Saturation : 0
Green Hue : 0
Green Saturation : 0
Blue Hue : 0
Blue Saturation : 0
Fill Light : 7
Highlight Recovery : 36
Clarity : +64
Defringe : 0
Gray Mixer Red : +15
Gray Mixer Orange : -12
Gray Mixer Yellow : -36
Gray Mixer Green : -41
Gray Mixer Aqua : -28
Gray Mixer Blue : +14
Gray Mixer Purple : +40
Gray Mixer Magenta : +18
Split Toning Shadow Hue : 0
Split Toning Shadow Saturation : 0
Split Toning Highlight Hue : 0
Split Toning Highlight Saturation : 0
Split Toning Balance : 0
Parametric Shadows : -12
Parametric Darks : -49
Parametric Lights : -28
Parametric Highlights : +18
Parametric Shadow Split : 25
Parametric Midtone Split : 50
Parametric Highlight Split : 75
Sharpen Radius : +1.2
Sharpen Detail : 36
Sharpen Edge Masking : 0
Post Crop Vignette Amount : 0
Grain Amount : 0
Color Noise Reduction Detail : 50
Lens Profile Enable : 0
Lens Manual Distortion Amount : 0
Perspective Vertical : 0
Perspective Horizontal : 0
Perspective Rotate : 0.0
Perspective Scale : 100
Convert To Grayscale : True
Tone Curve Name : Medium Contrast
Camera Profile : Adobe Standard
Lens Profile Setup : LensDefaults
Has Settings : True
Crop Top : 0.262189
Crop Left : 0.187555
Crop Bottom : 0.975693
Crop Right : 0.786371
Crop Angle : 0
Crop Constrain To Warp : 0
Crop Width : 2549
Crop Height : 2021
Crop Unit : pixels
Has Crop : True
Already Applied : True
Color Mode : RGB
ICC Profile Name : Adobe RGB (1998)
Date Created : 2012:02:12 11:09:54.05
Creator : BUDI AFRIANTO
Rights : Copyright@BUDIBOYO
Tone Curve : 0, 0, 32, 22, 64, 56, 128, 128, 192, 196, 255, 255
Paint Correction What : Correction
Paint Correction Amount : 1.000000
Paint Correction Active : true
Paint Correction Exposure : 0.028401
Paint Correction Saturation : 0.394485
Paint Correction Contrast : 0.193015
Paint Correction Clarity : 0.831893
Paint Correction Sharpness : 0.812776
Paint Correction Brightness : 0.272426
Paint Correction Toning Hue : 359.875000
Paint Correction Toning Saturation : 0.000000
Paint Correction Mask What : Mask/Paint
Paint Correction Mask Value : 0.810300
Paint Correction Mask Radius : 0.035856
Paint Correction Mask Flow : 0.719873
Paint Correction Mask Center Weight : 0.003512
Image Width : 300
Image Height : 238
Bits Per Sample : 8
Color Components : 3
Aperture : 2.0
Image Size : 300x238
Megapixels : 0.071
Scale Factor To 35 mm Equivalent : 1.0
Shutter Speed : 1/5000
Create Date : 2012:02:12 11:09:54.50
Date/Time Original : 2012:02:12 11:09:54.50
Circle Of Confusion : 0.030 mm
Field Of View : 23.9 deg
Focal Length : 85.0 mm (35 mm equivalent: 85.0 mm)
Hyperfocal Distance : 120.23 m
Light Value : 13.3