Uber Exif Photo
Keywords : Liverpool Military Show 2009, Parachute Display, Parachute Regiment, Red Devils
By-line : Alan E Jones
Copyright Notice : Alan E Jones
Copyright Flag : True
Make : NIKON CORPORATION
Camera Model Name : NIKON D300
Software : Ver.1.00
Modify Date : 2011:02:23 20:20:00
Artist : Alan E Jones
Copyright : Alan E Jones
Exposure Time : 1/3200
F Number : 2.8
Exposure Program : Aperture-priority AE
ISO : 200
Date/Time Original : 2009:05:24 14:08:20
Create Date : 2009:05:24 14:08:20
Shutter Speed Value : 1/3200
Aperture Value : 2.8
Exposure Compensation : 0
Max Aperture Value : 2.8
Subject Distance : 4294967295 m
Metering Mode : Multi-segment
Light Source : Unknown
Focal Length : 70.0 mm
User Comment : Copyright 2008 Alan E Jones
Sensing Method : One-chip color area
Scene Type : Directly photographed
CFA Pattern : [Red,Green][Green,Blue]
Custom Rendered : Normal
Exposure Mode : Auto
White Balance : Auto
Digital Zoom Ratio : 1
Focal Length In 35mm Format : 105 mm
Scene Capture Type : Standard
Gain Control : None
Contrast : Normal
Saturation : High
Sharpness : Normal
Subject Distance Range : Unknown
Profile Description : sRGB IEC61966-2.1
Date/Time Digitized : 2009:05:24 14:08:20.59+01:00
Exif Image Width : 1000
Exif Image Height : 729
Creator Tool : Adobe Photoshop Lightroom
Label : Red
Serial Number : 8009146
Lens Info : 70-200mm f/2.8
Lens : 70.0-200.0 mm f/2.8
Image Number : 3394
Marked : True
Version : 5.7
Color Temperature : 6000
Tint : -18
Exposure : 0.00
Shadows : 5
Brightness : +50
Luminance Smoothing : 0
Color Noise Reduction : 25
Chromatic Aberration R : 0
Chromatic Aberration B : 0
Vignette Amount : 0
Shadow Tint : 0
Red Hue : 0
Red Saturation : 0
Green Hue : 0
Green Saturation : 0
Blue Hue : 0
Blue Saturation : 0
Fill Light : 0
Vibrance : 0
Highlight Recovery : 0
Clarity : +42
Defringe : 0
Hue Adjustment Red : 0
Hue Adjustment Orange : 0
Hue Adjustment Yellow : 0
Hue Adjustment Green : 0
Hue Adjustment Aqua : 0
Hue Adjustment Blue : 0
Hue Adjustment Purple : 0
Hue Adjustment Magenta : 0
Saturation Adjustment Red : +44
Saturation Adjustment Orange : 0
Saturation Adjustment Yellow : 0
Saturation Adjustment Green : 0
Saturation Adjustment Aqua : 0
Saturation Adjustment Blue : +42
Saturation Adjustment Purple : 0
Saturation Adjustment Magenta : 0
Luminance Adjustment Red : 0
Luminance Adjustment Orange : 0
Luminance Adjustment Yellow : 0
Luminance Adjustment Green : 0
Luminance Adjustment Aqua : 0
Luminance Adjustment Blue : 0
Luminance Adjustment Purple : 0
Luminance Adjustment Magenta : 0
Split Toning Shadow Hue : 0
Split Toning Shadow Saturation : 0
Split Toning Highlight Hue : 0
Split Toning Highlight Saturation : 0
Split Toning Balance : 0
Parametric Shadows : 0
Parametric Darks : 0
Parametric Lights : 0
Parametric Highlights : 0
Parametric Shadow Split : 25
Parametric Midtone Split : 50
Parametric Highlight Split : 75
Sharpen Radius : +1.0
Sharpen Detail : 25
Sharpen Edge Masking : 0
Post Crop Vignette Amount : 0
Convert To Grayscale : False
Tone Curve Name : Medium Contrast
Camera Profile : Camera Vivid
Has Settings : True
Crop Top : 0.153846
Crop Left : 0.260341
Crop Bottom : 0.824176
Crop Right : 0.871046
Crop Angle : 0
Crop Width : 1000
Crop Height : 729
Crop Unit : pixels
Has Crop : True
Already Applied : True
Flash Fired : False
Flash Return : No return detection
Flash Mode : Unknown
Flash Function : False
Flash Red Eye Mode : False
Usage Terms : No usage without prior written consent.
Creator City : Liverpool
Creator Work Email : alanejones@hotmail.com
Creator : Alan E Jones
Rights : Alan E Jones
Subject : Liverpool Military Show 2009, Parachute Display, Parachute Regiment, Red Devils
Tone Curve : 0, 0, 32, 22, 64, 56, 128, 128, 192, 196, 255, 255
Image Width : 300
Image Height : 219
Bits Per Sample : 8
Color Components : 3
Aperture : 2.8
Image Size : 300x219
Megapixels : 0.066
Scale Factor To 35 mm Equivalent : 1.5
Shutter Speed : 1/3200
Create Date : 2009:05:24 14:08:20.59
Date/Time Original : 2009:05:24 14:08:20.59
Flash : No Flash
Circle Of Confusion : 0.020 mm
Depth Of Field : inf (87.37 m - inf)
Field Of View : 19.5 deg
Focal Length : 70.0 mm (35 mm equivalent: 105.0 mm)
Hyperfocal Distance : 87.37 m
Light Value : 13.6
Lens ID : AF-S VR Zoom-Nikkor 70-200mm f/2.8G IF-ED