Uber Exif Photo
By-line : Finn Olesen
Copyright Notice : www.saycheeseto.me
Make : NIKON CORPORATION
Camera Model Name : NIKON D7000
Software : Adobe Photoshop Lightroom 3.4.1
Modify Date : 2012:02:12 01:09:15
Artist : Finn Olesen
Copyright : www.saycheeseto.me
Exposure Time : 1/125
F Number : 8.0
Exposure Program : Manual
ISO : 100
Sensitivity Type : Recommended Exposure Index
Date/Time Original : 2012:02:11 18:32:20
Create Date : 2012:02:11 18:32:20
Shutter Speed Value : 1/125
Aperture Value : 8.0
Exposure Compensation : 0
Max Aperture Value : 1.7
Subject Distance : 2 m
Metering Mode : Spot
Light Source : Unknown
Flash : Off, Did not fire
Focal Length : 50.0 mm
Sensing Method : One-chip color area
Scene Type : Directly photographed
CFA Pattern : [Red,Green][Green,Blue]
Custom Rendered : Normal
Exposure Mode : Manual
White Balance : Auto
Digital Zoom Ratio : 1
Focal Length In 35mm Format : 75 mm
Scene Capture Type : Standard
Gain Control : None
Contrast : Normal
Saturation : Normal
Sharpness : Normal
Subject Distance Range : Unknown
Serial Number : 6186813
Lens Info : 50mm f/1.8
Lens Model : 50.0 mm f/1.8
Profile Description : sRGB IEC61966-2.1
Rating : 3
Creator Tool : Adobe Photoshop Lightroom 3.4.1
Format : application/vnd.adobe.photoshop
Lens : 50.0 mm f/1.8
Image Number : 19855
Approximate Focus Distance : 2
Date Created : 2012:02:11 18:32:20
Version : 6.4.1
Process Version : 5.7
Incremental Temperature : +2
Incremental Tint : +12
Exposure : +0.25
Shadows : 0
Brightness : 0
Luminance Smoothing : 0
Color Noise Reduction : 0
Chromatic Aberration R : 0
Chromatic Aberration B : 0
Vignette Amount : 0
Shadow Tint : 0
Red Hue : +49
Red Saturation : 0
Green Hue : +46
Green Saturation : 0
Blue Hue : -44
Blue Saturation : +33
Fill Light : 0
Vibrance : +64
Highlight Recovery : 100
Clarity : +15
Defringe : 0
Hue Adjustment Red : 0
Hue Adjustment Orange : 0
Hue Adjustment Yellow : 0
Hue Adjustment Green : 0
Hue Adjustment Aqua : 0
Hue Adjustment Blue : 0
Hue Adjustment Purple : 0
Hue Adjustment Magenta : 0
Saturation Adjustment Red : -42
Saturation Adjustment Orange : 0
Saturation Adjustment Yellow : 0
Saturation Adjustment Green : 0
Saturation Adjustment Aqua : 0
Saturation Adjustment Blue : -83
Saturation Adjustment Purple : 0
Saturation Adjustment Magenta : 0
Luminance Adjustment Red : +25
Luminance Adjustment Orange : +19
Luminance Adjustment Yellow : +21
Luminance Adjustment Green : 0
Luminance Adjustment Aqua : 0
Luminance Adjustment Blue : 0
Luminance Adjustment Purple : 0
Luminance Adjustment Magenta : 0
Split Toning Shadow Hue : 207
Split Toning Shadow Saturation : 39
Split Toning Highlight Hue : 53
Split Toning Highlight Saturation : 56
Split Toning Balance : 0
Parametric Shadows : 0
Parametric Darks : +48
Parametric Lights : +22
Parametric Highlights : 0
Parametric Shadow Split : 25
Parametric Midtone Split : 50
Parametric Highlight Split : 75
Sharpen Radius : +1.0
Sharpen Detail : 11
Sharpen Edge Masking : 23
Post Crop Vignette Amount : -31
Post Crop Vignette Midpoint : 45
Post Crop Vignette Feather : 75
Post Crop Vignette Roundness : 0
Post Crop Vignette Style : Highlight Priority
Post Crop Vignette Highlight Contrast : 0
Grain Amount : 25
Grain Size : 25
Grain Frequency : 50
Lens Profile Enable : 0
Lens Manual Distortion Amount : 0
Perspective Vertical : 0
Perspective Horizontal : 0
Perspective Rotate : 0.0
Perspective Scale : 100
Convert To Grayscale : False
Tone Curve Name : Linear
Camera Profile : ACR 4.4
Lens Profile Setup : LensDefaults
Has Settings : True
Crop Top : 0.042169
Crop Left : 0.021084
Crop Bottom : 1
Crop Right : 0.978916
Crop Angle : 0
Crop Constrain To Warp : 0
Crop Width : 2000
Crop Height : 1325
Crop Unit : pixels
Has Crop : True
Already Applied : True
Creator : Finn Olesen
Rights : www.saycheeseto.me
Tone Curve : 0, 0, 255, 255
Image Width : 300
Image Height : 199
Bits Per Sample : 8
Color Components : 3
Aperture : 8.0
Image Size : 300x199
Megapixels : 0.060
Scale Factor To 35 mm Equivalent : 1.5
Shutter Speed : 1/125
Create Date : 2012:02:11 18:32:20.00
Date/Time Original : 2012:02:11 18:32:20.00
Circle Of Confusion : 0.020 mm
Depth Of Field : 0.51 m (1.78 - 2.29 m)
Field Of View : 27.0 deg
Focal Length : 50.0 mm (35 mm equivalent: 75.0 mm)
Hyperfocal Distance : 15.60 m
Light Value : 13.0
Lens ID : AF Nikkor 50mm f/1.8D