Uber Exif Photo
By-line : Abdul Razak Abdullah
Copyright Notice : Ajakblackgoat
Copyright Flag : True
Make : NIKON CORPORATION
Camera Model Name : NIKON D300S
Software : Adobe Photoshop Lightroom 3.4
Modify Date : 2012:03:07 14:33:46
Artist : Abdul Razak Abdullah
Copyright : Ajakblackgoat
Exposure Time : 1/60
F Number : 11.0
Exposure Program : Aperture-priority AE
ISO : 200
Date/Time Original : 2012:01:24 09:07:33
Create Date : 2012:01:24 09:07:33
Shutter Speed Value : 1/60
Aperture Value : 11.0
Exposure Compensation : 0
Max Aperture Value : 5.7
Subject Distance : 2.82 m
Metering Mode : Multi-segment
Light Source : Unknown
Flash : No Flash
Focal Length : 420.0 mm
Color Space : Uncalibrated
Sensing Method : One-chip color area
Scene Type : Directly photographed
CFA Pattern : [Red,Green][Green,Blue]
Custom Rendered : Normal
Exposure Mode : Auto
White Balance : Auto
Digital Zoom Ratio : 1
Focal Length In 35mm Format : 630 mm
Scene Capture Type : Standard
Gain Control : None
Contrast : Normal
Saturation : Normal
Sharpness : Hard
Subject Distance Range : Unknown
Profile Description : sRGB IEC61966-2.1
Creator Country : Malaysia
Image Number : 7849
Lens : 300.0 mm f/4.0
Lens Info : 300mm f/4
Serial Number : 8018449
Creator : Abdul Razak Abdullah
Rights : Ajakblackgoat
Date Created : 2012:01:24 09:07:33.83
Creator Tool : Adobe Photoshop Lightroom 3.4
Marked : True
Already Applied : True
Blue Hue : 0
Blue Saturation : 0
Brightness : +50
Camera Profile : Camera Vivid
Chromatic Aberration B : 0
Chromatic Aberration R : 0
Clarity : 0
Color Noise Reduction : 25
Convert To Grayscale : False
Crop Angle : 0
Crop Bottom : 0.860888
Crop Height : 680
Crop Left : 0.126007
Crop Right : 0.986895
Crop Top : 0
Crop Unit : pixels
Crop Width : 1024
Defringe : 0
Exposure : 0.00
Fill Light : 0
Green Hue : 0
Green Saturation : 0
Has Crop : True
Has Settings : True
Highlight Recovery : 0
Hue Adjustment Aqua : 0
Hue Adjustment Blue : 0
Hue Adjustment Green : 0
Hue Adjustment Magenta : 0
Hue Adjustment Orange : 0
Hue Adjustment Purple : 0
Hue Adjustment Red : 0
Hue Adjustment Yellow : 0
Luminance Adjustment Aqua : 0
Luminance Adjustment Blue : 0
Luminance Adjustment Green : 0
Luminance Adjustment Magenta : 0
Luminance Adjustment Orange : 0
Luminance Adjustment Purple : 0
Luminance Adjustment Red : 0
Luminance Adjustment Yellow : 0
Luminance Smoothing : 0
Parametric Darks : 0
Parametric Highlight Split : 75
Parametric Highlights : 0
Parametric Lights : 0
Parametric Midtone Split : 50
Parametric Shadow Split : 25
Parametric Shadows : 0
Post Crop Vignette Amount : 0
Red Hue : 0
Red Saturation : 0
Saturation Adjustment Aqua : 0
Saturation Adjustment Blue : 0
Saturation Adjustment Green : 0
Saturation Adjustment Magenta : 0
Saturation Adjustment Orange : 0
Saturation Adjustment Purple : 0
Saturation Adjustment Red : 0
Saturation Adjustment Yellow : 0
Shadow Tint : 0
Shadows : 5
Sharpen Detail : 50
Sharpen Edge Masking : 25
Sharpen Radius : +1.0
Split Toning Balance : 0
Split Toning Highlight Hue : 0
Split Toning Highlight Saturation : 0
Split Toning Shadow Hue : 0
Split Toning Shadow Saturation : 0
Color Temperature : 4300
Tint : +2
Tone Curve : 0, 0, 32, 22, 64, 56, 128, 128, 192, 196, 255, 255
Tone Curve Name : Medium Contrast
Version : 6.4
Vibrance : +30
Vignette Amount : 0
Image Width : 300
Image Height : 199
Bits Per Sample : 8
Color Components : 3
Aperture : 11.0
Image Size : 300x199
Megapixels : 0.060
Scale Factor To 35 mm Equivalent : 1.5
Shutter Speed : 1/60
Create Date : 2012:01:24 09:07:33.83
Date/Time Original : 2012:01:24 09:07:33.83
Circle Of Confusion : 0.020 mm
Depth Of Field : 0.017 m (2.812 - 2.828 m)
Field Of View : 3.3 deg
Focal Length : 420.0 mm (35 mm equivalent: 630.0 mm)
Hyperfocal Distance : 800.58 m
Light Value : 11.8
Lens ID : AF-S Nikkor 300mm f/4D IF-ED