Uber Exif Photo
Keywords : Bengkel SPE 2012 Langkawi
By-line : Abdul Razak Abdullah
Sub-location : Kampung Lubuk Buaya
Province-State : Kedah
Country-Primary Location Name : Malaysia
Copyright Notice : Ajakblackgoat
Copyright Flag : True
Make : NIKON CORPORATION
Camera Model Name : NIKON D700
Software : Adobe Photoshop Lightroom 4.0 (Windows)
Modify Date : 2012:03:22 21:05:25
Artist : Abdul Razak Abdullah
Copyright : Ajakblackgoat
Exposure Time : 1/320
F Number : 8.0
Exposure Program : Aperture-priority AE
ISO : 200
Date/Time Original : 2012:03:18 17:32:23
Create Date : 2012:03:18 17:32:23
Shutter Speed Value : 1/320
Aperture Value : 8.0
Exposure Compensation : 0
Max Aperture Value : 2.8
Metering Mode : Multi-segment
Light Source : Unknown
Flash : No Flash
Focal Length : 24.0 mm
User Comment : Ajakblackgoat
Color Space : Uncalibrated
Sensing Method : One-chip color area
Scene Type : Directly photographed
CFA Pattern : [Red,Green][Green,Blue]
Custom Rendered : Normal
Exposure Mode : Auto
White Balance : Auto
Digital Zoom Ratio : 1
Focal Length In 35mm Format : 24 mm
Scene Capture Type : Standard
Gain Control : None
Contrast : Normal
Saturation : Normal
Sharpness : Normal
Subject Distance Range : Unknown
GPS Version ID : 2.2.0.0
GPS Latitude Ref : North
GPS Longitude Ref : East
Profile Description : sRGB IEC61966-2.1
Creator Country : Malaysia
Location : Kampung Lubuk Buaya
Image Number : 710
Lens : 24.0-70.0 mm f/2.8
Lens Info : 24-70mm f/2.8
Serial Number : 2513726
Creator : Abdul Razak Abdullah
Format : image/jpeg
Rights : Ajakblackgoat
Subject : Bengkel SPE 2012 Langkawi
City : Langkawi
Country : Malaysia
Date Created : 2012:03:18 17:32:23.33
State : Kedah
Creator Tool : Adobe Photoshop Lightroom 4.0 (Windows)
Marked : True
Already Applied : True
Blue Hue : 0
Blue Saturation : 0
Brightness : +50
Camera Profile : Camera Landscape
Clarity : 0
Color Noise Reduction : 25
Convert To Grayscale : False
Defringe : 0
Exposure : 0.00
Fill Light : 0
Green Hue : 0
Green Saturation : 0
Has Crop : False
Has Settings : True
Highlight Recovery : 0
Hue Adjustment Aqua : 0
Hue Adjustment Blue : 0
Hue Adjustment Green : 0
Hue Adjustment Magenta : 0
Hue Adjustment Orange : 0
Hue Adjustment Purple : 0
Hue Adjustment Red : 0
Hue Adjustment Yellow : 0
Luminance Adjustment Aqua : 0
Luminance Adjustment Blue : 0
Luminance Adjustment Green : 0
Luminance Adjustment Magenta : 0
Luminance Adjustment Orange : 0
Luminance Adjustment Purple : 0
Luminance Adjustment Red : 0
Luminance Adjustment Yellow : 0
Luminance Smoothing : 0
Parametric Darks : 0
Parametric Highlight Split : 75
Parametric Highlights : 0
Parametric Lights : 0
Parametric Midtone Split : 50
Parametric Shadow Split : 25
Parametric Shadows : 0
Post Crop Vignette Amount : 0
Red Hue : 0
Red Saturation : 0
Saturation Adjustment Aqua : 0
Saturation Adjustment Blue : 0
Saturation Adjustment Green : 0
Saturation Adjustment Magenta : 0
Saturation Adjustment Orange : 0
Saturation Adjustment Purple : 0
Saturation Adjustment Red : 0
Saturation Adjustment Yellow : 0
Shadow Tint : 0
Shadows : 5
Sharpen Detail : 50
Sharpen Edge Masking : 50
Sharpen Radius : +1.0
Split Toning Balance : 0
Split Toning Highlight Hue : 0
Split Toning Highlight Saturation : 0
Split Toning Shadow Hue : 0
Split Toning Shadow Saturation : 0
Color Temperature : 7500
Tint : +2
Tone Curve : 0, 0, 255, 255
Tone Curve Name : Linear
Version : 7.0
Vibrance : +30
Vignette Amount : 0
Image Width : 300
Image Height : 200
Bits Per Sample : 8
Color Components : 3
Aperture : 8.0
Image Size : 300x200
Megapixels : 0.060
Scale Factor To 35 mm Equivalent : 1.0
Shutter Speed : 1/320
Create Date : 2012:03:18 17:32:23.33
Date/Time Original : 2012:03:18 17:32:23.33
GPS Latitude : 6 deg 12' 26.85" N
GPS Longitude : 99 deg 47' 4.17" E
Circle Of Confusion : 0.030 mm
Field Of View : 73.7 deg
Focal Length : 24.0 mm (35 mm equivalent: 24.0 mm)
GPS Position : 6 deg 12' 26.85" N, 99 deg 47' 4.17" E
Hyperfocal Distance : 2.40 m
Light Value : 13.3
Lens ID : AF-S Zoom-Nikkor 24-70mm f/2.8G ED