Uber Exif Photo
Make : NIKON CORPORATION
Camera Model Name : NIKON D300
Orientation : Horizontal (normal)
Software : Adobe Photoshop CS4 Windows
Modify Date : 2012:04:05 16:16:17
Exposure Time : 1/250
F Number : 1.8
Exposure Program : Aperture-priority AE
ISO : 200
Date/Time Original : 2012:04:05 09:27:57
Create Date : 2012:04:05 09:27:57
Shutter Speed Value : 1/250
Aperture Value : 1.8
Exposure Compensation : -1/3
Max Aperture Value : 1.7
Subject Distance : 0.84 m
Metering Mode : Multi-segment
Light Source : Unknown
Focal Length : 85.0 mm
Color Space : sRGB
Exif Image Width : 598
Exif Image Height : 900
Sensing Method : One-chip color area
Scene Type : Directly photographed
CFA Pattern : [Red,Green][Green,Blue]
Custom Rendered : Normal
Exposure Mode : Auto
White Balance : Auto
Digital Zoom Ratio : 1
Focal Length In 35mm Format : 127 mm
Scene Capture Type : Standard
Gain Control : None
Contrast : Normal
Saturation : Normal
Sharpness : Normal
Subject Distance Range : Unknown
Serial Number : 3012738
Lens Info : 85mm f/1.8
Lens Model : 85.0 mm f/1.8
Profile Description : sRGB IEC61966-2.1
Creator Tool : Adobe Photoshop Lightroom 3.5 (Windows)
Lens : 85.0 mm f/1.8
Image Number : 13947
Approximate Focus Distance : 0.84
Date Created : 2012:04:05
Color Mode : RGB
ICC Profile Name : sRGB IEC61966-2.1
Version : 6.5
Process Version : 5.7
Color Temperature : 5122
Tint : +4
Exposure : +0.58
Shadows : 0
Brightness : -7
Luminance Smoothing : 0
Color Noise Reduction : 0
Chromatic Aberration R : 0
Chromatic Aberration B : 0
Vignette Amount : -100
Vignette Midpoint : 50
Shadow Tint : 0
Red Hue : 0
Red Saturation : 0
Green Hue : 0
Green Saturation : 0
Blue Hue : 0
Blue Saturation : 0
Fill Light : 0
Vibrance : -3
Highlight Recovery : 10
Clarity : +11
Defringe : 0
Hue Adjustment Red : 0
Hue Adjustment Orange : 0
Hue Adjustment Yellow : 0
Hue Adjustment Green : 0
Hue Adjustment Aqua : 0
Hue Adjustment Blue : -17
Hue Adjustment Purple : -5
Hue Adjustment Magenta : 0
Saturation Adjustment Red : -52
Saturation Adjustment Orange : -50
Saturation Adjustment Yellow : -56
Saturation Adjustment Green : -13
Saturation Adjustment Aqua : -18
Saturation Adjustment Blue : +12
Saturation Adjustment Purple : 0
Saturation Adjustment Magenta : 0
Luminance Adjustment Red : -4
Luminance Adjustment Orange : -5
Luminance Adjustment Yellow : -2
Luminance Adjustment Green : 0
Luminance Adjustment Aqua : 0
Luminance Adjustment Blue : 0
Luminance Adjustment Purple : 0
Luminance Adjustment Magenta : 0
Split Toning Shadow Hue : 218
Split Toning Shadow Saturation : 39
Split Toning Highlight Hue : 59
Split Toning Highlight Saturation : 24
Split Toning Balance : +13
Parametric Shadows : -17
Parametric Darks : -13
Parametric Lights : +24
Parametric Highlights : +13
Parametric Shadow Split : 25
Parametric Midtone Split : 50
Parametric Highlight Split : 75
Sharpen Radius : +1.0
Sharpen Detail : 25
Sharpen Edge Masking : 0
Post Crop Vignette Amount : 0
Grain Amount : 0
Lens Profile Enable : 0
Lens Manual Distortion Amount : 0
Perspective Vertical : 0
Perspective Horizontal : 0
Perspective Rotate : 0.0
Perspective Scale : 100
Convert To Grayscale : False
Tone Curve Name : Linear
Camera Profile : Embedded
Lens Profile Setup : LensDefaults
Has Settings : True
Has Crop : False
Already Applied : True
Date/Time Digitized : 2012:04:05 09:27:57+02:00
Format : image/jpeg
Tone Curve : 0, 0, 255, 255
Paint Correction What : Correction
Paint Correction Amount : 1.000000
Paint Correction Active : true
Paint Correction Exposure : 0.000000
Paint Correction Saturation : 0.000000
Paint Correction Contrast : 0.000000
Paint Correction Clarity : -1.000000
Paint Correction Sharpness : 0.250000
Paint Correction Brightness : 0.000000
Paint Correction Toning Hue : 240.000000
Paint Correction Toning Saturation : 0.000000
Paint Correction Mask What : Mask/Paint
Paint Correction Mask Value : 1.000000
Paint Correction Mask Radius : 0.011426
Paint Correction Mask Flow : 1.000000
Paint Correction Mask Center Weight : 0.000000
Gradient Based Corr What : Correction
Gradient Based Corr Amount : 1.000000
Gradient Based Corr Active : true
Gradient Based Corr Exposure : 0.000000
Gradient Based Corr Saturation : 0.000000
Gradient Based Corr Contrast : 0.855000
Gradient Based Corr Clarity : -0.564000
Gradient Based Corr Sharpness : 0.000000
Gradient Based Corr Brightness : 0.000000
Gradient Based Corr Toning Hue : 230.000000
Gradient Based Corr Toning Saturation : 1.000000
Gradient Based Corr Mask What : Mask/Gradient
Gradient Based Corr Mask Value : 1.000000
Gradient Based Corr Mask Zero X : 0.476684
Gradient Based Corr Mask Zero Y : 0.776529
Gradient Based Corr Mask Full X : -0.382364
Gradient Based Corr Mask Full Y : 0.661161
Flash Fired : False
Flash Return : No return detection
Flash Mode : Unknown
Flash Function : False
Flash Red Eye Mode : False
Image Width : 199
Image Height : 300
Bits Per Sample : 8
Color Components : 3
Aperture : 1.8
Image Size : 199x300
Megapixels : 0.060
Scale Factor To 35 mm Equivalent : 1.5
Shutter Speed : 1/250
Create Date : 2012:04:05 09:27:57.77
Date/Time Original : 2012:04:05 09:27:57.77
Flash : No Flash
Circle Of Confusion : 0.020 mm
Depth Of Field : 0.006 m (0.837 - 0.843 m)
Field Of View : 16.1 deg
Focal Length : 85.0 mm (35 mm equivalent: 127.0 mm)
Hyperfocal Distance : 199.60 m
Light Value : 8.7
Lens ID : AF Nikkor 85mm f/1.8D