Uber Exif Photo
By-line : FRAN CAMARGO
Copyright Notice : FRACISCO EDUARDO BUENODE CAMARGO
Photometric Interpretation : RGB
Make : NIKON CORPORATION
Camera Model Name : NIKON D7000
Orientation : Horizontal (normal)
Samples Per Pixel : 3
Software : Adobe Photoshop CS5.1 Windows
Modify Date : 2012:04:28 15:28:34
Artist : FRAN CAMARGO
Copyright : FRACISCO EDUARDO BUENODE CAMARGO
Exposure Time : 1/250
F Number : 6.3
Exposure Program : Program AE
ISO : 200
Sensitivity Type : Recommended Exposure Index
Date/Time Original : 2012:01:29 08:04:38
Create Date : 2012:01:29 08:04:38
Shutter Speed Value : 1/250
Aperture Value : 6.3
Exposure Compensation : 0
Max Aperture Value : 2.8
Subject Distance : 2 m
Metering Mode : Multi-segment
Light Source : Unknown
Flash : On, Return detected
Focal Length : 31.0 mm
Color Space : Uncalibrated
Exif Image Width : 1280
Exif Image Height : 876
Sensing Method : One-chip color area
Scene Type : Directly photographed
CFA Pattern : [Red,Green][Green,Blue]
Custom Rendered : Normal
Exposure Mode : Auto
White Balance : Auto
Digital Zoom Ratio : 1
Focal Length In 35mm Format : 46 mm
Scene Capture Type : Standard
Gain Control : None
Contrast : Normal
Saturation : Normal
Sharpness : Normal
Subject Distance Range : Unknown
Serial Number : 6107681
Lens Info : 24-70mm f/2.8
Lens Model : 24.0-70.0 mm f/2.8
Profile Description : Adobe RGB (1998)
Format : image/jpeg
Creator Tool : Adobe Photoshop CS5.1 Windows
Rating : 0
Lens : 24.0-70.0 mm f/2.8
Image Number : 16793
Approximate Focus Distance : 2
Date Created : 2012:01:29 08:04:38
Color Mode : RGB
ICC Profile Name : Adobe RGB (1998)
Raw File Name : _DSC6092.NEF
Version : 6.6
Process Version : 5.7
Color Temperature : 4350
Tint : +11
Exposure : +0.55
Shadows : 5
Brightness : +50
Luminance Smoothing : 11
Color Noise Reduction : 25
Chromatic Aberration R : 0
Chromatic Aberration B : 0
Vignette Amount : 0
Shadow Tint : 0
Red Hue : 0
Red Saturation : 0
Green Hue : 0
Green Saturation : 0
Blue Hue : 0
Blue Saturation : 0
Fill Light : 40
Vibrance : -28
Highlight Recovery : 79
Clarity : +28
Defringe : 0
Hue Adjustment Red : 0
Hue Adjustment Orange : 0
Hue Adjustment Yellow : 0
Hue Adjustment Green : 0
Hue Adjustment Aqua : 0
Hue Adjustment Blue : 0
Hue Adjustment Purple : 0
Hue Adjustment Magenta : 0
Saturation Adjustment Red : -23
Saturation Adjustment Orange : -33
Saturation Adjustment Yellow : 0
Saturation Adjustment Green : 0
Saturation Adjustment Aqua : 0
Saturation Adjustment Blue : -83
Saturation Adjustment Purple : 0
Saturation Adjustment Magenta : 0
Luminance Adjustment Red : 0
Luminance Adjustment Orange : 0
Luminance Adjustment Yellow : 0
Luminance Adjustment Green : 0
Luminance Adjustment Aqua : 0
Luminance Adjustment Blue : 0
Luminance Adjustment Purple : 0
Luminance Adjustment Magenta : 0
Split Toning Shadow Hue : 0
Split Toning Shadow Saturation : 0
Split Toning Highlight Hue : 0
Split Toning Highlight Saturation : 0
Split Toning Balance : 0
Parametric Shadows : 0
Parametric Darks : 0
Parametric Lights : 0
Parametric Highlights : 0
Parametric Shadow Split : 25
Parametric Midtone Split : 50
Parametric Highlight Split : 75
Sharpen Radius : +0.8
Sharpen Detail : 5
Sharpen Edge Masking : 0
Post Crop Vignette Amount : -19
Post Crop Vignette Midpoint : 50
Post Crop Vignette Feather : 50
Post Crop Vignette Roundness : 0
Post Crop Vignette Style : Highlight Priority
Post Crop Vignette Highlight Contrast : 0
Grain Amount : 0
Luminance Noise Reduction Detail : 50
Color Noise Reduction Detail : 50
Luminance Noise Reduction Contrast : 0
Lens Profile Enable : 1
Lens Manual Distortion Amount : 0
Perspective Vertical : 0
Perspective Horizontal : 0
Perspective Rotate : 0.0
Perspective Scale : 100
Convert To Grayscale : False
Tone Curve Name : Medium Contrast
Camera Profile : Adobe Standard
Lens Profile Setup : LensDefaults
Lens Profile Name : Adobe (Nikon AF-S NIKKOR 24-70mm f/2.8G ED)
Lens Profile Filename : NIKON D3X (Nikon FX 24-70mm f2.8 G ED) - RAW.lcp
Lens Profile Distortion Scale : 100
Lens Profile Chromatic Aberration Scale : 100
Lens Profile Vignetting Scale : 100
Has Settings : True
Has Crop : False
Already Applied : True
Creator : FRAN CAMARGO
Rights : FRACISCO EDUARDO BUENODE CAMARGO
Tone Curve : 0, 0, 32, 22, 64, 56, 128, 128, 192, 196, 255, 255
Paint Correction What : Correction
Paint Correction Amount : 1.000000
Paint Correction Active : true
Paint Correction Exposure : -0.300000
Paint Correction Saturation : 0.730000
Paint Correction Contrast : 0.410000
Paint Correction Clarity : 0.300000
Paint Correction Sharpness : 0.000000
Paint Correction Brightness : 0.020000
Paint Correction Toning Hue : 103.000000
Paint Correction Toning Saturation : 0.020000
Paint Correction Mask What : Mask/Paint
Paint Correction Mask Value : 1.000000
Paint Correction Mask Radius : 0.253657
Paint Correction Mask Flow : 0.888889
Paint Correction Mask Center Weight : 0.000000
Gradient Based Corr What : Correction
Gradient Based Corr Amount : 1.000000
Gradient Based Corr Active : true
Gradient Based Corr Exposure : -0.575000
Gradient Based Corr Saturation : 0.730000
Gradient Based Corr Contrast : 0.410000
Gradient Based Corr Clarity : 0.300000
Gradient Based Corr Sharpness : 0.000000
Gradient Based Corr Brightness : 0.020000
Gradient Based Corr Toning Hue : 103.000000
Gradient Based Corr Toning Saturation : 0.020000
Gradient Based Corr Mask What : Mask/Gradient
Gradient Based Corr Mask Value : 1.000000
Gradient Based Corr Mask Zero X : 0.710954
Gradient Based Corr Mask Zero Y : 0.434365
Gradient Based Corr Mask Full X : -0.053004
Gradient Based Corr Mask Full Y : 0.463180
Image Width : 300
Image Height : 205
Bits Per Sample : 8
Color Components : 3
Aperture : 6.3
Image Size : 300x205
Megapixels : 0.061
Scale Factor To 35 mm Equivalent : 1.5
Shutter Speed : 1/250
Create Date : 2012:01:29 08:04:38.00
Date/Time Original : 2012:01:29 08:04:38.00
Modify Date : 2012:04:28 15:28:34.00
Circle Of Confusion : 0.020 mm
Depth Of Field : 1.12 m (1.59 - 2.71 m)
Field Of View : 42.7 deg
Focal Length : 31.0 mm (35 mm equivalent: 46.0 mm)
Hyperfocal Distance : 7.53 m
Light Value : 12.3
Lens ID : AF-S Zoom-Nikkor 24-70mm f/2.8G ED