Uber Exif Photo
By-line : Pim Nauta
Make : NIKON CORPORATION
Camera Model Name : NIKON D300
Orientation : Horizontal (normal)
Software : Capture NX 2.2.8 M
Modify Date : 2012:05:04 16:42:37
Artist : Pim Nauta
Exposure Time : 1/60
F Number : 10.0
Exposure Program : Aperture-priority AE
ISO : 200
Date/Time Original : 2009:07:18 05:49:55
Create Date : 2009:07:18 05:49:55
Shutter Speed Value : 0.7
Aperture Value : 10.0
Brightness Value : 0
Exposure Compensation : -1/3
Max Aperture Value : 2.8
Subject Distance : 0 m
Metering Mode : Multi-segment
Light Source : Unknown
Focal Length : 150.0 mm
Maker Note Version : 2.10
Image Data Size : 450349
Nikon Capture Version : Capture NX 2.2.8 M
IFD0 Offset : 1198
Preview IFD Offset : 1098
NEF Bit Depth : n/a (JPEG)
Color Space : Uncalibrated
Exif Image Width : 1280
Exif Image Height : 853
Exposure Index : 0
Sensing Method : One-chip color area
Scene Type : Directly photographed
Exposure Mode : Auto
White Balance : Auto
Digital Zoom Ratio : 1
Focal Length In 35mm Format : 225 mm
Scene Capture Type : Standard
Gain Control : None
Contrast : Normal
Saturation : Normal
Sharpness : Normal
Subject Distance Range : Unknown
JPEG Proc : Baseline
Profile Description : Adobe RGB (1998)
Date/Time Digitized : 2009:07:18 05:49:55.93+02:00
Custom Rendered : Normal
Flash Fired : True
Flash Return : Return not detected
Flash Mode : On
Flash Function : False
Flash Red Eye Mode : False
Creator Tool : Adobe Photoshop CS3 Windows
Rating : 4
Label : Magenta
Format : image/jpeg
Creator : Pim Nauta
Serial Number : 4128770
Lens Info : 150mm f/2.8
Lens : 150.0 mm f/2.8
Image Number : 14750
Raw File Name : _PWN4745.NEF
Version : 4.6
Color Temperature : 5550
Tint : -3
Exposure : -0.55
Shadows : 4
Brightness : +84
Luminance Smoothing : 0
Color Noise Reduction : 25
Chromatic Aberration R : 0
Chromatic Aberration B : 0
Vignette Amount : 0
Shadow Tint : 0
Red Hue : 0
Red Saturation : 0
Green Hue : 0
Green Saturation : 0
Blue Hue : 0
Blue Saturation : 0
Fill Light : 0
Vibrance : 0
Highlight Recovery : 45
Clarity : 0
Defringe : 0
Hue Adjustment Red : 0
Hue Adjustment Orange : 0
Hue Adjustment Yellow : 0
Hue Adjustment Green : 0
Hue Adjustment Aqua : 0
Hue Adjustment Blue : 0
Hue Adjustment Purple : 0
Hue Adjustment Magenta : 0
Saturation Adjustment Red : 0
Saturation Adjustment Orange : 0
Saturation Adjustment Yellow : 0
Saturation Adjustment Green : 0
Saturation Adjustment Aqua : 0
Saturation Adjustment Blue : 0
Saturation Adjustment Purple : 0
Saturation Adjustment Magenta : 0
Luminance Adjustment Red : 0
Luminance Adjustment Orange : 0
Luminance Adjustment Yellow : 0
Luminance Adjustment Green : 0
Luminance Adjustment Aqua : 0
Luminance Adjustment Blue : 0
Luminance Adjustment Purple : 0
Luminance Adjustment Magenta : 0
Split Toning Shadow Hue : 0
Split Toning Shadow Saturation : 0
Split Toning Highlight Hue : 0
Split Toning Highlight Saturation : 0
Split Toning Balance : 0
Parametric Shadows : 0
Parametric Darks : 0
Parametric Lights : 0
Parametric Highlights : 0
Parametric Shadow Split : 25
Parametric Midtone Split : 50
Parametric Highlight Split : 75
Sharpen Radius : +1.0
Sharpen Detail : 25
Sharpen Edge Masking : 0
Post Crop Vignette Amount : 0
Convert To Grayscale : False
Tone Curve Name : Medium Contrast
Camera Profile : ACR 4.4
Has Settings : True
Has Crop : False
Already Applied : True
Tone Curve : 0, 0, 32, 22, 64, 56, 128, 128, 192, 196, 255, 255
Color Mode : RGB
ICC Profile Name : Adobe RGB (1998)
Urgency : 8 (least urgent)
Rating Percent : 75
Image Width : 300
Image Height : 200
Bits Per Sample : 8
Color Components : 3
Aperture : 10.0
Image Size : 300x200
Megapixels : 0.060
Scale Factor To 35 mm Equivalent : 1.5
Shutter Speed : 1/60
Create Date : 2009:07:18 05:49:55.93
Date/Time Original : 2009:07:18 05:49:55.93
Modify Date : 2012:05:04 16:42:37.93
Flash : On, Return not detected
Circle Of Confusion : 0.020 mm
Field Of View : 9.1 deg
Focal Length : 150.0 mm (35 mm equivalent: 225.0 mm)
Hyperfocal Distance : 112.33 m
Light Value : 11.6
Lens ID : 150.0mm f/2.8