Uber Exif Photo
Make : NIKON CORPORATION
Camera Model Name : NIKON D7000
Orientation : Horizontal (normal)
Software : Adobe Photoshop CS5 Windows
Modify Date : 2012:05:26 21:31:57
Exposure Time : 1/200
F Number : 5.0
Exposure Program : Manual
ISO : 200
Date/Time Original : 2012:05:25 06:21:38
Create Date : 2012:05:25 06:21:38
Shutter Speed Value : 1/200
Aperture Value : 5.0
Exposure Compensation : -1/3
Max Aperture Value : 1.7
Subject Distance : 2.99 m
Metering Mode : Center-weighted average
Light Source : Unknown
Flash : On, Return not detected
Focal Length : 50.0 mm
Color Space : Uncalibrated
Exif Image Width : 837
Exif Image Height : 684
Sensing Method : One-chip color area
Scene Type : Directly photographed
CFA Pattern : [Red,Green][Green,Blue]
Custom Rendered : Normal
Exposure Mode : Manual
White Balance : Auto
Digital Zoom Ratio : 1
Focal Length In 35mm Format : 75 mm
Scene Capture Type : Standard
Gain Control : None
Contrast : Normal
Saturation : Normal
Sharpness : Hard
Subject Distance Range : Unknown
Profile Description : Adobe RGB (1998)
Creator Tool : Ver.1.02
Rating : 0
Lens Info : 50mm f/1.8
Lens : 50.0 mm f/1.8
Image Number : 7655
Format : image/jpeg
Date Created : 2012:05:25 06:21:38.002
Color Mode : RGB
ICC Profile Name : Adobe RGB (1998)
Raw File Name : HB1_3761C.jpg
Version : 6.0
Process Version : 5.7
Incremental Temperature : 0
Incremental Tint : 0
Exposure : 0.00
Shadows : 0
Brightness : 0
Luminance Smoothing : 0
Color Noise Reduction : 0
Chromatic Aberration R : 0
Chromatic Aberration B : 0
Vignette Amount : 0
Shadow Tint : 0
Red Hue : 0
Red Saturation : 0
Green Hue : 0
Green Saturation : 0
Blue Hue : 0
Blue Saturation : 0
Fill Light : 0
Vibrance : 0
Highlight Recovery : 0
Clarity : 0
Defringe : 0
Hue Adjustment Red : 0
Hue Adjustment Orange : 0
Hue Adjustment Yellow : 0
Hue Adjustment Green : 0
Hue Adjustment Aqua : 0
Hue Adjustment Blue : 0
Hue Adjustment Purple : 0
Hue Adjustment Magenta : 0
Saturation Adjustment Red : 0
Saturation Adjustment Orange : 0
Saturation Adjustment Yellow : 0
Saturation Adjustment Green : 0
Saturation Adjustment Aqua : 0
Saturation Adjustment Blue : 0
Saturation Adjustment Purple : 0
Saturation Adjustment Magenta : 0
Luminance Adjustment Red : 0
Luminance Adjustment Orange : 0
Luminance Adjustment Yellow : 0
Luminance Adjustment Green : 0
Luminance Adjustment Aqua : 0
Luminance Adjustment Blue : 0
Luminance Adjustment Purple : 0
Luminance Adjustment Magenta : 0
Split Toning Shadow Hue : 0
Split Toning Shadow Saturation : 0
Split Toning Highlight Hue : 0
Split Toning Highlight Saturation : 0
Split Toning Balance : 0
Parametric Shadows : +1
Parametric Darks : -12
Parametric Lights : -1
Parametric Highlights : +3
Parametric Shadow Split : 25
Parametric Midtone Split : 50
Parametric Highlight Split : 75
Sharpen Radius : +1.0
Sharpen Detail : 25
Sharpen Edge Masking : 0
Post Crop Vignette Amount : 0
Grain Amount : 0
Convert To Grayscale : False
Tone Curve Name : Linear
Camera Profile : Embedded
Has Settings : True
Has Crop : False
Already Applied : True
Tone Curve : 0, 0, 255, 255
Image Width : 300
Image Height : 245
Bits Per Sample : 8
Color Components : 3
Aperture : 5.0
Image Size : 300x245
Megapixels : 0.073
Scale Factor To 35 mm Equivalent : 1.5
Shutter Speed : 1/200
Create Date : 2012:05:25 06:21:38.20
Date/Time Original : 2012:05:25 06:21:38.20
Circle Of Confusion : 0.020 mm
Depth Of Field : 0.71 m (2.67 - 3.39 m)
Field Of View : 27.0 deg
Focal Length : 50.0 mm (35 mm equivalent: 75.0 mm)
Hyperfocal Distance : 24.96 m
Light Value : 11.3
Lens ID : Unknown (D5) 50mm