Uber Exif Photo
By-line : Bjorn Olsson, bjornsphoto@gmail.
Copyright Notice : Bjorn Olsson
Make : NIKON CORPORATION
Camera Model Name : NIKON D7000
Orientation : Horizontal (normal)
Software : Adobe Photoshop CS6 (Windows)
Modify Date : 2012:05:20 20:08:54
Artist : Bjorn Olsson, bjornsphoto@gmail.com
Copyright : Bjorn Olsson
Exposure Time : 1/1250
F Number : 5.6
Exposure Program : Aperture-priority AE
ISO : 200
Sensitivity Type : Recommended Exposure Index
Date/Time Original : 2012:05:20 12:35:48
Create Date : 2012:05:20 12:35:48
Shutter Speed Value : 1/1250
Aperture Value : 5.6
Exposure Compensation : 0
Max Aperture Value : 1.7
Metering Mode : Multi-segment
Light Source : Cloudy
Flash : Off, Did not fire
Focal Length : 35.0 mm
User Comment : (c)Bjorn Olsson
Color Space : Uncalibrated
Exif Image Width : 1024
Exif Image Height : 678
Sensing Method : One-chip color area
Scene Type : Directly photographed
CFA Pattern : [Red,Green][Green,Blue]
Custom Rendered : Normal
Exposure Mode : Auto
White Balance : Manual
Digital Zoom Ratio : 1
Focal Length In 35mm Format : 52 mm
Scene Capture Type : Standard
Gain Control : None
Contrast : Normal
Saturation : Normal
Sharpness : Hard
Subject Distance Range : Unknown
Serial Number : 6275853
Lens Info : 35mm f/1.8
Lens Model : 35.0 mm f/1.8
Profile Description : Adobe RGB (1998)
Format : image/jpeg
Creator Tool : Ver.1.02
Rating : 0
Lens : 35.0 mm f/1.8
Image Number : 14964
Approximate Focus Distance : 4294967295
Date Created : 2012:05:20 12:35:48.008
Color Mode : RGB
ICC Profile Name : Adobe RGB (1998)
Raw File Name : _BEO4776.NEF
Version : 7.0
Process Version : 6.7
Color Temperature : 6000
Tint : +8
Exposure : 0.00
Shadows : 5
Brightness : +50
Luminance Smoothing : 0
Color Noise Reduction : 25
Vignette Amount : 0
Shadow Tint : 0
Red Hue : 0
Red Saturation : 0
Green Hue : 0
Green Saturation : 0
Blue Hue : 0
Blue Saturation : 0
Fill Light : 0
Vibrance : 0
Highlight Recovery : 0
Clarity : 0
Defringe : 0
Hue Adjustment Red : 0
Hue Adjustment Orange : 0
Hue Adjustment Yellow : 0
Hue Adjustment Green : 0
Hue Adjustment Aqua : 0
Hue Adjustment Blue : 0
Hue Adjustment Purple : 0
Hue Adjustment Magenta : 0
Saturation Adjustment Red : 0
Saturation Adjustment Orange : 0
Saturation Adjustment Yellow : 0
Saturation Adjustment Green : 0
Saturation Adjustment Aqua : 0
Saturation Adjustment Blue : 0
Saturation Adjustment Purple : 0
Saturation Adjustment Magenta : 0
Luminance Adjustment Red : 0
Luminance Adjustment Orange : 0
Luminance Adjustment Yellow : 0
Luminance Adjustment Green : 0
Luminance Adjustment Aqua : 0
Luminance Adjustment Blue : -39
Luminance Adjustment Purple : 0
Luminance Adjustment Magenta : 0
Split Toning Shadow Hue : 0
Split Toning Shadow Saturation : 0
Split Toning Highlight Hue : 0
Split Toning Highlight Saturation : 0
Split Toning Balance : 0
Parametric Shadows : 0
Parametric Darks : 0
Parametric Lights : -13
Parametric Highlights : +54
Parametric Shadow Split : 25
Parametric Midtone Split : 50
Parametric Highlight Split : 75
Sharpen Radius : +1.0
Sharpen Detail : 25
Sharpen Edge Masking : 0
Post Crop Vignette Amount : 0
Grain Amount : 0
Color Noise Reduction Detail : 50
Lens Profile Enable : 0
Lens Manual Distortion Amount : 0
Perspective Vertical : 0
Perspective Horizontal : 0
Perspective Rotate : 0.0
Perspective Scale : 100
Auto Lateral CA : 0
Exposure 2012 : -1.10
Contrast 2012 : 0
Highlights 2012 : 0
Shadows 2012 : +33
Whites 2012 : +47
Blacks 2012 : -38
Clarity 2012 : +17
Convert To Grayscale : False
Tone Curve Name : Medium Contrast
Tone Curve Name 2012 : Linear
Camera Profile : Adobe Standard
Lens Profile Setup : LensDefaults
Has Settings : True
Crop Top : 0
Crop Left : 0.018669
Crop Bottom : 1
Crop Right : 0.981331
Crop Angle : 1.010997
Crop Constrain To Warp : 1
Has Crop : True
Already Applied : True
Creator : Bjorn Olsson, bjornsphoto@gmail.com
Rights : Bjorn Olsson
Tone Curve : 0, 0, 32, 22, 64, 56, 128, 128, 192, 196, 255, 255
Tone Curve Red : 0, 0, 255, 255
Tone Curve Green : 0, 0, 255, 255
Tone Curve Blue : 0, 0, 255, 255
Tone Curve PV2012 : 0, 0, 255, 255
Tone Curve PV2012 Red : 0, 0, 255, 255
Tone Curve PV2012 Green : 0, 0, 255, 255
Tone Curve PV2012 Blue : 0, 0, 255, 255
Image Width : 300
Image Height : 199
Bits Per Sample : 8
Color Components : 3
Aperture : 5.6
Image Size : 300x199
Megapixels : 0.060
Scale Factor To 35 mm Equivalent : 1.5
Shutter Speed : 1/1250
Create Date : 2012:05:20 12:35:48.80
Date/Time Original : 2012:05:20 12:35:48.80
Modify Date : 2012:05:20 20:08:54.80
Circle Of Confusion : 0.020 mm
Depth Of Field : inf (10.82 m - inf)
Field Of View : 38.2 deg
Focal Length : 35.0 mm (35 mm equivalent: 52.0 mm)
Hyperfocal Distance : 10.82 m
Light Value : 14.3
Lens ID : AF-S DX Nikkor 35mm f/1.8G