Uber Exif Photo
By-line : BUDI AFRIANTO
Copyright Notice : Copyright@BUDIBOYO
Photometric Interpretation : RGB
Make : NIKON CORPORATION
Camera Model Name : NIKON D700
Orientation : Horizontal (normal)
Samples Per Pixel : 3
Software : Adobe Photoshop CS5.1 Macintosh
Modify Date : 2012:07:16 18:14:28
Artist : BUDI AFRIANTO
Copyright : Copyright@BUDIBOYO
Exposure Time : 1/20
F Number : 4.0
Exposure Program : Aperture-priority AE
ISO : 400
Date/Time Original : 2012:07:14 14:55:30
Create Date : 2012:07:14 14:55:30
Shutter Speed Value : 1/20
Aperture Value : 4.0
Exposure Compensation : 0
Max Aperture Value : 2.0
Metering Mode : Multi-segment
Light Source : Fine Weather
Flash : No Flash
Focal Length : 35.0 mm
Color Space : sRGB
Exif Image Width : 840
Exif Image Height : 1200
Sensing Method : One-chip color area
Scene Type : Directly photographed
CFA Pattern : [Red,Green][Green,Blue]
Custom Rendered : Normal
Exposure Mode : Auto
White Balance : Manual
Digital Zoom Ratio : 1
Focal Length In 35mm Format : 35 mm
Scene Capture Type : Standard
Gain Control : Low gain up
Contrast : Normal
Saturation : Normal
Sharpness : Normal
Subject Distance Range : Unknown
Serial Number : 2374238
Lens Info : 35mm f/2
Lens Model : Zeiss Distagon T* 2/35 ZF.2
Format : image/jpeg
Creator Tool : Adobe Photoshop Lightroom 3.6 (Macintosh)
Lens : Zeiss Distagon T* 2/35 ZF.2
Image Number : 7812
Date Created : 2012:07:14 14:55:30.033
Color Mode : RGB
ICC Profile Name : sRGB IEC61966-2.1
Version : 6.6
Process Version : 5.7
Color Temperature : 5000
Tint : -6
Exposure : 0.00
Shadows : 57
Brightness : +50
Luminance Smoothing : 0
Color Noise Reduction : 0
Chromatic Aberration R : 0
Chromatic Aberration B : 0
Vignette Amount : 0
Shadow Tint : 0
Red Hue : 0
Red Saturation : 0
Green Hue : 0
Green Saturation : 0
Blue Hue : 0
Blue Saturation : 0
Fill Light : 20
Highlight Recovery : 100
Clarity : +100
Defringe : 0
Gray Mixer Red : +27
Gray Mixer Orange : +37
Gray Mixer Yellow : +43
Gray Mixer Green : +30
Gray Mixer Aqua : +17
Gray Mixer Blue : -36
Gray Mixer Purple : -24
Gray Mixer Magenta : 0
Split Toning Shadow Hue : 0
Split Toning Shadow Saturation : 0
Split Toning Highlight Hue : 0
Split Toning Highlight Saturation : 0
Split Toning Balance : 0
Parametric Shadows : -71
Parametric Darks : -35
Parametric Lights : -9
Parametric Highlights : -32
Parametric Shadow Split : 25
Parametric Midtone Split : 50
Parametric Highlight Split : 75
Sharpen Radius : +1.0
Sharpen Detail : 100
Sharpen Edge Masking : 0
Post Crop Vignette Amount : -20
Post Crop Vignette Midpoint : 12
Post Crop Vignette Feather : 74
Post Crop Vignette Roundness : -45
Post Crop Vignette Style : Highlight Priority
Post Crop Vignette Highlight Contrast : 49
Grain Amount : 36
Grain Size : 25
Grain Frequency : 63
Lens Profile Enable : 0
Lens Manual Distortion Amount : 0
Perspective Vertical : 0
Perspective Horizontal : 0
Perspective Rotate : 0.0
Perspective Scale : 100
Convert To Grayscale : True
Tone Curve Name : Strong Contrast
Camera Profile : Adobe Standard
Lens Profile Setup : LensDefaults
Has Settings : True
Crop Top : 0.095073
Crop Left : 0.143989
Crop Bottom : 0.908138
Crop Right : 0.89533
Crop Angle : 0.748951
Crop Constrain To Warp : 0
Crop Width : 3227
Crop Height : 2260
Crop Unit : pixels
Has Crop : True
Already Applied : True
Creator : BUDI AFRIANTO
Rights : Copyright@BUDIBOYO
Tone Curve : 0, 0, 32, 16, 64, 50, 128, 128, 192, 202, 255, 255
Image Width : 210
Image Height : 300
Bits Per Sample : 8
Color Components : 1
Aperture : 4.0
Image Size : 210x300
Megapixels : 0.063
Scale Factor To 35 mm Equivalent : 1.0
Shutter Speed : 1/20
Create Date : 2012:07:14 14:55:30.33
Date/Time Original : 2012:07:14 14:55:30.33
Circle Of Confusion : 0.030 mm
Field Of View : 54.4 deg
Focal Length : 35.0 mm (35 mm equivalent: 35.0 mm)
Hyperfocal Distance : 10.19 m
Light Value : 6.3