Uber Exif Photo
Make : NIKON CORPORATION
Camera Model Name : NIKON D300
Orientation : Horizontal (normal)
Software : Adobe Photoshop Elements 8.0 Windows
Modify Date : 2012:07:27 05:46:40
Exposure Time : 1/100
F Number : 13.0
Exposure Program : Aperture-priority AE
ISO : 200
Date/Time Original : 2012:07:25 07:49:43
Create Date : 2012:07:25 07:49:43
Shutter Speed Value : 1/100
Aperture Value : 13.0
Exposure Compensation : 0
Max Aperture Value : 4.8
Metering Mode : Multi-segment
Light Source : Unknown
Focal Length : 60.0 mm
Color Space : Uncalibrated
Exif Image Width : 4221
Exif Image Height : 2709
Sensing Method : One-chip color area
Scene Type : Directly photographed
CFA Pattern : [Red,Green][Green,Blue]
Custom Rendered : Normal
Exposure Mode : Auto
White Balance : Auto
Digital Zoom Ratio : 1
Focal Length In 35mm Format : 90 mm
Scene Capture Type : Standard
Gain Control : None
Contrast : Normal
Saturation : Normal
Sharpness : Hard
Subject Distance Range : Unknown
Rating Percent : 0
Date/Time Digitized : 2012:07:25 07:49:43.43-05:00
Creator Tool : Nikon Transfer 1.5 W
Rating : 0
Serial Number : 6055215
Lens Info : 18-200mm f/3.5-5.6
Lens : 18.0-200.0 mm f/3.5-5.6
Image Number : 16514
Raw File Name : DSC_6403.NEF
Version : 5.5
Color Temperature : 4100
Tint : -9
Exposure : +0.95
Shadows : 5
Brightness : 0
Luminance Smoothing : 0
Color Noise Reduction : 25
Chromatic Aberration R : 0
Chromatic Aberration B : 0
Vignette Amount : 0
Shadow Tint : 0
Red Hue : 0
Red Saturation : 0
Green Hue : 0
Green Saturation : 0
Blue Hue : 0
Blue Saturation : 0
Fill Light : 0
Vibrance : +54
Highlight Recovery : 0
Clarity : +58
Defringe : 0
Hue Adjustment Red : 0
Hue Adjustment Orange : 0
Hue Adjustment Yellow : 0
Hue Adjustment Green : 0
Hue Adjustment Aqua : 0
Hue Adjustment Blue : 0
Hue Adjustment Purple : 0
Hue Adjustment Magenta : 0
Saturation Adjustment Red : 0
Saturation Adjustment Orange : 0
Saturation Adjustment Yellow : 0
Saturation Adjustment Green : 0
Saturation Adjustment Aqua : 0
Saturation Adjustment Blue : 0
Saturation Adjustment Purple : 0
Saturation Adjustment Magenta : 0
Luminance Adjustment Red : 0
Luminance Adjustment Orange : 0
Luminance Adjustment Yellow : 0
Luminance Adjustment Green : 0
Luminance Adjustment Aqua : 0
Luminance Adjustment Blue : 0
Luminance Adjustment Purple : 0
Luminance Adjustment Magenta : 0
Split Toning Shadow Hue : 0
Split Toning Shadow Saturation : 0
Split Toning Highlight Hue : 0
Split Toning Highlight Saturation : 0
Split Toning Balance : 0
Parametric Shadows : 0
Parametric Darks : 0
Parametric Lights : 0
Parametric Highlights : 0
Parametric Shadow Split : 25
Parametric Midtone Split : 50
Parametric Highlight Split : 75
Sharpen Radius : +1.4
Sharpen Detail : 25
Sharpen Edge Masking : 0
Post Crop Vignette Amount : 0
Convert To Grayscale : False
Tone Curve Name : Medium Contrast
Camera Profile : Camera Vivid
Has Settings : True
Crop Top : 0.006289
Crop Left : 0.00418
Crop Bottom : 0.957547
Crop Right : 0.988506
Crop Angle : 0
Has Crop : True
Already Applied : True
Sidecar For Extension : NEF
Color Mode : RGB
ICC Profile Name : Adobe RGB (1998)
Format : image/jpeg
Flash Fired : False
Flash Return : No return detection
Flash Mode : Unknown
Flash Function : False
Flash Red Eye Mode : False
Tone Curve : 0, 0, 32, 22, 64, 56, 128, 128, 192, 196, 255, 255
Image Width : 300
Image Height : 193
Bits Per Sample : 8
Color Components : 1
Aperture : 13.0
Image Size : 300x193
Megapixels : 0.058
Scale Factor To 35 mm Equivalent : 1.5
Shutter Speed : 1/100
Create Date : 2012:07:25 07:49:43.43
Date/Time Original : 2012:07:25 07:49:43.43
Modify Date : 2012:07:27 05:46:40.43
Flash : No Flash
Circle Of Confusion : 0.020 mm
Field Of View : 22.6 deg
Focal Length : 60.0 mm (35 mm equivalent: 90.0 mm)
Hyperfocal Distance : 13.82 m
Light Value : 13.0
Lens ID : 18.0-200.0mm f/3.5-5.6