Uber Exif Photo
Make : NIKON CORPORATION
Camera Model Name : NIKON D300
Orientation : Horizontal (normal)
Software : Adobe Photoshop CS4 Windows
Modify Date : 2012:07:30 14:05:00
Exposure Time : 1/640
F Number : 3.2
Exposure Program : Aperture-priority AE
ISO : 200
Date/Time Original : 2012:07:28 14:34:10
Create Date : 2012:07:28 14:34:10
Shutter Speed Value : 1/640
Aperture Value : 3.2
Exposure Compensation : 0
Max Aperture Value : 1.7
Subject Distance : 0.89 m
Metering Mode : Multi-segment
Light Source : Unknown
Focal Length : 35.0 mm
Color Space : Uncalibrated
Exif Image Width : 800
Exif Image Height : 1200
Sensing Method : One-chip color area
Scene Type : Directly photographed
CFA Pattern : [Red,Green][Green,Blue]
Custom Rendered : Normal
Exposure Mode : Auto
White Balance : Auto
Digital Zoom Ratio : 1
Focal Length In 35mm Format : 52 mm
Scene Capture Type : Standard
Gain Control : None
Contrast : Normal
Saturation : Normal
Sharpness : Normal
Subject Distance Range : Unknown
Serial Number : 3012738
Lens Info : 35mm f/1.8
Lens Model : 35.0 mm f/1.8
Profile Description : Adobe RGB (1998)
Creator Tool : Adobe Photoshop Lightroom 3.5 (Windows)
Lens : 35.0 mm f/1.8
Image Number : 18169
Approximate Focus Distance : 0.89
Date Created : 2012:07:28
Color Mode : RGB
ICC Profile Name : Adobe RGB (1998)
Version : 6.5
Process Version : 5.7
Color Temperature : 4250
Tint : -14
Exposure : +0.32
Shadows : 15
Brightness : +50
Luminance Smoothing : 0
Color Noise Reduction : 25
Chromatic Aberration R : 0
Chromatic Aberration B : 0
Vignette Amount : -76
Vignette Midpoint : 19
Shadow Tint : 0
Red Hue : 0
Red Saturation : 0
Green Hue : 0
Green Saturation : 0
Blue Hue : 0
Blue Saturation : 0
Fill Light : 46
Highlight Recovery : 78
Clarity : +60
Defringe : 0
Gray Mixer Red : -9
Gray Mixer Orange : -18
Gray Mixer Yellow : -22
Gray Mixer Green : -27
Gray Mixer Aqua : -18
Gray Mixer Blue : +9
Gray Mixer Purple : +15
Gray Mixer Magenta : +4
Split Toning Shadow Hue : 0
Split Toning Shadow Saturation : 0
Split Toning Highlight Hue : 55
Split Toning Highlight Saturation : 22
Split Toning Balance : 0
Parametric Shadows : -6
Parametric Darks : -20
Parametric Lights : +20
Parametric Highlights : -58
Parametric Shadow Split : 25
Parametric Midtone Split : 50
Parametric Highlight Split : 75
Sharpen Radius : +0.6
Sharpen Detail : 52
Sharpen Edge Masking : 0
Post Crop Vignette Amount : -13
Post Crop Vignette Midpoint : 50
Post Crop Vignette Feather : 50
Post Crop Vignette Roundness : 0
Post Crop Vignette Style : Highlight Priority
Post Crop Vignette Highlight Contrast : 0
Grain Amount : 0
Color Noise Reduction Detail : 50
Lens Profile Enable : 0
Lens Manual Distortion Amount : 0
Perspective Vertical : 0
Perspective Horizontal : 0
Perspective Rotate : 0.0
Perspective Scale : 100
Convert To Grayscale : True
Tone Curve Name : Medium Contrast
Camera Profile : ACR 4.4
Lens Profile Setup : LensDefaults
Has Settings : True
Crop Top : 0.086094
Crop Left : 0.173288
Crop Bottom : 0.817227
Crop Right : 0.497024
Crop Angle : 0
Crop Constrain To Warp : 0
Crop Width : 1388
Crop Height : 2082
Crop Unit : pixels
Has Crop : True
Already Applied : True
Date/Time Digitized : 2012:07:28 14:34:10+02:00
Format : image/jpeg
Tone Curve : 0, 0, 32, 22, 64, 56, 128, 128, 192, 196, 255, 255
Flash Fired : False
Flash Return : No return detection
Flash Mode : Unknown
Flash Function : False
Flash Red Eye Mode : False
Image Width : 200
Image Height : 300
Bits Per Sample : 8
Color Components : 3
Aperture : 3.2
Image Size : 200x300
Megapixels : 0.060
Scale Factor To 35 mm Equivalent : 1.5
Shutter Speed : 1/640
Create Date : 2012:07:28 14:34:10.48
Date/Time Original : 2012:07:28 14:34:10.48
Flash : No Flash
Circle Of Confusion : 0.020 mm
Depth Of Field : 0.08 m (0.85 - 0.93 m)
Field Of View : 38.2 deg
Focal Length : 35.0 mm (35 mm equivalent: 52.0 mm)
Hyperfocal Distance : 18.93 m
Light Value : 11.7
Lens ID : AF-S DX Nikkor 35mm f/1.8G