Uber Exif Photo
Make : NIKON CORPORATION
Camera Model Name : NIKON D300
Orientation : Horizontal (normal)
Software : Adobe Photoshop CS4 Windows
Modify Date : 2012:08:05 17:25:06
Exposure Time : 1/125
F Number : 10.0
Exposure Program : Manual
ISO : 200
Date/Time Original : 2012:08:05 14:37:46
Create Date : 2012:08:05 14:37:46
Shutter Speed Value : 1/125
Aperture Value : 10.0
Exposure Compensation : 0
Max Aperture Value : 1.7
Subject Distance : 1.33 m
Metering Mode : Multi-segment
Light Source : Flash
Focal Length : 85.0 mm
Color Space : Uncalibrated
Exif Image Width : 797
Exif Image Height : 1200
Sensing Method : One-chip color area
Scene Type : Directly photographed
CFA Pattern : [Red,Green][Green,Blue]
Custom Rendered : Normal
Exposure Mode : Manual
White Balance : Manual
Digital Zoom Ratio : 1
Focal Length In 35mm Format : 127 mm
Scene Capture Type : Standard
Gain Control : None
Contrast : Normal
Saturation : Normal
Sharpness : Normal
Subject Distance Range : Unknown
Serial Number : 3012738
Lens Info : 85mm f/1.8
Lens Model : 85.0 mm f/1.8
Profile Description : Adobe RGB (1998)
Creator Tool : Adobe Photoshop Lightroom 3.5 (Windows)
Lens : 85.0 mm f/1.8
Image Number : 18947
Approximate Focus Distance : 1.33
Date Created : 2012:08:05
Color Mode : RGB
ICC Profile Name : Adobe RGB (1998)
Version : 6.5
Process Version : 5.7
Color Temperature : 7402
Tint : -26
Exposure : -0.14
Shadows : 9
Brightness : +19
Luminance Smoothing : 0
Color Noise Reduction : 0
Chromatic Aberration R : -8
Chromatic Aberration B : 0
Vignette Amount : -100
Vignette Midpoint : 59
Shadow Tint : 0
Red Hue : 0
Red Saturation : 0
Green Hue : 0
Green Saturation : 0
Blue Hue : 0
Blue Saturation : -19
Fill Light : 0
Vibrance : -8
Highlight Recovery : 2
Clarity : 0
Defringe : 0
Hue Adjustment Red : 0
Hue Adjustment Orange : 0
Hue Adjustment Yellow : 0
Hue Adjustment Green : 0
Hue Adjustment Aqua : 0
Hue Adjustment Blue : 0
Hue Adjustment Purple : 0
Hue Adjustment Magenta : 0
Saturation Adjustment Red : 0
Saturation Adjustment Orange : 0
Saturation Adjustment Yellow : 0
Saturation Adjustment Green : +9
Saturation Adjustment Aqua : +43
Saturation Adjustment Blue : +62
Saturation Adjustment Purple : +17
Saturation Adjustment Magenta : 0
Luminance Adjustment Red : 0
Luminance Adjustment Orange : 0
Luminance Adjustment Yellow : 0
Luminance Adjustment Green : 0
Luminance Adjustment Aqua : -17
Luminance Adjustment Blue : -32
Luminance Adjustment Purple : -9
Luminance Adjustment Magenta : 0
Split Toning Shadow Hue : 236
Split Toning Shadow Saturation : 61
Split Toning Highlight Hue : 86
Split Toning Highlight Saturation : 29
Split Toning Balance : +35
Parametric Shadows : -4
Parametric Darks : -17
Parametric Lights : +8
Parametric Highlights : -67
Parametric Shadow Split : 25
Parametric Midtone Split : 50
Parametric Highlight Split : 75
Sharpen Radius : +0.5
Sharpen Detail : 0
Sharpen Edge Masking : 0
Post Crop Vignette Amount : 0
Grain Amount : 0
Lens Profile Enable : 0
Lens Manual Distortion Amount : 0
Perspective Vertical : 0
Perspective Horizontal : 0
Perspective Rotate : 0.0
Perspective Scale : 100
Convert To Grayscale : False
Tone Curve Name : Linear
Camera Profile : Embedded
Lens Profile Setup : LensDefaults
Has Settings : True
Has Crop : False
Already Applied : True
Date/Time Digitized : 2012:08:05 14:37:46+02:00
Format : image/jpeg
Tone Curve : 0, 0, 255, 255
Paint Correction What : Correction
Paint Correction Amount : 1.000000
Paint Correction Active : true
Paint Correction Exposure : 0.000000
Paint Correction Saturation : 0.000000
Paint Correction Contrast : 0.000000
Paint Correction Clarity : -0.439020
Paint Correction Sharpness : 0.250000
Paint Correction Brightness : 0.000000
Paint Correction Toning Hue : 240.000000
Paint Correction Toning Saturation : 0.000000
Paint Correction Mask What : Mask/Paint
Paint Correction Mask Value : 1.000000
Paint Correction Mask Radius : 0.035308
Paint Correction Mask Flow : 1.000000
Paint Correction Mask Center Weight : 0.000000
Flash Fired : True
Flash Return : Return not detected
Flash Mode : On
Flash Function : False
Flash Red Eye Mode : False
Image Width : 199
Image Height : 300
Bits Per Sample : 8
Color Components : 3
Aperture : 10.0
Image Size : 199x300
Megapixels : 0.060
Scale Factor To 35 mm Equivalent : 1.5
Shutter Speed : 1/125
Create Date : 2012:08:05 14:37:46.43
Date/Time Original : 2012:08:05 14:37:46.43
Flash : On, Return not detected
Circle Of Confusion : 0.020 mm
Depth Of Field : 0.09 m (1.29 - 1.38 m)
Field Of View : 16.1 deg
Focal Length : 85.0 mm (35 mm equivalent: 127.0 mm)
Hyperfocal Distance : 35.93 m
Light Value : 12.6
Lens ID : AF Nikkor 85mm f/1.8D