Uber Exif Photo
By-line : Alan E Jones
Keywords : Liverpool
Copyright Notice : AlanEJones2011
Copyright Flag : True
Make : NIKON CORPORATION
Camera Model Name : NIKON D300
Orientation : Horizontal (normal)
Software : Adobe Photoshop CS5 Windows
Modify Date : 2012:10:17 19:34:11
Artist : Alan E Jones
Copyright : AlanEJones2011
Exposure Time : 1/250
F Number : 5.0
Exposure Program : Aperture-priority AE
ISO : 200
Date/Time Original : 2012:10:06 15:28:32
Create Date : 2012:10:06 15:28:32
Shutter Speed Value : 1/250
Aperture Value : 5.0
Exposure Compensation : -1
Max Aperture Value : 4.0
Subject Distance : 10.6 m
Metering Mode : Multi-segment
Light Source : Cool White Fluorescent
Flash : No Flash
Focal Length : 31.0 mm
User Comment : Copyright 2008 Alan E Jones
Color Space : Uncalibrated
Exif Image Width : 676
Exif Image Height : 1050
Sensing Method : One-chip color area
Scene Type : Directly photographed
CFA Pattern : [Red,Green][Green,Blue]
Custom Rendered : Normal
Exposure Mode : Auto
White Balance : Manual
Digital Zoom Ratio : 1
Focal Length In 35mm Format : 46 mm
Scene Capture Type : Standard
Gain Control : None
Contrast : Normal
Saturation : Normal
Sharpness : Normal
Subject Distance Range : Unknown
Rating : 0
Label :
Creator Tool : Adobe Photoshop Lightroom 4.2 (Windows)
Format : image/jpeg
Serial Number : 8009146
Lens Info : 18-200mm f/3.5-5.6
Lens : 18.0-200.0 mm f/3.5-5.6
Image Number : 14761
Approximate Focus Distance : 10.6
Date Created : 2012:10:06 15:28:32.051
Color Mode : RGB
ICC Profile Name : ProPhoto RGB
DNG Version : 1.3
DNG Backward Version : 1.1
Camera Raw Compatibility : 2.4
Lightroom Compatibility : 1.0
Has Mosaic Data : True
Lossy Compression : False
Floating Point : False
Has Transparency : False
Image Length : 2848
Original Image Width : 4288
Original Image Length : 2848
Preview Width : 1024
Preview Length : 680
Has Fast Load Data : True
Original Raw File Name : DSC_4733.NEF
Has Embedded Original Raw File : False
Marked : True
Raw File Name : DSC_4733.dng
Version : 6.0
Process Version : 5.7
Color Temperature : 3950
Tint : +41
Exposure : 0.00
Shadows : 5
Brightness : +50
Luminance Smoothing : 0
Color Noise Reduction : 25
Chromatic Aberration R : 0
Chromatic Aberration B : 0
Vignette Amount : 0
Shadow Tint : 0
Red Hue : 0
Red Saturation : 0
Green Hue : 0
Green Saturation : 0
Blue Hue : 0
Blue Saturation : 0
Fill Light : 0
Highlight Recovery : 0
Clarity : 0
Defringe : 0
Gray Mixer Red : -62
Gray Mixer Orange : -18
Gray Mixer Yellow : -24
Gray Mixer Green : -29
Gray Mixer Aqua : -19
Gray Mixer Blue : -51
Gray Mixer Purple : +66
Gray Mixer Magenta : +12
Split Toning Shadow Hue : 0
Split Toning Shadow Saturation : 0
Split Toning Highlight Hue : 0
Split Toning Highlight Saturation : 0
Split Toning Balance : 0
Parametric Shadows : +53
Parametric Darks : +24
Parametric Lights : 0
Parametric Highlights : 0
Parametric Shadow Split : 25
Parametric Midtone Split : 50
Parametric Highlight Split : 75
Sharpen Radius : +1.0
Sharpen Detail : 25
Sharpen Edge Masking : 0
Post Crop Vignette Amount : 0
Grain Amount : 0
Color Noise Reduction Detail : 50
Convert To Grayscale : True
Tone Curve Name : Medium Contrast
Camera Profile : Camera Vivid
Has Settings : True
Crop Top : 0.030227
Crop Left : 0
Crop Bottom : 1
Crop Right : 1
Crop Angle : 0
Has Crop : True
Already Applied : True
Creator : Alan E Jones
Rights : AlanEJones2011
Subject : Liverpool
Usage Terms : No usage without prior written consent
Creator Work Email : alanejones@hotmail.com
Hierarchical Subject : Liverpool
Tone Curve : 0, 0, 32, 22, 64, 56, 128, 128, 192, 196, 255, 255
Image Width : 193
Image Height : 300
Bits Per Sample : 8
Color Components : 1
Aperture : 5.0
Image Size : 193x300
Megapixels : 0.058
Scale Factor To 35 mm Equivalent : 1.5
Shutter Speed : 1/250
Create Date : 2012:10:06 15:28:32.51
Date/Time Original : 2012:10:06 15:28:32.51
Circle Of Confusion : 0.020 mm
Depth Of Field : inf (5.02 m - inf)
Field Of View : 42.7 deg
Focal Length : 31.0 mm (35 mm equivalent: 46.0 mm)
Hyperfocal Distance : 9.49 m
Light Value : 11.6
Lens ID : AF-S DX VR Zoom-Nikkor 18-200mm f/3.5-5.6G IF-ED [II] or AF-S DX VR Zoom-Nikkor 18-200mm f/3.5-5.6G IF-ED