Uber Exif Photo
By-line : JOHAN_YLITALO
Copyright Notice : JOHAN YLITALO
Make : NIKON CORPORATION
Camera Model Name : NIKON D700
Orientation : Horizontal (normal)
Software : Adobe Photoshop CS5 Windows
Modify Date : 2012:10:04 22:25:01
Artist : JOHAN_YLITALO
Copyright : JOHAN YLITALO
Exposure Time : 1/200
F Number : 14.0
Exposure Program : Manual
ISO : 250
Date/Time Original : 2012:09:24 19:35:40
Create Date : 2012:09:24 19:35:40
Shutter Speed Value : 1/200
Aperture Value : 14.0
Exposure Compensation : -1
Max Aperture Value : 2.8
Subject Distance : 0.71 m
Metering Mode : Multi-segment
Light Source : Unknown
Flash : No Flash
Focal Length : 72.0 mm
Color Space : Uncalibrated
Exif Image Width : 900
Exif Image Height : 819
Sensing Method : One-chip color area
Scene Type : Directly photographed
CFA Pattern : [Red,Green][Green,Blue]
Custom Rendered : Normal
Exposure Mode : Manual
White Balance : Auto
Digital Zoom Ratio : 1
Focal Length In 35mm Format : 72 mm
Scene Capture Type : Standard
Gain Control : None
Contrast : Normal
Saturation : Normal
Sharpness : Normal
Subject Distance Range : Unknown
Profile Description : Adobe RGB (1998)
Creator Tool : Ver.1.02
Rating : 0
Format : image/jpeg
Serial Number : 2407497
Lens Info : 28-75mm f/2.8
Lens : 28.0-75.0 mm f/2.8
Image Number : 37832
Raw File Name : _DSC7810.NEF
Version : 6.0
Process Version : 5.7
Color Temperature : 4850
Tint : -12
Exposure : -0.75
Shadows : 15
Brightness : +50
Luminance Smoothing : 0
Color Noise Reduction : 25
Chromatic Aberration R : 0
Chromatic Aberration B : 0
Vignette Amount : -100
Vignette Midpoint : 0
Shadow Tint : 0
Red Hue : 0
Red Saturation : 0
Green Hue : 0
Green Saturation : 0
Blue Hue : 0
Blue Saturation : 0
Fill Light : 55
Vibrance : 0
Highlight Recovery : 0
Clarity : +88
Defringe : 0
Hue Adjustment Red : 0
Hue Adjustment Orange : 0
Hue Adjustment Yellow : 0
Hue Adjustment Green : 0
Hue Adjustment Aqua : 0
Hue Adjustment Blue : 0
Hue Adjustment Purple : 0
Hue Adjustment Magenta : 0
Saturation Adjustment Red : 0
Saturation Adjustment Orange : 0
Saturation Adjustment Yellow : 0
Saturation Adjustment Green : 0
Saturation Adjustment Aqua : 0
Saturation Adjustment Blue : 0
Saturation Adjustment Purple : 0
Saturation Adjustment Magenta : 0
Luminance Adjustment Red : 0
Luminance Adjustment Orange : 0
Luminance Adjustment Yellow : 0
Luminance Adjustment Green : 0
Luminance Adjustment Aqua : 0
Luminance Adjustment Blue : 0
Luminance Adjustment Purple : 0
Luminance Adjustment Magenta : 0
Split Toning Shadow Hue : 0
Split Toning Shadow Saturation : 0
Split Toning Highlight Hue : 0
Split Toning Highlight Saturation : 0
Split Toning Balance : 0
Parametric Shadows : 0
Parametric Darks : 0
Parametric Lights : 0
Parametric Highlights : 0
Parametric Shadow Split : 25
Parametric Midtone Split : 50
Parametric Highlight Split : 75
Sharpen Radius : +1.0
Sharpen Detail : 25
Sharpen Edge Masking : 0
Post Crop Vignette Amount : 0
Grain Amount : 0
Color Noise Reduction Detail : 50
Convert To Grayscale : False
Tone Curve Name : Medium Contrast
Camera Profile : Adobe Standard
Has Settings : True
Has Crop : False
Already Applied : True
Sidecar For Extension : NEF
Color Mode : RGB
ICC Profile Name : Adobe RGB (1998)
Date Created : 2012:09:24 19:35:40.032
Creator : JOHAN_YLITALO
Rights : JOHAN YLITALO
Tone Curve : 0, 0, 32, 22, 64, 56, 128, 128, 192, 196, 255, 255
Image Width : 300
Image Height : 273
Bits Per Sample : 8
Color Components : 3
Aperture : 14.0
Image Size : 300x273
Megapixels : 0.082
Scale Factor To 35 mm Equivalent : 1.0
Shutter Speed : 1/200
Create Date : 2012:09:24 19:35:40.32
Date/Time Original : 2012:09:24 19:35:40.32
Modify Date : 2012:10:04 22:25:01.32
Circle Of Confusion : 0.030 mm
Depth Of Field : 0.07 m (0.68 - 0.75 m)
Field Of View : 28.1 deg
Focal Length : 72.0 mm (35 mm equivalent: 72.0 mm)
Hyperfocal Distance : 12.32 m
Light Value : 13.9
Lens ID : Tamron SP AF 28-75mm f/2.8 XR Di LD Aspherical (IF) Macro (A09NII)