Uber Exif Photo
Sub-location : Uptown
Province-State : Illinois
Country-Primary Location Name : United States
Make : NIKON CORPORATION
Camera Model Name : NIKON D700
Software : Adobe Photoshop Lightroom 4.2 (Windows)
Modify Date : 2012:10:26 12:23:29
Exposure Time : 1/250
F Number : 8.0
Exposure Program : Program AE
ISO : 200
Date/Time Original : 2012:09:30 14:30:51
Create Date : 2012:09:30 14:30:51
Shutter Speed Value : 1/250
Aperture Value : 8.0
Exposure Compensation : +5/3
Max Aperture Value : 1.4
Metering Mode : Multi-segment
Light Source : Unknown
Flash : No Flash
Focal Length : 24.0 mm
Sensing Method : One-chip color area
Scene Type : Directly photographed
CFA Pattern : [Red,Green][Green,Blue]
Custom Rendered : Normal
Exposure Mode : Auto
White Balance : Auto
Digital Zoom Ratio : 1
Focal Length In 35mm Format : 24 mm
Scene Capture Type : Standard
Gain Control : None
Contrast : Normal
Saturation : Normal
Sharpness : Normal
Subject Distance Range : Unknown
Serial Number : 2366672
Lens Info : 24mm f/1.4
Lens Model : 24.0 mm f/1.4
GPS Version ID : 2.2.0.0
GPS Latitude Ref : North
GPS Longitude Ref : West
GPS Altitude Ref : Above Sea Level
GPS Time Stamp : 19:30:51
GPS Satellites : 09
GPS Img Direction Ref : Magnetic North
GPS Img Direction : 329
GPS Map Datum : WGS 84
GPS Date Stamp : 2012:09:30
Profile Description : sRGB IEC61966-2.1
Creator Tool : Adobe Photoshop Lightroom 4.2 (Windows)
Lens : 24.0 mm f/1.4
Image Number : 3197
Approximate Focus Distance : 4294967295
Date Created : 2012:09:30 14:30:51.44
City : Chicago
State : Illinois
Country : United States
Format : image/jpeg
Location : Uptown
Version : 7.2
Process Version : 6.7
Color Temperature : 5000
Tint : -9
Luminance Smoothing : 0
Color Noise Reduction : 25
Vignette Amount : 0
Shadow Tint : 0
Red Hue : 0
Red Saturation : 0
Green Hue : 0
Green Saturation : 0
Blue Hue : 0
Blue Saturation : 0
Vibrance : 0
Hue Adjustment Red : 0
Hue Adjustment Orange : 0
Hue Adjustment Yellow : 0
Hue Adjustment Green : 0
Hue Adjustment Aqua : +49
Hue Adjustment Blue : +13
Hue Adjustment Purple : 0
Hue Adjustment Magenta : 0
Saturation Adjustment Red : 0
Saturation Adjustment Orange : 0
Saturation Adjustment Yellow : 0
Saturation Adjustment Green : 0
Saturation Adjustment Aqua : 0
Saturation Adjustment Blue : 0
Saturation Adjustment Purple : 0
Saturation Adjustment Magenta : 0
Luminance Adjustment Red : 0
Luminance Adjustment Orange : 0
Luminance Adjustment Yellow : 0
Luminance Adjustment Green : 0
Luminance Adjustment Aqua : 0
Luminance Adjustment Blue : -73
Luminance Adjustment Purple : 0
Luminance Adjustment Magenta : 0
Split Toning Shadow Hue : 0
Split Toning Shadow Saturation : 0
Split Toning Highlight Hue : 0
Split Toning Highlight Saturation : 0
Split Toning Balance : 0
Parametric Shadows : 0
Parametric Darks : -20
Parametric Lights : 0
Parametric Highlights : 0
Parametric Shadow Split : 25
Parametric Midtone Split : 50
Parametric Highlight Split : 75
Sharpen Radius : +1.0
Sharpen Detail : 25
Sharpen Edge Masking : 0
Post Crop Vignette Amount : 0
Grain Amount : 0
Color Noise Reduction Detail : 50
Lens Profile Enable : 0
Lens Manual Distortion Amount : 0
Perspective Vertical : 0
Perspective Horizontal : 0
Perspective Rotate : 0.0
Perspective Scale : 100
Auto Lateral CA : 0
Exposure 2012 : -1.19
Contrast 2012 : +12
Highlights 2012 : 0
Shadows 2012 : 0
Whites 2012 : 0
Blacks 2012 : +67
Clarity 2012 : +76
Defringe Purple Amount : 0
Defringe Purple Hue Lo : 30
Defringe Purple Hue Hi : 70
Defringe Green Amount : 0
Defringe Green Hue Lo : 40
Defringe Green Hue Hi : 60
Convert To Grayscale : False
Tone Curve Name 2012 : Linear
Camera Profile : Adobe Standard
Lens Profile Setup : LensDefaults
Has Settings : True
Crop Top : 0.335731
Crop Left : 0.179569
Crop Bottom : 0.651079
Crop Right : 0.763767
Crop Angle : 0
Crop Constrain To Warp : 0
Crop Width : 2486
Crop Height : 893
Crop Unit : pixels
Has Crop : True
Already Applied : True
Tone Curve PV2012 : 0, 0, 255, 255
Tone Curve PV2012 Red : 0, 0, 255, 255
Tone Curve PV2012 Green : 0, 0, 255, 255
Tone Curve PV2012 Blue : 0, 0, 255, 255
Image Width : 300
Image Height : 108
Bits Per Sample : 8
Color Components : 3
Aperture : 8.0
Image Size : 300x108
Megapixels : 0.032
Scale Factor To 35 mm Equivalent : 1.0
Shutter Speed : 1/250
Create Date : 2012:09:30 14:30:51.44
Date/Time Original : 2012:09:30 14:30:51.44
GPS Altitude : 193 m Above Sea Level
GPS Date/Time : 2012:09:30 19:30:51Z
GPS Latitude : 41 deg 57' 56.47" N
GPS Longitude : 87 deg 38' 17.39" W
Circle Of Confusion : 0.030 mm
Depth Of Field : inf (2.40 m - inf)
Field Of View : 73.7 deg
Focal Length : 24.0 mm (35 mm equivalent: 24.0 mm)
GPS Position : 41 deg 57' 56.47" N, 87 deg 38' 17.39" W
Hyperfocal Distance : 2.40 m
Light Value : 13.0
Lens ID : AF-S Nikkor 24mm f/1.4G ED