Uber Exif Photo
Make : NIKON CORPORATION
Camera Model Name : NIKON D5100
Software : Adobe Photoshop Lightroom 3.6 (Windows)
Modify Date : 2012:08:28 13:34:13
Exposure Time : 1/40
F Number : 5.3
Exposure Program : Program AE
ISO : 100
Sensitivity Type : Recommended Exposure Index
Date/Time Original : 2012:08:28 12:28:27
Create Date : 2012:08:28 12:28:27
Shutter Speed Value : 1/40
Aperture Value : 5.3
Exposure Compensation : 0
Max Aperture Value : 5.3
Subject Distance : 2.24 m
Metering Mode : Spot
Light Source : Unknown
Flash : No Flash
Focal Length : 45.0 mm
User Comment : (C)James_Grijalva
Sensing Method : One-chip color area
Scene Type : Directly photographed
CFA Pattern : [Red,Green][Green,Blue]
Custom Rendered : Normal
Exposure Mode : Auto
White Balance : Auto
Digital Zoom Ratio : 1
Focal Length In 35mm Format : 67 mm
Scene Capture Type : Standard
Gain Control : None
Contrast : Normal
Saturation : Normal
Sharpness : Normal
Subject Distance Range : Unknown
Serial Number : 3246907
Lens Info : 18-55mm f/3.5-5.6
Lens Model : 18.0-55.0 mm f/3.5-5.6
Profile Description : Adobe RGB (1998)
Creator Tool : Adobe Photoshop Lightroom 3.6 (Windows)
Lens : 18.0-55.0 mm f/3.5-5.6
Image Number : 9468
Approximate Focus Distance : 2.24
Date Created : 2012:08:28 12:28:27.50
Format : image/jpeg
Version : 6.6
Process Version : 5.7
Color Temperature : 4900
Tint : +18
Exposure : +3.00
Shadows : 9
Brightness : +50
Luminance Smoothing : 47
Color Noise Reduction : 25
Chromatic Aberration R : 0
Chromatic Aberration B : 0
Vignette Amount : 0
Shadow Tint : 0
Red Hue : 0
Red Saturation : 0
Green Hue : 0
Green Saturation : 0
Blue Hue : 0
Blue Saturation : 0
Fill Light : 0
Vibrance : +30
Highlight Recovery : 0
Clarity : 0
Defringe : 0
Hue Adjustment Red : 0
Hue Adjustment Orange : 0
Hue Adjustment Yellow : 0
Hue Adjustment Green : 0
Hue Adjustment Aqua : 0
Hue Adjustment Blue : 0
Hue Adjustment Purple : 0
Hue Adjustment Magenta : 0
Saturation Adjustment Red : -100
Saturation Adjustment Orange : -100
Saturation Adjustment Yellow : -100
Saturation Adjustment Green : -100
Saturation Adjustment Aqua : -100
Saturation Adjustment Blue : -100
Saturation Adjustment Purple : -100
Saturation Adjustment Magenta : -100
Luminance Adjustment Red : +34
Luminance Adjustment Orange : -34
Luminance Adjustment Yellow : +43
Luminance Adjustment Green : -100
Luminance Adjustment Aqua : -100
Luminance Adjustment Blue : -100
Luminance Adjustment Purple : -100
Luminance Adjustment Magenta : -100
Split Toning Shadow Hue : 74
Split Toning Shadow Saturation : 16
Split Toning Highlight Hue : 0
Split Toning Highlight Saturation : 0
Split Toning Balance : 0
Parametric Shadows : +40
Parametric Darks : +40
Parametric Lights : 0
Parametric Highlights : 0
Parametric Shadow Split : 25
Parametric Midtone Split : 50
Parametric Highlight Split : 75
Sharpen Radius : +1.0
Sharpen Detail : 25
Sharpen Edge Masking : 0
Post Crop Vignette Amount : 0
Grain Amount : 0
Luminance Noise Reduction Detail : 50
Color Noise Reduction Detail : 50
Luminance Noise Reduction Contrast : 0
Lens Profile Enable : 0
Lens Manual Distortion Amount : 0
Perspective Vertical : 0
Perspective Horizontal : 0
Perspective Rotate : 0.0
Perspective Scale : 100
Convert To Grayscale : False
Tone Curve Name : Strong Contrast
Camera Profile : Adobe Standard
Lens Profile Setup : LensDefaults
Has Settings : True
Has Crop : False
Already Applied : True
Tone Curve : 0, 0, 32, 16, 64, 50, 128, 128, 192, 202, 255, 255
Paint Correction What : Correction
Paint Correction Amount : 1.000000
Paint Correction Active : true
Paint Correction Exposure : 0.000000
Paint Correction Saturation : 0.000000
Paint Correction Contrast : 0.000000
Paint Correction Clarity : -1.000000
Paint Correction Sharpness : 0.250000
Paint Correction Brightness : 0.000000
Paint Correction Toning Hue : 240.000000
Paint Correction Toning Saturation : 0.000000
Paint Correction Mask What : Mask/Paint
Paint Correction Mask Value : 1.000000
Paint Correction Mask Radius : 0.053828
Paint Correction Mask Flow : 1.000000
Paint Correction Mask Center Weight : 0.000000
Image Width : 199
Image Height : 300
Bits Per Sample : 8
Color Components : 3
Aperture : 5.3
Image Size : 199x300
Megapixels : 0.060
Scale Factor To 35 mm Equivalent : 1.5
Shutter Speed : 1/40
Create Date : 2012:08:28 12:28:27.50
Date/Time Original : 2012:08:28 12:28:27.50
Circle Of Confusion : 0.020 mm
Depth Of Field : 0.53 m (2.01 - 2.53 m)
Field Of View : 30.1 deg
Focal Length : 45.0 mm (35 mm equivalent: 67.0 mm)
Hyperfocal Distance : 18.93 m
Light Value : 10.1
Lens ID : AF-S DX VR Zoom-Nikkor 18-55mm f/3.5-5.6G