Uber Exif Photo
Copyright Notice : Geir Walmann
By-line : Geir Walmann
Photometric Interpretation : RGB
Make : NIKON CORPORATION
Camera Model Name : NIKON D7000
Planar Configuration : Chunky
Software : Adobe Photoshop Lightroom 4.2 (Windows)
Modify Date : 2012:11:04 18:32:45
Artist : Geir Walmann
Copyright : Geir Walmann
Exposure Time : 1/1600
F Number : 10.0
Exposure Program : Shutter speed priority AE
ISO : 1000
Sensitivity Type : Recommended Exposure Index
Date/Time Original : 2012:11:04 15:14:30
Create Date : 2012:11:04 15:14:30
Shutter Speed Value : 1/1600
Aperture Value : 10.0
Exposure Compensation : 0
Max Aperture Value : 2.8
Metering Mode : Multi-segment
Light Source : Unknown
Flash : Off, Did not fire
Focal Length : 150.0 mm
Color Space : Uncalibrated
Exif Image Width : 1110
Exif Image Height : 685
Sensing Method : One-chip color area
Scene Type : Directly photographed
CFA Pattern : [Red,Green][Green,Blue]
Custom Rendered : Normal
Exposure Mode : Auto
White Balance : Auto
Digital Zoom Ratio : 1
Focal Length In 35mm Format : 225 mm
Scene Capture Type : Standard
Gain Control : High gain up
Contrast : Normal
Saturation : Normal
Sharpness : Normal
Subject Distance Range : Unknown
Serial Number : 6274951
Lens Info : 150mm f/2.8
Lens Model : 150.0 mm f/2.8
Orientation : Horizontal (normal)
Profile Description : Adobe RGB (1998)
Format : image/jpeg
Creator : Geir Walmann
Rights : Geir Walmann
Creator Tool : Adobe Photoshop Lightroom 4.2 (Windows)
Lens : 150.0 mm f/2.8
Image Number : 14023
Approximate Focus Distance : 4294967295
Date Created : 2012:11:04 15:14:30.60
Version : 7.2
Process Version : 6.7
Color Temperature : 4400
Tint : -29
Luminance Smoothing : 45
Color Noise Reduction : 25
Vignette Amount : 0
Shadow Tint : 0
Red Hue : 0
Red Saturation : 0
Green Hue : 0
Green Saturation : 0
Blue Hue : 0
Blue Saturation : 0
Vibrance : 0
Hue Adjustment Red : 0
Hue Adjustment Orange : 0
Hue Adjustment Yellow : 0
Hue Adjustment Green : 0
Hue Adjustment Aqua : 0
Hue Adjustment Blue : 0
Hue Adjustment Purple : 0
Hue Adjustment Magenta : 0
Saturation Adjustment Red : 0
Saturation Adjustment Orange : 0
Saturation Adjustment Yellow : 0
Saturation Adjustment Green : 0
Saturation Adjustment Aqua : 0
Saturation Adjustment Blue : 0
Saturation Adjustment Purple : 0
Saturation Adjustment Magenta : 0
Luminance Adjustment Red : 0
Luminance Adjustment Orange : 0
Luminance Adjustment Yellow : 0
Luminance Adjustment Green : 0
Luminance Adjustment Aqua : 0
Luminance Adjustment Blue : 0
Luminance Adjustment Purple : 0
Luminance Adjustment Magenta : 0
Split Toning Shadow Hue : 0
Split Toning Shadow Saturation : 0
Split Toning Highlight Hue : 0
Split Toning Highlight Saturation : 0
Split Toning Balance : 0
Parametric Shadows : 0
Parametric Darks : 0
Parametric Lights : 0
Parametric Highlights : 0
Parametric Shadow Split : 25
Parametric Midtone Split : 50
Parametric Highlight Split : 75
Sharpen Radius : +1.0
Sharpen Detail : 25
Sharpen Edge Masking : 0
Post Crop Vignette Amount : 0
Grain Amount : 0
Luminance Noise Reduction Detail : 50
Color Noise Reduction Detail : 50
Luminance Noise Reduction Contrast : 0
Lens Profile Enable : 0
Lens Manual Distortion Amount : 0
Perspective Vertical : 0
Perspective Horizontal : 0
Perspective Rotate : 0.0
Perspective Scale : 100
Auto Lateral CA : 0
Exposure 2012 : 0.00
Contrast 2012 : 0
Highlights 2012 : -69
Shadows 2012 : +69
Whites 2012 : 0
Blacks 2012 : 0
Clarity 2012 : 0
Defringe Purple Amount : 0
Defringe Purple Hue Lo : 30
Defringe Purple Hue Hi : 70
Defringe Green Amount : 0
Defringe Green Hue Lo : 40
Defringe Green Hue Hi : 60
Convert To Grayscale : False
Tone Curve Name 2012 : Linear
Camera Profile : Adobe Standard
Lens Profile Setup : LensDefaults
Has Settings : True
Crop Top : 0.178499
Crop Left : 0.435484
Crop Bottom : 0.549695
Crop Right : 0.836022
Crop Angle : 0
Crop Constrain To Warp : 0
Crop Width : 1140
Crop Height : 700
Crop Unit : pixels
Has Crop : True
Already Applied : True
Tone Curve PV2012 : 0, 0, 255, 255
Tone Curve PV2012 Red : 0, 0, 255, 255
Tone Curve PV2012 Green : 0, 0, 255, 255
Tone Curve PV2012 Blue : 0, 0, 255, 255
Image Width : 300
Image Height : 185
Bits Per Sample : 8
Color Components : 3
Aperture : 10.0
Image Size : 300x185
Megapixels : 0.056
Scale Factor To 35 mm Equivalent : 1.5
Shutter Speed : 1/1600
Create Date : 2012:11:04 15:14:30.60
Date/Time Original : 2012:11:04 15:14:30.60
Circle Of Confusion : 0.020 mm
Depth Of Field : inf (112.33 m - inf)
Field Of View : 9.1 deg
Focal Length : 150.0 mm (35 mm equivalent: 225.0 mm)
Hyperfocal Distance : 112.33 m
Light Value : 14.0
Lens ID : Sigma APO Macro 150mm F2.8 EX DG HSM