Uber Exif Photo
Keywords : 2012, D600, Tomas Eriksson, Torekov
By-line : Tomas Eriksson
By-line Title : Photographer - Fotograf
Copyright Notice : Tomas Eriksson
Writer-Editor : Tomas Eriksson
Copyright Flag : True
URL : www.tomasfoto.se/info
Make : NIKON CORPORATION
Camera Model Name : NIKON D600
Software : Adobe Photoshop Lightroom 4.3 (Macintosh)
Modify Date : 2012:12:28 14:03:45
Artist : Tomas Eriksson
Copyright : Tomas Eriksson
Exposure Time : 1/125
F Number : 5.6
Exposure Program : Aperture-priority AE
ISO : 200
Sensitivity Type : Recommended Exposure Index
Date/Time Original : 2012:12:26 14:29:12
Create Date : 2012:12:26 14:29:12
Shutter Speed Value : 1/125
Aperture Value : 5.6
Exposure Compensation : 0
Max Aperture Value : 4.0
Metering Mode : Multi-segment
Light Source : Fine Weather
Flash : Off, Did not fire
Focal Length : 16.0 mm
User Comment : Copyright 2012 Tomas Eriksson
Sensing Method : One-chip color area
Scene Type : Directly photographed
CFA Pattern : [Red,Green][Green,Blue]
Custom Rendered : Normal
Exposure Mode : Auto
White Balance : Manual
Digital Zoom Ratio : 1
Focal Length In 35mm Format : 16 mm
Scene Capture Type : Standard
Gain Control : None
Contrast : Normal
Saturation : Normal
Sharpness : Normal
Subject Distance Range : Unknown
Serial Number : 6063354
Lens Info : 16-35mm f/4
Lens Model : 16.0-35.0 mm f/4.0
Profile Description : sRGB IEC61966-2.1
Creator Tool : Adobe Photoshop Lightroom 4.3 (Macintosh)
Lens : 16.0-35.0 mm f/4.0
Image Number : 416
Approximate Focus Distance : 2
Date Created : 2012:12:26 14:29:12.50
Authors Position : Photographer - Fotograf
Caption Writer : Tomas Eriksson
Category : Photographer - Fotograf
Format : image/jpeg
Marked : True
Web Statement : www.tomasfoto.se/info
Digital Source Type : http://cv.iptc.org/newscodes/digitalsourcetype/digitalCapture
Version : 7.3
Process Version : 6.7
Color Temperature : 5000
Tint : +4
Luminance Smoothing : 10
Color Noise Reduction : 25
Vignette Amount : 0
Shadow Tint : 0
Red Hue : 0
Red Saturation : 0
Green Hue : 0
Green Saturation : 0
Blue Hue : 0
Blue Saturation : 0
Vibrance : +40
Hue Adjustment Red : 0
Hue Adjustment Orange : 0
Hue Adjustment Yellow : 0
Hue Adjustment Green : 0
Hue Adjustment Aqua : 0
Hue Adjustment Blue : 0
Hue Adjustment Purple : 0
Hue Adjustment Magenta : 0
Saturation Adjustment Red : 0
Saturation Adjustment Orange : 0
Saturation Adjustment Yellow : 0
Saturation Adjustment Green : 0
Saturation Adjustment Aqua : 0
Saturation Adjustment Blue : 0
Saturation Adjustment Purple : 0
Saturation Adjustment Magenta : 0
Luminance Adjustment Red : 0
Luminance Adjustment Orange : 0
Luminance Adjustment Yellow : 0
Luminance Adjustment Green : 0
Luminance Adjustment Aqua : 0
Luminance Adjustment Blue : 0
Luminance Adjustment Purple : 0
Luminance Adjustment Magenta : 0
Split Toning Shadow Hue : 0
Split Toning Shadow Saturation : 0
Split Toning Highlight Hue : 0
Split Toning Highlight Saturation : 0
Split Toning Balance : 0
Parametric Shadows : 0
Parametric Darks : 0
Parametric Lights : 0
Parametric Highlights : 0
Parametric Shadow Split : 25
Parametric Midtone Split : 50
Parametric Highlight Split : 75
Sharpen Radius : +1.0
Sharpen Detail : 30
Sharpen Edge Masking : 0
Post Crop Vignette Amount : 0
Grain Amount : 0
Luminance Noise Reduction Detail : 50
Color Noise Reduction Detail : 50
Luminance Noise Reduction Contrast : 0
Lens Profile Enable : 1
Lens Manual Distortion Amount : 0
Perspective Vertical : 0
Perspective Horizontal : 0
Perspective Rotate : 0.0
Perspective Scale : 100
Auto Lateral CA : 0
Exposure 2012 : +0.20
Contrast 2012 : 0
Highlights 2012 : -60
Shadows 2012 : +15
Whites 2012 : 0
Blacks 2012 : +20
Clarity 2012 : 0
Defringe Purple Amount : 0
Defringe Purple Hue Lo : 30
Defringe Purple Hue Hi : 70
Defringe Green Amount : 0
Defringe Green Hue Lo : 40
Defringe Green Hue Hi : 60
Convert To Grayscale : False
Tone Curve Name 2012 : Linear
Camera Profile : Camera Standard
Lens Profile Setup : Auto
Lens Profile Name : Adobe (Nikon AF-S NIKKOR 16-35mm f/4G ED VR)
Lens Profile Filename : NIKON D3X (Nikon AF-S NIKKOR 16-35mm f4G ED VR) - RAW.lcp
Lens Profile Distortion Scale : 100
Lens Profile Chromatic Aberration Scale : 100
Lens Profile Vignetting Scale : 100
Has Settings : True
Crop Top : 0.004005
Crop Left : 0.00111
Crop Bottom : 0.995995
Crop Right : 0.99889
Crop Angle : -0.153801
Crop Constrain To Warp : 0
Crop Width : 900
Crop Height : 601
Crop Unit : pixels
Has Crop : True
Already Applied : True
Creator : Tomas Eriksson
Rights : Tomas Eriksson
Subject : 2012, D600, Tomas Eriksson, Torekov
Usage Terms : All rights reserved
Creator Country : Sweden - Sverige
Creator Work Telephone : +46702906767
Creator Work Email : info@tomasfoto.se
Creator City : 31205 Skottorp
Creator Address : Box 5244
Creator Work URL : www.tomasfoto.se
Tone Curve PV2012 : 0, 0, 255, 255
Tone Curve PV2012 Red : 0, 0, 255, 255
Tone Curve PV2012 Green : 0, 0, 255, 255
Tone Curve PV2012 Blue : 0, 0, 255, 255
Image Width : 300
Image Height : 200
Bits Per Sample : 8
Color Components : 3
Aperture : 5.6
Image Size : 300x200
Megapixels : 0.060
Scale Factor To 35 mm Equivalent : 1.0
Shutter Speed : 1/125
Create Date : 2012:12:26 14:29:12.50
Date/Time Original : 2012:12:26 14:29:12.50
Circle Of Confusion : 0.030 mm
Depth Of Field : inf (0.87 m - inf)
Field Of View : 96.7 deg
Focal Length : 16.0 mm (35 mm equivalent: 16.0 mm)
Hyperfocal Distance : 1.52 m
Light Value : 10.9
Lens ID : AF-S Nikkor 16-35mm f/4G ED VR