Uber Exif Photo
By-line : WM. R. ANDERSON
Copyright Notice : Wm. R. Anderson
Copyright Flag : True
Make : NIKON CORPORATION
Camera Model Name : NIKON D800
Software : Adobe Photoshop Lightroom 4.1 (Macintosh)
Modify Date : 2012:07:11 21:21:41
Artist : WM. R. ANDERSON
Copyright : Wm. R. Anderson
Exposure Time : 1/250
F Number : 3.5
Exposure Program : Manual
ISO : 160
Sensitivity Type : Recommended Exposure Index
Date/Time Original : 2012:07:08 12:31:26
Create Date : 2012:07:08 12:31:26
Shutter Speed Value : 1/250
Aperture Value : 3.5
Exposure Compensation : 0
Max Aperture Value : 1.7
Metering Mode : Multi-segment
Light Source : Unknown
Flash : Off, Did not fire
Focal Length : 50.0 mm
Sensing Method : One-chip color area
Scene Type : Directly photographed
CFA Pattern : [Red,Green][Green,Blue]
Custom Rendered : Normal
Exposure Mode : Manual
White Balance : Auto
Digital Zoom Ratio : 1
Focal Length In 35mm Format : 50 mm
Scene Capture Type : Standard
Gain Control : None
Contrast : Normal
Saturation : Normal
Sharpness : Normal
Subject Distance Range : Unknown
Serial Number : 3009733
Lens Info : 50mm f/1.8
Lens Model : 50.0 mm f/1.8
Profile Description : sRGB IEC61966-2.1
Format : image/jpeg
Creator Tool : Adobe Photoshop Lightroom 4.1 (Macintosh)
Lens : 50.0 mm f/1.8
Image Number : 2767
Approximate Focus Distance : 1.78
Date Created : 2012:07:08 12:31:26.40
Marked : True
Version : 7.1
Process Version : 6.7
Color Temperature : 6881
Tint : -18
Luminance Smoothing : 0
Color Noise Reduction : 0
Vignette Amount : -100
Vignette Midpoint : 17
Shadow Tint : 0
Red Hue : 0
Red Saturation : 0
Green Hue : 0
Green Saturation : 0
Blue Hue : 0
Blue Saturation : 0
Vibrance : -100
Hue Adjustment Red : 0
Hue Adjustment Orange : 0
Hue Adjustment Yellow : 0
Hue Adjustment Green : 0
Hue Adjustment Aqua : 0
Hue Adjustment Blue : 0
Hue Adjustment Purple : 0
Hue Adjustment Magenta : 0
Saturation Adjustment Red : 0
Saturation Adjustment Orange : 0
Saturation Adjustment Yellow : 0
Saturation Adjustment Green : 0
Saturation Adjustment Aqua : 0
Saturation Adjustment Blue : 0
Saturation Adjustment Purple : 0
Saturation Adjustment Magenta : 0
Luminance Adjustment Red : 0
Luminance Adjustment Orange : 0
Luminance Adjustment Yellow : -26
Luminance Adjustment Green : -10
Luminance Adjustment Aqua : 0
Luminance Adjustment Blue : -10
Luminance Adjustment Purple : 0
Luminance Adjustment Magenta : 0
Split Toning Shadow Hue : 46
Split Toning Shadow Saturation : 5
Split Toning Highlight Hue : 53
Split Toning Highlight Saturation : 8
Split Toning Balance : 0
Parametric Shadows : +42
Parametric Darks : -45
Parametric Lights : -26
Parametric Highlights : -24
Parametric Shadow Split : 25
Parametric Midtone Split : 50
Parametric Highlight Split : 75
Sharpen Radius : +1.0
Sharpen Detail : 25
Sharpen Edge Masking : 0
Post Crop Vignette Amount : -29
Post Crop Vignette Midpoint : 50
Post Crop Vignette Feather : 50
Post Crop Vignette Roundness : 0
Post Crop Vignette Style : Highlight Priority
Post Crop Vignette Highlight Contrast : 0
Grain Amount : 0
Lens Profile Enable : 1
Lens Manual Distortion Amount : 0
Perspective Vertical : 0
Perspective Horizontal : 0
Perspective Rotate : 0.0
Perspective Scale : 100
Auto Lateral CA : 1
Exposure 2012 : +4.10
Contrast 2012 : -6
Highlights 2012 : -24
Shadows 2012 : +100
Whites 2012 : +100
Blacks 2012 : 0
Clarity 2012 : -34
Defringe Purple Amount : 0
Defringe Purple Hue Lo : 30
Defringe Purple Hue Hi : 70
Defringe Green Amount : 0
Defringe Green Hue Lo : 40
Defringe Green Hue Hi : 60
Convert To Grayscale : False
Tone Curve Name 2012 : Linear
Camera Profile : ACR 4.4
Lens Profile Setup : Custom
Lens Profile Name : Adobe (Nikon AF NIKKOR 50mm f/1.8D)
Lens Profile Filename : NIKON D3X (Nikon FX 50mm f1.8 D) - RAW.lcp
Lens Profile Distortion Scale : 79
Lens Profile Chromatic Aberration Scale : 100
Lens Profile Vignetting Scale : 100
Has Settings : True
Crop Top : 0
Crop Left : 0.036794
Crop Bottom : 1
Crop Right : 0.963824
Crop Angle : 3.10665
Crop Constrain To Warp : 0
Crop Width : 900
Crop Height : 577
Crop Unit : pixels
Has Crop : True
Already Applied : True
Creator : WM. R. ANDERSON
Rights : Wm. R. Anderson
Tone Curve PV2012 : 0, 0, 255, 255
Tone Curve PV2012 Red : 0, 0, 255, 255
Tone Curve PV2012 Green : 0, 0, 255, 255
Tone Curve PV2012 Blue : 0, 0, 255, 255
Image Width : 192
Image Height : 300
Bits Per Sample : 8
Color Components : 3
Aperture : 3.5
Image Size : 192x300
Megapixels : 0.058
Scale Factor To 35 mm Equivalent : 1.0
Shutter Speed : 1/250
Create Date : 2012:07:08 12:31:26.40
Date/Time Original : 2012:07:08 12:31:26.40
Circle Of Confusion : 0.030 mm
Depth Of Field : 0.26 m (1.66 - 1.92 m)
Field Of View : 39.6 deg
Focal Length : 50.0 mm (35 mm equivalent: 50.0 mm)
Hyperfocal Distance : 23.77 m
Light Value : 10.9
Lens ID : AF Nikkor 50mm f/1.8D