Uber Exif Photo
Make : NIKON CORPORATION
Camera Model Name : NIKON D200
Software : Adobe Photoshop Lightroom 3.6 (Windows)
Modify Date : 2012:05:31 15:28:40
Exposure Time : 1/1600
F Number : 2.8
Exposure Program : Aperture-priority AE
ISO : 250
Date/Time Original : 2012:05:29 14:48:11
Create Date : 2012:05:29 14:48:11
Shutter Speed Value : 1/1600
Aperture Value : 2.8
Exposure Compensation : +2/3
Max Aperture Value : 2.8
Subject Distance : 4294967295 m
Metering Mode : Multi-segment
Light Source : Unknown
Flash : No Flash
Focal Length : 70.0 mm
Sensing Method : One-chip color area
Scene Type : Directly photographed
CFA Pattern : [Green,Red][Blue,Green]
Custom Rendered : Normal
Exposure Mode : Auto
White Balance : Auto
Digital Zoom Ratio : 1
Focal Length In 35mm Format : 105 mm
Scene Capture Type : Standard
Gain Control : None
Contrast : Normal
Saturation : Normal
Sharpness : Normal
Subject Distance Range : Unknown
Lens Info : 35-70mm f/2.8
Lens Model : 35.0-70.0 mm f/2.8
Creator Tool : Adobe Photoshop Lightroom 3.6 (Windows)
Lens : 35.0-70.0 mm f/2.8
Image Number : 16756
Approximate Focus Distance : 4294967295
Date Created : 2012:05:29 14:48:11.38
Format : image/jpeg
Version : 6.6
Process Version : 5.7
Color Temperature : 5350
Tint : -6
Exposure : +1.70
Shadows : 23
Brightness : +35
Luminance Smoothing : 0
Color Noise Reduction : 25
Chromatic Aberration R : 0
Chromatic Aberration B : 0
Vignette Amount : 0
Shadow Tint : 0
Red Hue : 0
Red Saturation : 0
Green Hue : 0
Green Saturation : 0
Blue Hue : 0
Blue Saturation : 0
Fill Light : 0
Highlight Recovery : 0
Clarity : 0
Defringe : 0
Gray Mixer Red : -10
Gray Mixer Orange : -19
Gray Mixer Yellow : -23
Gray Mixer Green : -27
Gray Mixer Aqua : -18
Gray Mixer Blue : +10
Gray Mixer Purple : +16
Gray Mixer Magenta : +4
Split Toning Shadow Hue : 0
Split Toning Shadow Saturation : 0
Split Toning Highlight Hue : 0
Split Toning Highlight Saturation : 0
Split Toning Balance : 0
Parametric Shadows : 0
Parametric Darks : +13
Parametric Lights : -95
Parametric Highlights : 0
Parametric Shadow Split : 25
Parametric Midtone Split : 50
Parametric Highlight Split : 75
Sharpen Radius : +1.0
Sharpen Detail : 25
Sharpen Edge Masking : 0
Post Crop Vignette Amount : -65
Post Crop Vignette Midpoint : 50
Post Crop Vignette Feather : 50
Post Crop Vignette Roundness : 0
Post Crop Vignette Style : Highlight Priority
Post Crop Vignette Highlight Contrast : 0
Grain Amount : 0
Color Noise Reduction Detail : 50
Lens Profile Enable : 0
Lens Manual Distortion Amount : +3
Perspective Vertical : 0
Perspective Horizontal : 0
Perspective Rotate : -1.9
Perspective Scale : 100
Convert To Grayscale : True
Tone Curve Name : Medium Contrast
Camera Profile : Adobe Standard
Lens Profile Setup : LensDefaults
Has Settings : True
Crop Top : 0.042017
Crop Left : 0.059044
Crop Bottom : 0.978993
Crop Right : 0.944705
Crop Angle : 0
Crop Constrain To Warp : 0
Crop Width : 3429
Crop Height : 2429
Crop Unit : pixels
Has Crop : True
Already Applied : True
Tone Curve : 0, 0, 32, 22, 64, 56, 128, 128, 192, 196, 255, 255
Gradient Based Corr What : Correction
Gradient Based Corr Amount : 1.000000
Gradient Based Corr Active : true
Gradient Based Corr Exposure : 0.475000
Gradient Based Corr Saturation : 0.000000
Gradient Based Corr Contrast : 0.000000
Gradient Based Corr Clarity : -0.080000
Gradient Based Corr Sharpness : 0.080000
Gradient Based Corr Brightness : -0.125000
Gradient Based Corr Toning Hue : 0.000000
Gradient Based Corr Toning Saturation : 0.000000
Gradient Based Corr Mask What : Mask/Gradient
Gradient Based Corr Mask Value : 1.000000
Gradient Based Corr Mask Zero X : 0.185421
Gradient Based Corr Mask Zero Y : -0.043740
Gradient Based Corr Mask Full X : 0.175112
Gradient Based Corr Mask Full Y : -0.093788
Image Width : 300
Image Height : 213
Bits Per Sample : 8
Color Components : 1
Aperture : 2.8
Image Size : 300x213
Megapixels : 0.064
Scale Factor To 35 mm Equivalent : 1.5
Shutter Speed : 1/1600
Create Date : 2012:05:29 14:48:11.38
Date/Time Original : 2012:05:29 14:48:11.38
Circle Of Confusion : 0.020 mm
Depth Of Field : inf (87.37 m - inf)
Field Of View : 19.5 deg
Focal Length : 70.0 mm (35 mm equivalent: 105.0 mm)
Hyperfocal Distance : 87.37 m
Light Value : 12.3
Lens ID : AF Zoom-Nikkor 35-70mm f/2.8D