Uber Exif Photo
Make : NIKON CORPORATION
Camera Model Name : NIKON D90
Software : Adobe Photoshop Lightroom 4.1 (Windows)
Modify Date : 2013:02:13 16:12:10
Exposure Time : 1/60
F Number : 8.0
Exposure Program : Manual
ISO : 1000
Date/Time Original : 2013:02:12 19:12:36
Create Date : 2013:02:12 19:12:36
Shutter Speed Value : 1/60
Aperture Value : 8.0
Exposure Compensation : 0
Max Aperture Value : 3.6
Metering Mode : Spot
Light Source : Unknown
Flash : No Flash
Focal Length : 18.0 mm
Sensing Method : One-chip color area
Scene Type : Directly photographed
CFA Pattern : [Green,Blue][Red,Green]
Custom Rendered : Normal
Exposure Mode : Manual
White Balance : Manual
Digital Zoom Ratio : 1
Focal Length In 35mm Format : 27 mm
Scene Capture Type : Standard
Gain Control : High gain up
Contrast : Normal
Saturation : High
Sharpness : Hard
Subject Distance Range : Unknown
Serial Number : 8090270
Lens Info : 18-105mm f/3.5-5.6
Lens Model : 18.0-105.0 mm f/3.5-5.6
Profile Description : sRGB IEC61966-2.1
Creator Tool : Adobe Photoshop Lightroom 4.1 (Windows)
Lens : 18.0-105.0 mm f/3.5-5.6
Image Number : 42865
Approximate Focus Distance : 4294967295
Date Created : 2013:02:12 19:12:36.00
Format : image/jpeg
Version : 7.1
Process Version : 6.7
Incremental Temperature : 0
Incremental Tint : 0
Luminance Smoothing : 0
Color Noise Reduction : 0
Vignette Amount : 0
Shadow Tint : 0
Red Hue : +10
Red Saturation : +10
Green Hue : +5
Green Saturation : 0
Blue Hue : 0
Blue Saturation : 0
Vibrance : 0
Hue Adjustment Red : +25
Hue Adjustment Orange : 0
Hue Adjustment Yellow : +20
Hue Adjustment Green : +20
Hue Adjustment Aqua : 0
Hue Adjustment Blue : +4
Hue Adjustment Purple : +10
Hue Adjustment Magenta : +25
Saturation Adjustment Red : -6
Saturation Adjustment Orange : -10
Saturation Adjustment Yellow : 0
Saturation Adjustment Green : -40
Saturation Adjustment Aqua : -35
Saturation Adjustment Blue : -10
Saturation Adjustment Purple : -35
Saturation Adjustment Magenta : -30
Luminance Adjustment Red : -10
Luminance Adjustment Orange : -5
Luminance Adjustment Yellow : +15
Luminance Adjustment Green : 0
Luminance Adjustment Aqua : +30
Luminance Adjustment Blue : -20
Luminance Adjustment Purple : 0
Luminance Adjustment Magenta : +10
Split Toning Shadow Hue : 0
Split Toning Shadow Saturation : 0
Split Toning Highlight Hue : 0
Split Toning Highlight Saturation : 0
Split Toning Balance : 0
Parametric Shadows : 0
Parametric Darks : 0
Parametric Lights : 0
Parametric Highlights : 0
Parametric Shadow Split : 25
Parametric Midtone Split : 50
Parametric Highlight Split : 75
Sharpen Radius : +1.0
Sharpen Detail : 25
Sharpen Edge Masking : 0
Post Crop Vignette Amount : 0
Grain Amount : 0
Lens Profile Enable : 0
Lens Manual Distortion Amount : 0
Perspective Vertical : 0
Perspective Horizontal : 0
Perspective Rotate : 0.0
Perspective Scale : 100
Auto Lateral CA : 0
Exposure 2012 : 0.00
Contrast 2012 : -38
Highlights 2012 : -43
Shadows 2012 : +57
Whites 2012 : -74
Blacks 2012 : -43
Clarity 2012 : -10
Defringe Purple Amount : 0
Defringe Purple Hue Lo : 30
Defringe Purple Hue Hi : 70
Defringe Green Amount : 0
Defringe Green Hue Lo : 40
Defringe Green Hue Hi : 60
Convert To Grayscale : False
Tone Curve Name 2012 : Custom
Camera Profile : Fuji Superia 1600 C
Lens Profile Setup : LensDefaults
Has Settings : True
Has Crop : False
Already Applied : True
Tone Curve PV2012 : 0, 64, 44, 77, 111, 119, 200, 191, 255, 250
Tone Curve PV2012 Red : 0, 0, 21, 11, 73, 56, 120, 123, 176, 191, 255, 253
Tone Curve PV2012 Green : 1, 9, 20, 15, 119, 122, 179, 188, 255, 253
Tone Curve PV2012 Blue : 0, 4, 66, 51, 121, 121, 178, 183, 255, 253
Image Width : 300
Image Height : 199
Bits Per Sample : 8
Color Components : 3
Aperture : 8.0
Image Size : 300x199
Megapixels : 0.060
Scale Factor To 35 mm Equivalent : 1.5
Shutter Speed : 1/60
Create Date : 2013:02:12 19:12:36.00
Date/Time Original : 2013:02:12 19:12:36.00
Circle Of Confusion : 0.020 mm
Depth Of Field : inf (2.02 m - inf)
Field Of View : 67.4 deg
Focal Length : 18.0 mm (35 mm equivalent: 27.0 mm)
Hyperfocal Distance : 2.02 m
Light Value : 8.6
Lens ID : AF-S DX VR Zoom-Nikkor 18-105mm f/3.5-5.6G ED