Uber Exif Photo
Keywords : Daryl & Christina Kindratsky, Dec 31 2012, Randy & Donna Giesbrecht ©2013, ©2013 BKH photography
By-line : Randy Giesbrecht
Copyright Notice : Randy Giesbrecht 2013
Copyright Flag : True
URL : randygiesbrecht.com
Make : NIKON CORPORATION
Camera Model Name : NIKON D4
Software : Adobe Photoshop Lightroom 4.2 (Macintosh)
Modify Date : 2013:03:10 18:05:22
Artist : Randy Giesbrecht
Copyright : Randy Giesbrecht 2013
Exposure Time : 1/100
F Number : 6.3
Exposure Program : Manual
ISO : 500
Sensitivity Type : Recommended Exposure Index
Date/Time Original : 2013:03:09 16:07:35
Create Date : 2013:03:09 16:07:35
Shutter Speed Value : 1/100
Aperture Value : 6.3
Exposure Compensation : 0
Max Aperture Value : 2.8
Metering Mode : Multi-segment
Light Source : Unknown
Flash : On, Return detected
Focal Length : 24.0 mm
Sensing Method : One-chip color area
Scene Type : Directly photographed
CFA Pattern : [Red,Green][Green,Blue]
Custom Rendered : Normal
Exposure Mode : Manual
White Balance : Auto
Digital Zoom Ratio : 1
Focal Length In 35mm Format : 24 mm
Scene Capture Type : Standard
Gain Control : Low gain up
Contrast : Normal
Saturation : High
Sharpness : Hard
Subject Distance Range : Unknown
Serial Number : 2017359
Lens Info : 24-70mm f/2.8
Lens Model : 24.0-70.0 mm f/2.8
Profile Description : sRGB IEC61966-2.1
Creator Tool : Adobe Photoshop Lightroom 4.2 (Macintosh)
Label : Purple
Rating : 2
Format : image/jpeg
Lens : 24.0-70.0 mm f/2.8
Image Number : 9959
Approximate Focus Distance : 2
Date Created : 2013:03:09 16:07:35.20
Credit : Randy Giesbrecht
Marked : True
Web Statement : randygiesbrecht.com
Version : 7.2
Process Version : 6.7
Incremental Temperature : 0
Incremental Tint : 0
Luminance Smoothing : 0
Color Noise Reduction : 0
Vignette Amount : 0
Shadow Tint : 0
Red Hue : 0
Red Saturation : 0
Green Hue : 0
Green Saturation : 0
Blue Hue : 0
Blue Saturation : 0
Gray Mixer Red : 0
Gray Mixer Orange : 0
Gray Mixer Yellow : 0
Gray Mixer Green : 0
Gray Mixer Aqua : 0
Gray Mixer Blue : 0
Gray Mixer Purple : 0
Gray Mixer Magenta : 0
Split Toning Shadow Hue : 0
Split Toning Shadow Saturation : 0
Split Toning Highlight Hue : 0
Split Toning Highlight Saturation : 0
Split Toning Balance : 0
Parametric Shadows : 0
Parametric Darks : 0
Parametric Lights : 0
Parametric Highlights : 0
Parametric Shadow Split : 25
Parametric Midtone Split : 50
Parametric Highlight Split : 75
Sharpen Radius : +1.0
Sharpen Detail : 25
Sharpen Edge Masking : 0
Post Crop Vignette Amount : 0
Grain Amount : 0
Lens Profile Enable : 0
Lens Manual Distortion Amount : 0
Perspective Vertical : 0
Perspective Horizontal : 0
Perspective Rotate : 0.0
Perspective Scale : 100
Auto Lateral CA : 0
Exposure 2012 : +0.30
Contrast 2012 : -6
Highlights 2012 : -50
Shadows 2012 : +50
Whites 2012 : +32
Blacks 2012 : +1
Clarity 2012 : 0
Convert To Grayscale : True
Tone Curve Name 2012 : Linear
Camera Profile : Embedded
Lens Profile Setup : LensDefaults
Has Settings : True
Crop Top : 0.087336
Crop Left : 0.131234
Crop Bottom : 1
Crop Right : 0.911019
Crop Angle : 0
Crop Constrain To Warp : 0
Crop Width : 963
Crop Height : 750
Crop Unit : pixels
Has Crop : True
Already Applied : True
Creator : Randy Giesbrecht
Rights : Randy Giesbrecht 2013
Subject : Daryl & Christina Kindratsky, Dec 31 2012, Randy & Donna Giesbrecht ©2013, ©2013 BKH photography
Usage Terms : call for uaseg rights
Creator Postal Code : V2S 3L7
Creator Work Email : crpix@telus.net
Creator Region : BC
Creator City : Abbotsford
Creator Work Telephone : 1(604)309-1738
Creator Address : 2764 Mountview Street
Creator Country : Canada
Creator Work URL : randygiesbrecht.com
Tone Curve PV2012 : 0, 0, 255, 255
Tone Curve PV2012 Red : 0, 0, 255, 255
Tone Curve PV2012 Green : 0, 0, 255, 255
Tone Curve PV2012 Blue : 0, 0, 255, 255
Image Width : 300
Image Height : 234
Bits Per Sample : 8
Color Components : 3
Aperture : 6.3
Image Size : 300x234
Megapixels : 0.070
Scale Factor To 35 mm Equivalent : 1.0
Shutter Speed : 1/100
Create Date : 2013:03:09 16:07:35.20
Date/Time Original : 2013:03:09 16:07:35.20
Circle Of Confusion : 0.030 mm
Depth Of Field : 4.49 m (1.21 - 5.70 m)
Field Of View : 73.7 deg
Focal Length : 24.0 mm (35 mm equivalent: 24.0 mm)
Hyperfocal Distance : 3.04 m
Light Value : 9.6
Lens ID : AF-S Zoom-Nikkor 24-70mm f/2.8G ED