Uber Exif Photo
Photometric Interpretation : RGB
Make : NIKON CORPORATION
Camera Model Name : NIKON D7000
Orientation : Horizontal (normal)
Samples Per Pixel : 3
Software : Adobe Photoshop CS5 Windows
Modify Date : 2013:05:13 08:56:43
Exposure Time : 1/160
F Number : 4.5
Exposure Program : Aperture-priority AE
ISO : 400
Sensitivity Type : Recommended Exposure Index
Date/Time Original : 2013:05:11 14:33:21
Create Date : 2013:05:11 14:33:21
Shutter Speed Value : 1/160
Aperture Value : 4.5
Exposure Compensation : +1/3
Max Aperture Value : 2.8
Metering Mode : Center-weighted average
Light Source : Unknown
Flash : Off, Did not fire
Focal Length : 200.0 mm
Color Space : sRGB
Exif Image Width : 1200
Exif Image Height : 795
Sensing Method : One-chip color area
Scene Type : Directly photographed
CFA Pattern : [Red,Green][Green,Blue]
Custom Rendered : Normal
Exposure Mode : Auto
White Balance : Auto
Digital Zoom Ratio : 1
Focal Length In 35mm Format : 300 mm
Scene Capture Type : Standard
Gain Control : Low gain up
Contrast : Normal
Saturation : Normal
Sharpness : Normal
Subject Distance Range : Unknown
Serial Number : 6218461
Lens Info : 80-200mm f/2.8
Lens Model : 80.0-200.0 mm f/2.8
Profile Description : sRGB IEC61966-2.1
Creator Tool : Adobe Photoshop CS5 Windows
Lens : 80.0-200.0 mm f/2.8
Image Number : 6935
Approximate Focus Distance : 4.47
Date Created : 2013:05:11 14:33:21.006
Color Mode : RGB
Format : image/jpeg
Version : 7.4
Process Version : 6.7
Color Temperature : 7402
Tint : -26
Luminance Smoothing : 45
Color Noise Reduction : 0
Vignette Amount : -100
Vignette Midpoint : 59
Shadow Tint : 0
Red Hue : 0
Red Saturation : 0
Green Hue : 0
Green Saturation : 0
Blue Hue : 0
Blue Saturation : -19
Vibrance : -20
Hue Adjustment Red : 0
Hue Adjustment Orange : 0
Hue Adjustment Yellow : 0
Hue Adjustment Green : 0
Hue Adjustment Aqua : 0
Hue Adjustment Blue : 0
Hue Adjustment Purple : 0
Hue Adjustment Magenta : 0
Saturation Adjustment Red : -34
Saturation Adjustment Orange : +27
Saturation Adjustment Yellow : 0
Saturation Adjustment Green : -55
Saturation Adjustment Aqua : +36
Saturation Adjustment Blue : +50
Saturation Adjustment Purple : -20
Saturation Adjustment Magenta : -16
Luminance Adjustment Red : -14
Luminance Adjustment Orange : +16
Luminance Adjustment Yellow : 0
Luminance Adjustment Green : 0
Luminance Adjustment Aqua : -11
Luminance Adjustment Blue : -11
Luminance Adjustment Purple : 0
Luminance Adjustment Magenta : 0
Split Toning Shadow Hue : 184
Split Toning Shadow Saturation : 6
Split Toning Highlight Hue : 189
Split Toning Highlight Saturation : 12
Split Toning Balance : 0
Parametric Shadows : 0
Parametric Darks : 0
Parametric Lights : 0
Parametric Highlights : 0
Parametric Shadow Split : 25
Parametric Midtone Split : 50
Parametric Highlight Split : 75
Sharpen Radius : +1.0
Sharpen Detail : 25
Sharpen Edge Masking : 0
Post Crop Vignette Amount : -33
Post Crop Vignette Midpoint : 70
Post Crop Vignette Feather : 60
Post Crop Vignette Roundness : +7
Post Crop Vignette Style : Highlight Priority
Post Crop Vignette Highlight Contrast : 80
Grain Amount : 8
Grain Size : 40
Grain Frequency : 60
Luminance Noise Reduction Detail : 50
Luminance Noise Reduction Contrast : 0
Lens Profile Enable : 0
Lens Manual Distortion Amount : 0
Perspective Vertical : 0
Perspective Horizontal : 0
Perspective Rotate : 0.0
Perspective Scale : 100
Auto Lateral CA : 0
Exposure 2012 : -1.09
Contrast 2012 : +43
Highlights 2012 : -43
Shadows 2012 : +47
Whites 2012 : +8
Blacks 2012 : -48
Clarity 2012 : +40
Defringe Purple Amount : 0
Defringe Purple Hue Lo : 30
Defringe Purple Hue Hi : 70
Defringe Green Amount : 0
Defringe Green Hue Lo : 40
Defringe Green Hue Hi : 60
Convert To Grayscale : False
Tone Curve Name 2012 : Custom
Camera Profile : Adobe Standard
Lens Profile Setup : LensDefaults
Has Settings : True
Has Crop : False
Already Applied : True
Tone Curve PV2012 : 0, 27, 38, 56, 117, 124, 255, 249
Tone Curve PV2012 Red : 0, 20, 255, 255
Tone Curve PV2012 Green : 0, 14, 255, 255
Tone Curve PV2012 Blue : 0, 24, 255, 255
Image Width : 300
Image Height : 199
Bits Per Sample : 8
Color Components : 3
Aperture : 4.5
Image Size : 300x199
Megapixels : 0.060
Scale Factor To 35 mm Equivalent : 1.5
Shutter Speed : 1/160
Create Date : 2013:05:11 14:33:21.60
Date/Time Original : 2013:05:11 14:33:21.60
Circle Of Confusion : 0.020 mm
Depth Of Field : 0.09 m (4.43 - 4.51 m)
Field Of View : 6.9 deg
Focal Length : 200.0 mm (35 mm equivalent: 300.0 mm)
Hyperfocal Distance : 443.76 m
Light Value : 9.7
Lens ID : AF Zoom-Nikkor 80-200mm f/2.8D ED