Uber Exif Photo
Object Name : pink orchid catius
Keywords : pink orchid catius
By-line : Randy Giesbrecht
Copyright Notice : Randy Giesbrecht 2013
Caption-Abstract : pink orchid catius
Copyright Flag : True
URL : randygiesbrecht.com
Image Description : pink orchid catius
Make : NIKON CORPORATION
Camera Model Name : NIKON D4
Software : Adobe Photoshop Lightroom 4.2 (Macintosh)
Modify Date : 2013:06:17 08:12:21
Artist : Randy Giesbrecht
Copyright : Randy Giesbrecht 2013
Exposure Time : 1/100
F Number : 2.8
Exposure Program : Program AE
ISO : 800
Sensitivity Type : Recommended Exposure Index
Date/Time Original : 2013:06:13 10:11:59
Create Date : 2013:06:13 10:11:59
Shutter Speed Value : 1/100
Aperture Value : 2.8
Exposure Compensation : 0
Max Aperture Value : 2.8
Metering Mode : Spot
Light Source : Unknown
Flash : No Flash
Focal Length : 200.0 mm
Sensing Method : One-chip color area
Scene Type : Directly photographed
CFA Pattern : [Red,Green][Green,Blue]
Custom Rendered : Normal
Exposure Mode : Auto
White Balance : Auto
Digital Zoom Ratio : 1
Focal Length In 35mm Format : 200 mm
Scene Capture Type : Standard
Gain Control : Low gain up
Contrast : Normal
Saturation : High
Sharpness : Hard
Subject Distance Range : Unknown
Serial Number : 2017359
Lens Info : 70-200mm f/2.8
Lens Model : 70.0-200.0 mm f/2.8
Profile Description : sRGB IEC61966-2.1
Creator Tool : Adobe Photoshop Lightroom 4.2 (Macintosh)
Rating : 1
Urgency : 1 (most urgent)
Date Created : 2013:06:13 10:11:59.00
Credit : Randy Giesbrecht
Rating Percent : 1
Format : image/jpeg
Lens : 70.0-200.0 mm f/2.8
Image Number : 12160
Approximate Focus Distance : 1.68
Marked : True
Web Statement : randygiesbrecht.com
Version : 7.2
Process Version : 6.7
Incremental Temperature : 0
Incremental Tint : 0
Luminance Smoothing : 0
Color Noise Reduction : 0
Vignette Amount : 0
Shadow Tint : 0
Red Hue : 0
Red Saturation : 0
Green Hue : 0
Green Saturation : 0
Blue Hue : 0
Blue Saturation : 0
Vibrance : +10
Hue Adjustment Red : 0
Hue Adjustment Orange : 0
Hue Adjustment Yellow : 0
Hue Adjustment Green : 0
Hue Adjustment Aqua : 0
Hue Adjustment Blue : 0
Hue Adjustment Purple : 0
Hue Adjustment Magenta : 0
Saturation Adjustment Red : 0
Saturation Adjustment Orange : 0
Saturation Adjustment Yellow : 0
Saturation Adjustment Green : 0
Saturation Adjustment Aqua : 0
Saturation Adjustment Blue : 0
Saturation Adjustment Purple : 0
Saturation Adjustment Magenta : 0
Luminance Adjustment Red : 0
Luminance Adjustment Orange : 0
Luminance Adjustment Yellow : 0
Luminance Adjustment Green : 0
Luminance Adjustment Aqua : 0
Luminance Adjustment Blue : 0
Luminance Adjustment Purple : 0
Luminance Adjustment Magenta : 0
Split Toning Shadow Hue : 0
Split Toning Shadow Saturation : 0
Split Toning Highlight Hue : 0
Split Toning Highlight Saturation : 0
Split Toning Balance : 0
Parametric Shadows : 0
Parametric Darks : 0
Parametric Lights : 0
Parametric Highlights : 0
Parametric Shadow Split : 25
Parametric Midtone Split : 50
Parametric Highlight Split : 75
Sharpen Radius : +1.0
Sharpen Detail : 25
Sharpen Edge Masking : 0
Post Crop Vignette Amount : 0
Grain Amount : 0
Lens Profile Enable : 0
Lens Manual Distortion Amount : 0
Perspective Vertical : 0
Perspective Horizontal : 0
Perspective Rotate : 0.0
Perspective Scale : 100
Auto Lateral CA : 0
Exposure 2012 : 0.00
Contrast 2012 : 0
Highlights 2012 : -35
Shadows 2012 : +82
Whites 2012 : -4
Blacks 2012 : -6
Clarity 2012 : +42
Defringe Purple Amount : 0
Defringe Purple Hue Lo : 30
Defringe Purple Hue Hi : 70
Defringe Green Amount : 0
Defringe Green Hue Lo : 40
Defringe Green Hue Hi : 60
Convert To Grayscale : False
Tone Curve Name 2012 : Linear
Camera Profile : Embedded
Lens Profile Setup : LensDefaults
Has Settings : True
Crop Top : 0
Crop Left : 0.084593
Crop Bottom : 0.935501
Crop Right : 1
Crop Angle : 0
Crop Constrain To Warp : 0
Crop Width : 1000
Crop Height : 680
Crop Unit : pixels
Has Crop : True
Already Applied : True
Creator : Randy Giesbrecht
Title : pink orchid catius
Rights : Randy Giesbrecht 2013
Subject : pink orchid catius
Description : pink orchid catius
Usage Terms : call for uaseg rights
Creator Postal Code : V2S 3L7
Creator Work Email : crpix@telus.net
Creator Region : BC
Creator City : Abbotsford
Creator Work Telephone : 1(604)309-1738
Creator Address : 2764 Mountview Street
Creator Country : Canada
Creator Work URL : randygiesbrecht.com
Tone Curve PV2012 : 0, 0, 255, 255
Tone Curve PV2012 Red : 0, 0, 255, 255
Tone Curve PV2012 Green : 0, 0, 255, 255
Tone Curve PV2012 Blue : 0, 0, 255, 255
Image Width : 204
Image Height : 300
Bits Per Sample : 8
Color Components : 3
Aperture : 2.8
Image Size : 204x300
Megapixels : 0.061
Scale Factor To 35 mm Equivalent : 1.0
Shutter Speed : 1/100
Create Date : 2013:06:13 10:11:59.00
Date/Time Original : 2013:06:13 10:11:59.00
Circle Of Confusion : 0.030 mm
Depth Of Field : 0.010 m (1.675 - 1.685 m)
Field Of View : 10.3 deg
Focal Length : 200.0 mm (35 mm equivalent: 200.0 mm)
Hyperfocal Distance : 475.46 m
Light Value : 6.6
Lens ID : AF-S VR Zoom-Nikkor 70-200mm f/2.8G IF-ED