Uber Exif Photo
By-line : {your name}
By-line Title : Nikon digital camera user
Copyright Notice : (C)2009 {your name}, all rights reserved
Make : NIKON CORPORATION
Camera Model Name : NIKON D300S
Orientation : Horizontal (normal)
Software : Adobe Photoshop CC (Windows)
Modify Date : 2013:07:14 09:13:22
Artist : {your name}
Copyright : (C)2009 {your name}, all rights reserved
Exposure Time : 1/320
F Number : 4.5
Exposure Program : Aperture-priority AE
ISO : 200
Date/Time Original : 2013:07:13 14:35:12
Create Date : 2013:07:13 14:35:12
Shutter Speed Value : 1/320
Aperture Value : 4.5
Exposure Compensation : 0
Max Aperture Value : 4.4
Metering Mode : Center-weighted average
Light Source : Unknown
Flash : No Flash
Focal Length : 24.0 mm
Color Space : Uncalibrated
Exif Image Width : 4216
Exif Image Height : 2800
Sensing Method : One-chip color area
Scene Type : Directly photographed
CFA Pattern : [Red,Green][Green,Blue]
Custom Rendered : Normal
Exposure Mode : Auto
White Balance : Auto
Digital Zoom Ratio : 1
Focal Length In 35mm Format : 36 mm
Scene Capture Type : Standard
Gain Control : None
Contrast : Normal
Saturation : Normal
Sharpness : Normal
Subject Distance Range : Unknown
Serial Number : 7407751
Lens Info : 10-24mm f/3.5-4.5
Lens Model : 10.0-24.0 mm f/3.5-4.5
Profile Description : Adobe RGB (1998)
Format : image/jpeg
Authors Position : Nikon digital camera user
Date Created : 2013:07:13 14:35:12.039
Color Mode : RGB
ICC Profile Name : Adobe RGB (1998)
Rating Percent : 0
Creator Tool : Nikon Transfer 1.5 W
Rating : 0
Lens : 10.0-24.0 mm f/3.5-4.5
Image Number : 18811
Approximate Focus Distance : 1.26
Raw File Name : _DSC8242.NEF
Version : 8.1
Process Version : 6.7
Color Temperature : 5750
Tint : +5
Luminance Smoothing : 0
Color Noise Reduction : 25
Vignette Amount : 0
Shadow Tint : 0
Red Hue : 0
Red Saturation : 0
Green Hue : 0
Green Saturation : 0
Blue Hue : 0
Blue Saturation : 0
Vibrance : 0
Hue Adjustment Red : 0
Hue Adjustment Orange : 0
Hue Adjustment Yellow : 0
Hue Adjustment Green : 0
Hue Adjustment Aqua : 0
Hue Adjustment Blue : 0
Hue Adjustment Purple : 0
Hue Adjustment Magenta : 0
Saturation Adjustment Red : 0
Saturation Adjustment Orange : 0
Saturation Adjustment Yellow : 0
Saturation Adjustment Green : 0
Saturation Adjustment Aqua : 0
Saturation Adjustment Blue : 0
Saturation Adjustment Purple : 0
Saturation Adjustment Magenta : 0
Luminance Adjustment Red : 0
Luminance Adjustment Orange : 0
Luminance Adjustment Yellow : 0
Luminance Adjustment Green : 0
Luminance Adjustment Aqua : 0
Luminance Adjustment Blue : 0
Luminance Adjustment Purple : 0
Luminance Adjustment Magenta : 0
Split Toning Shadow Hue : 0
Split Toning Shadow Saturation : 0
Split Toning Highlight Hue : 0
Split Toning Highlight Saturation : 0
Split Toning Balance : 0
Parametric Shadows : 0
Parametric Darks : 0
Parametric Lights : 0
Parametric Highlights : 0
Parametric Shadow Split : 25
Parametric Midtone Split : 50
Parametric Highlight Split : 75
Sharpen Radius : +1.0
Sharpen Detail : 25
Sharpen Edge Masking : 0
Post Crop Vignette Amount : 0
Grain Amount : 0
Color Noise Reduction Detail : 50
Lens Profile Enable : 1
Lens Manual Distortion Amount : 0
Perspective Vertical : 0
Perspective Horizontal : 0
Perspective Rotate : 0.0
Perspective Scale : 100
Perspective Aspect : 0
Perspective Upright : Off
Auto Lateral CA : 0
Exposure 2012 : -0.95
Contrast 2012 : +12
Highlights 2012 : -25
Shadows 2012 : +25
Whites 2012 : -39
Blacks 2012 : +4
Clarity 2012 : +100
Defringe Purple Amount : 0
Defringe Purple Hue Lo : 30
Defringe Purple Hue Hi : 70
Defringe Green Amount : 0
Defringe Green Hue Lo : 40
Defringe Green Hue Hi : 60
Convert To Grayscale : False
Tone Curve Name 2012 : Linear
Camera Profile : Adobe Standard
Lens Profile Setup : LensDefaults
Lens Profile Name : Adobe (Nikon AF-S DX NIKKOR 10-24mm f/3.5-4.5G ED)
Lens Profile Filename : NIKON D90 (Nikon AF-S DX NIKKOR 10-24mm f3.5-4.5G ED) - RAW.lcp
Lens Profile Distortion Scale : 100
Lens Profile Chromatic Aberration Scale : 100
Lens Profile Vignetting Scale : 100
Has Settings : True
Has Crop : False
Already Applied : True
Creator : {your name}
Rights : (C)2009 {your name}, all rights reserved
Usage Terms : For consideration only, no reproduction without prior permission
Tone Curve PV2012 : 0, 0, 255, 255
Tone Curve PV2012 Red : 0, 0, 255, 255
Tone Curve PV2012 Green : 0, 0, 255, 255
Tone Curve PV2012 Blue : 0, 0, 255, 255
Image Width : 300
Image Height : 199
Bits Per Sample : 8
Color Components : 3
Aperture : 4.5
Image Size : 300x199
Megapixels : 0.060
Scale Factor To 35 mm Equivalent : 1.5
Shutter Speed : 1/320
Create Date : 2013:07:13 14:35:12.39
Date/Time Original : 2013:07:13 14:35:12.39
Modify Date : 2013:07:14 09:13:22.39
Circle Of Confusion : 0.020 mm
Depth Of Field : 0.51 m (1.06 - 1.56 m)
Field Of View : 53.1 deg
Focal Length : 24.0 mm (35 mm equivalent: 36.0 mm)
Hyperfocal Distance : 6.39 m
Light Value : 11.7
Lens ID : AF-S DX Nikkor 10-24mm f/3.5-4.5G ED