Uber Exif Photo
By-line : Copyright_Alan_E_Jones_2012
Copyright Notice : Copyright_Alan_E_Jones_2012
Make : NIKON CORPORATION
Camera Model Name : NIKON D300
Software : Adobe Photoshop Lightroom 4.4 (Windows)
Modify Date : 2013:07:27 22:11:53
Artist : Copyright_Alan_E_Jones_2012
Copyright : Copyright_Alan_E_Jones_2012
Exposure Time : 1/1000
F Number : 4.5
Exposure Program : Shutter speed priority AE
ISO : 200
Date/Time Original : 2012:09:16 11:35:27
Create Date : 2012:09:16 11:35:27
Shutter Speed Value : 1/1000
Aperture Value : 4.5
Exposure Compensation : 0
Max Aperture Value : 2.8
Subject Distance : 4294967295 m
Metering Mode : Multi-segment
Light Source : Cool White Fluorescent
Flash : No Flash
Focal Length : 200.0 mm
User Comment : Copyright 2008 Alan E Jones
Sensing Method : One-chip color area
Scene Type : Directly photographed
CFA Pattern : [Red,Green][Green,Blue]
Custom Rendered : Normal
Exposure Mode : Auto
White Balance : Manual
Digital Zoom Ratio : 1
Focal Length In 35mm Format : 300 mm
Scene Capture Type : Standard
Gain Control : None
Contrast : Normal
Saturation : Normal
Sharpness : Normal
Subject Distance Range : Unknown
Serial Number : 8009146
Lens Info : 70-200mm f/2.8
Lens Model : 70.0-200.0 mm f/2.8
Profile Description : sRGB IEC61966-2.1
Creator Tool : Adobe Photoshop Lightroom 4.4 (Windows)
Format : image/jpeg
Lens : 70.0-200.0 mm f/2.8
Image Number : 14548
Approximate Focus Distance : 4294967295
Date Created : 2012:09:16 11:35:27.65+01:00
Version : 7.4
Process Version : 6.7
Color Temperature : 3950
Tint : -12
Luminance Smoothing : 0
Color Noise Reduction : 25
Vignette Amount : 0
Shadow Tint : 0
Red Hue : 0
Red Saturation : 0
Green Hue : -19
Green Saturation : 0
Blue Hue : 0
Blue Saturation : 0
Vibrance : 0
Hue Adjustment Red : 0
Hue Adjustment Orange : -7
Hue Adjustment Yellow : 0
Hue Adjustment Green : -14
Hue Adjustment Aqua : 0
Hue Adjustment Blue : 0
Hue Adjustment Purple : 0
Hue Adjustment Magenta : 0
Saturation Adjustment Red : 0
Saturation Adjustment Orange : +60
Saturation Adjustment Yellow : 0
Saturation Adjustment Green : +7
Saturation Adjustment Aqua : 0
Saturation Adjustment Blue : 0
Saturation Adjustment Purple : 0
Saturation Adjustment Magenta : 0
Luminance Adjustment Red : -28
Luminance Adjustment Orange : +20
Luminance Adjustment Yellow : -41
Luminance Adjustment Green : 0
Luminance Adjustment Aqua : 0
Luminance Adjustment Blue : 0
Luminance Adjustment Purple : 0
Luminance Adjustment Magenta : -26
Split Toning Shadow Hue : 0
Split Toning Shadow Saturation : 0
Split Toning Highlight Hue : 0
Split Toning Highlight Saturation : 0
Split Toning Balance : +1
Parametric Shadows : +37
Parametric Darks : +27
Parametric Lights : +25
Parametric Highlights : 0
Parametric Shadow Split : 25
Parametric Midtone Split : 50
Parametric Highlight Split : 75
Sharpen Radius : +1.0
Sharpen Detail : 25
Sharpen Edge Masking : 0
Post Crop Vignette Amount : 0
Grain Amount : 0
Color Noise Reduction Detail : 50
Lens Profile Enable : 0
Lens Manual Distortion Amount : 0
Perspective Vertical : 0
Perspective Horizontal : 0
Perspective Rotate : 0.0
Perspective Scale : 100
Auto Lateral CA : 0
Exposure 2012 : -1.07
Contrast 2012 : +15
Highlights 2012 : 0
Shadows 2012 : +37
Whites 2012 : 0
Blacks 2012 : -10
Clarity 2012 : +44
Defringe Purple Amount : 0
Defringe Purple Hue Lo : 30
Defringe Purple Hue Hi : 70
Defringe Green Amount : 0
Defringe Green Hue Lo : 40
Defringe Green Hue Hi : 60
Convert To Grayscale : False
Tone Curve Name 2012 : Strong Contrast
Camera Profile : Camera Vivid
Lens Profile Setup : LensDefaults
Has Settings : True
Crop Top : 0.128742
Crop Left : 0.161034
Crop Bottom : 0.826347
Crop Right : 1
Crop Angle : 0
Crop Constrain To Warp : 0
Crop Width : 864
Crop Height : 477
Crop Unit : pixels
Has Crop : True
Already Applied : True
Creator : Copyright_Alan_E_Jones_2012
Rights : Copyright_Alan_E_Jones_2012
Tone Curve PV2012 : 0, 0, 32, 16, 64, 50, 128, 128, 192, 202, 255, 255
Tone Curve PV2012 Red : 0, 0, 255, 255
Tone Curve PV2012 Green : 0, 0, 255, 255
Tone Curve PV2012 Blue : 0, 0, 255, 255
Image Width : 300
Image Height : 166
Bits Per Sample : 8
Color Components : 3
Aperture : 4.5
Image Size : 300x166
Megapixels : 0.050
Scale Factor To 35 mm Equivalent : 1.5
Shutter Speed : 1/1000
Create Date : 2012:09:16 11:35:27.65
Date/Time Original : 2012:09:16 11:35:27.65
Circle Of Confusion : 0.020 mm
Depth Of Field : inf (443.76 m - inf)
Field Of View : 6.9 deg
Focal Length : 200.0 mm (35 mm equivalent: 300.0 mm)
Hyperfocal Distance : 443.76 m
Light Value : 13.3
Lens ID : AF-S VR Zoom-Nikkor 70-200mm f/2.8G IF-ED