Uber Exif Photo
Keywords : Wildpark Gangelt
By-line : Patrick-V
By-line Title : Nikon digitale camera gebruiker
Province-State : Noord-Rijnland-Westfalen
Country-Primary Location Name : Duitsland
Copyright Notice : Patrick-V
Copyright Flag : True
Make : NIKON CORPORATION
Camera Model Name : NIKON D7000
Software : Adobe Photoshop Lightroom 5.0 (Windows)
Modify Date : 2013:08:13 13:16:47
Artist : Patrick-V
Copyright : Patrick-V
Exposure Time : 1/500
F Number : 5.6
Exposure Program : Aperture-priority AE
ISO : 400
Sensitivity Type : Recommended Exposure Index
Date/Time Original : 2012:10:21 11:43:23
Create Date : 2012:10:21 11:43:23
Shutter Speed Value : 1/500
Aperture Value : 5.6
Exposure Compensation : 0
Max Aperture Value : 2.8
Metering Mode : Center-weighted average
Light Source : Unknown
Flash : Off, Did not fire
Focal Length : 200.0 mm
Sensing Method : One-chip color area
Scene Type : Directly photographed
CFA Pattern : [Red,Green][Green,Blue]
Custom Rendered : Normal
Exposure Mode : Auto
White Balance : Auto
Digital Zoom Ratio : 1
Focal Length In 35mm Format : 300 mm
Scene Capture Type : Standard
Gain Control : Low gain up
Contrast : Normal
Saturation : Normal
Sharpness : Normal
Subject Distance Range : Unknown
Serial Number : 6393065
Lens Info : 70-200mm f/2.8
Lens Model : 70.0-200.0 mm f/2.8
GPS Version ID : 2.2.0.0
GPS Latitude Ref : North
GPS Longitude Ref : East
Profile Description : sRGB IEC61966-2.1
Format : image/jpeg
Authors Position : Nikon digitale camera gebruiker
Urgency : 1 (most urgent)
Date Created : 2012:10:21 11:43:23.80
City : Gangelt
State : Noord-Rijnland-Westfalen
Country : Duitsland
Rating Percent : 0
Marked : True
Label : Gereed
Creator Tool : Adobe Photoshop Lightroom 5.0 (Windows)
Rating : 3
Lens : 70.0-200.0 mm f/2.8
Image Number : 5907
Approximate Focus Distance : 4294967295
Version : 8.1
Process Version : 6.7
Color Temperature : 4750
Tint : +15
Luminance Smoothing : 50
Color Noise Reduction : 25
Vignette Amount : 0
Shadow Tint : 0
Red Hue : 0
Red Saturation : 0
Green Hue : 0
Green Saturation : 0
Blue Hue : 0
Blue Saturation : 0
Vibrance : +25
Hue Adjustment Red : 0
Hue Adjustment Orange : 0
Hue Adjustment Yellow : 0
Hue Adjustment Green : 0
Hue Adjustment Aqua : 0
Hue Adjustment Blue : 0
Hue Adjustment Purple : 0
Hue Adjustment Magenta : 0
Saturation Adjustment Red : 0
Saturation Adjustment Orange : 0
Saturation Adjustment Yellow : 0
Saturation Adjustment Green : 0
Saturation Adjustment Aqua : 0
Saturation Adjustment Blue : 0
Saturation Adjustment Purple : 0
Saturation Adjustment Magenta : 0
Luminance Adjustment Red : 0
Luminance Adjustment Orange : 0
Luminance Adjustment Yellow : 0
Luminance Adjustment Green : 0
Luminance Adjustment Aqua : 0
Luminance Adjustment Blue : 0
Luminance Adjustment Purple : 0
Luminance Adjustment Magenta : 0
Split Toning Shadow Hue : 0
Split Toning Shadow Saturation : 0
Split Toning Highlight Hue : 0
Split Toning Highlight Saturation : 0
Split Toning Balance : 0
Parametric Shadows : 0
Parametric Darks : 0
Parametric Lights : 0
Parametric Highlights : 0
Parametric Shadow Split : 25
Parametric Midtone Split : 50
Parametric Highlight Split : 75
Sharpen Radius : +1.0
Sharpen Detail : 25
Sharpen Edge Masking : 0
Post Crop Vignette Amount : 0
Grain Amount : 0
Luminance Noise Reduction Detail : 50
Color Noise Reduction Detail : 50
Luminance Noise Reduction Contrast : 5
Lens Profile Enable : 1
Lens Manual Distortion Amount : 0
Perspective Vertical : 0
Perspective Horizontal : 0
Perspective Rotate : 0.0
Perspective Scale : 100
Perspective Aspect : 0
Perspective Upright : Off
Auto Lateral CA : 1
Exposure 2012 : -0.20
Contrast 2012 : 0
Highlights 2012 : -92
Shadows 2012 : +31
Whites 2012 : 0
Blacks 2012 : -17
Clarity 2012 : +52
Defringe Purple Amount : 0
Defringe Purple Hue Lo : 30
Defringe Purple Hue Hi : 70
Defringe Green Amount : 0
Defringe Green Hue Lo : 40
Defringe Green Hue Hi : 60
Convert To Grayscale : False
Tone Curve Name 2012 : Linear
Camera Profile : Adobe Standard
Lens Profile Setup : Custom
Lens Profile Name : Adobe (Nikon AF-S NIKKOR 70-200mm f/2.8G ED VR II)
Lens Profile Filename : NIKON D700 (Nikon AF-S NIKKOR 70-200mm f2.8G ED VR II) - RAW.lcp
Lens Profile Distortion Scale : 100
Lens Profile Chromatic Aberration Scale : 100
Lens Profile Vignetting Scale : 100
Has Settings : True
Crop Top : 0.217875
Crop Left : 0.357143
Crop Bottom : 0.619661
Crop Right : 0.830241
Crop Angle : 0
Crop Constrain To Warp : 0
Has Crop : True
Already Applied : True
Creator : Patrick-V
Rights : Patrick-V
Subject : Wildpark Gangelt
Usage Terms : Alleen ter raadpleging, geen reproductie zonder voorafgaande toestemming
Tone Curve PV2012 : 0, 0, 255, 255
Tone Curve PV2012 Red : 0, 0, 255, 255
Tone Curve PV2012 Green : 0, 0, 255, 255
Tone Curve PV2012 Blue : 0, 0, 255, 255
Image Width : 300
Image Height : 169
Bits Per Sample : 8
Color Components : 3
Aperture : 5.6
Image Size : 300x169
Megapixels : 0.051
Scale Factor To 35 mm Equivalent : 1.5
Shutter Speed : 1/500
Create Date : 2012:10:21 11:43:23.80
Date/Time Original : 2012:10:21 11:43:23.80
GPS Latitude : 50 deg 59' 1.59" N
GPS Longitude : 5 deg 57' 59.39" E
Circle Of Confusion : 0.020 mm
Depth Of Field : inf (356.59 m - inf)
Field Of View : 6.9 deg
Focal Length : 200.0 mm (35 mm equivalent: 300.0 mm)
GPS Position : 50 deg 59' 1.59" N, 5 deg 57' 59.39" E
Hyperfocal Distance : 356.59 m
Light Value : 11.9
Lens ID : AF-S Nikkor 70-200mm f/2.8G ED VR II