Uber Exif Photo
By-line : William Anderson
Copyright Notice : 2011 All Rights RESERVED
Make : NIKON CORPORATION
Camera Model Name : NIKON D7000
Software : Adobe Photoshop Lightroom 5.0 (Macintosh)
Modify Date : 2013:09:01 11:51:22
Artist : William Anderson
Copyright : 2011 All Rights RESERVED
Exposure Time : 1/200
F Number : 8.0
Exposure Program : Manual
ISO : 100
Date/Time Original : 2011:07:16 11:18:02
Create Date : 2011:07:16 11:18:02
Shutter Speed Value : 1/200
Aperture Value : 8.0
Exposure Compensation : 0
Max Aperture Value : 3.2
Metering Mode : Multi-segment
Light Source : Unknown
Flash : Off, Did not fire
Focal Length : 60.0 mm
Sensing Method : One-chip color area
Scene Type : Directly photographed
Exposure Mode : Manual
White Balance : Auto
Digital Zoom Ratio : 1
Focal Length In 35mm Format : 90 mm
Scene Capture Type : Standard
Gain Control : None
Contrast : Normal
Saturation : Normal
Sharpness : Normal
Subject Distance Range : Unknown
Serial Number : 3009475
Lens Info : 60mm f/2.8
Lens Model : 60.0 mm f/2.8
Approximate Focus Distance : 0.4
Image Number : 9825
Lens : 60.0 mm f/2.8
Format : image/jpeg
Creator Tool : Adobe Photoshop Lightroom 5.0 (Macintosh)
Date Created : 2011:07:16 11:18:02.90
Version : 8.2
Process Version : 6.7
Auto White Version : 134348800
Incremental Temperature : -19
Incremental Tint : -78
Luminance Smoothing : 0
Color Noise Reduction : 10
Vignette Amount : 0
Shadow Tint : 0
Red Hue : 0
Red Saturation : 0
Green Hue : 0
Green Saturation : 0
Blue Hue : 0
Blue Saturation : 0
Vibrance : 0
Hue Adjustment Red : 0
Hue Adjustment Orange : 0
Hue Adjustment Yellow : 0
Hue Adjustment Green : 0
Hue Adjustment Aqua : 0
Hue Adjustment Blue : 0
Hue Adjustment Purple : 0
Hue Adjustment Magenta : 0
Saturation Adjustment Red : -7
Saturation Adjustment Orange : -10
Saturation Adjustment Yellow : 0
Saturation Adjustment Green : 0
Saturation Adjustment Aqua : 0
Saturation Adjustment Blue : 0
Saturation Adjustment Purple : 0
Saturation Adjustment Magenta : 0
Luminance Adjustment Red : 0
Luminance Adjustment Orange : -1
Luminance Adjustment Yellow : 0
Luminance Adjustment Green : 0
Luminance Adjustment Aqua : 0
Luminance Adjustment Blue : 0
Luminance Adjustment Purple : 0
Luminance Adjustment Magenta : 0
Split Toning Shadow Hue : 0
Split Toning Shadow Saturation : 0
Split Toning Highlight Hue : 0
Split Toning Highlight Saturation : 0
Split Toning Balance : 0
Parametric Shadows : +33
Parametric Darks : -24
Parametric Lights : -3
Parametric Highlights : +92
Parametric Shadow Split : 25
Parametric Midtone Split : 50
Parametric Highlight Split : 75
Sharpen Radius : +1.0
Sharpen Detail : 25
Sharpen Edge Masking : 0
Post Crop Vignette Amount : 0
Grain Amount : 0
Color Noise Reduction Detail : 50
Color Noise Reduction Smoothness : 50
Lens Profile Enable : 0
Lens Manual Distortion Amount : 0
Perspective Vertical : 0
Perspective Horizontal : 0
Perspective Rotate : 0.0
Perspective Scale : 100
Perspective Aspect : 0
Perspective Upright : Off
Auto Lateral CA : 0
Exposure 2012 : 0.00
Contrast 2012 : 0
Highlights 2012 : 0
Shadows 2012 : 0
Whites 2012 : 0
Blacks 2012 : -33
Clarity 2012 : 0
Defringe Purple Amount : 0
Defringe Purple Hue Lo : 30
Defringe Purple Hue Hi : 70
Defringe Green Amount : 0
Defringe Green Hue Lo : 40
Defringe Green Hue Hi : 60
Convert To Grayscale : False
Tone Curve Name 2012 : Linear
Camera Profile : ACR 3.3
Lens Profile Setup : LensDefaults
Has Settings : True
Crop Top : 0.061221
Crop Left : 0.202952
Crop Bottom : 1
Crop Right : 1
Crop Angle : 0
Crop Constrain To Warp : 0
Has Crop : True
Already Applied : True
Creator : William Anderson
Rights : 2011 All Rights RESERVED
Tone Curve PV2012 : 0, 0, 255, 255
Tone Curve PV2012 Red : 0, 0, 255, 255
Tone Curve PV2012 Green : 0, 0, 255, 255
Tone Curve PV2012 Blue : 0, 0, 255, 255
Image Width : 300
Image Height : 234
Bits Per Sample : 8
Color Components : 1
Aperture : 8.0
Image Size : 300x234
Megapixels : 0.070
Scale Factor To 35 mm Equivalent : 1.5
Shutter Speed : 1/200
Create Date : 2011:07:16 11:18:02.90
Date/Time Original : 2011:07:16 11:18:02.9
Circle Of Confusion : 0.020 mm
Depth Of Field : 0.012 m (0.394 - 0.406 m)
Field Of View : 22.6 deg
Focal Length : 60.0 mm (35 mm equivalent: 90.0 mm)
Hyperfocal Distance : 22.47 m
Light Value : 13.6
Lens ID : AF Micro-Nikkor 60mm f/2.8D