Uber Exif Photo
By-line : André Bonnano
By-line Title : Fotógrafo
Object Name : Ensaio Gestante - Fabiola Alves
Keywords : André Bonnano, Bonnano Studio, Ensaio, Estudio, Fabiola Alves, Gestante, Pessoas
Copyright Notice : © 2012 André Bonnano - Todos os Direitos Reservados
Copyright Flag : True
URL : www.bonnanostudio.com.br
Photometric Interpretation : RGB
Make : NIKON CORPORATION
Camera Model Name : NIKON D7000
Orientation : Horizontal (normal)
Samples Per Pixel : 3
Software : Adobe Photoshop CS6 (Windows)
Modify Date : 2013:08:08 11:32:37
Artist : André Bonnano
Copyright : © 2012 André Bonnano - Todos os Direitos Reservados
Exposure Time : 1/125
F Number : 9.0
Exposure Program : Manual
ISO : 100
Sensitivity Type : Recommended Exposure Index
Date/Time Original : 2013:08:06 21:11:44
Create Date : 2013:08:06 21:11:44
Shutter Speed Value : 1/125
Aperture Value : 9.0
Exposure Compensation : 0
Max Aperture Value : 4.8
Metering Mode : Spot
Light Source : Unknown
Flash : Off, Did not fire
Focal Length : 42.0 mm
User Comment : Bonnano Studio - Rimele
Color Space : sRGB
Exif Image Width : 1325
Exif Image Height : 2000
Sensing Method : One-chip color area
Scene Type : Directly photographed
CFA Pattern : [Red,Green][Green,Blue]
Custom Rendered : Normal
Exposure Mode : Manual
White Balance : Auto
Digital Zoom Ratio : 1
Focal Length In 35mm Format : 63 mm
Scene Capture Type : Standard
Gain Control : None
Contrast : Normal
Saturation : Normal
Sharpness : Normal
Subject Distance Range : Unknown
Serial Number : 3071068
Lens Info : 18-105mm f/3.5-5.6
Lens Model : 18.0-105.0 mm f/3.5-5.6
Profile Description : sRGB IEC61966-2.1
Format : image/jpeg
Creator Tool : Adobe Photoshop Lightroom 5.0 (Windows)
Rating : 5
Lens : 18.0-105.0 mm f/3.5-5.6
Image Number : 35210
Approximate Focus Distance : 2.11
Date Created : 2013:08:06
Authors Position : Fotógrafo
Headline : Ensaio Gestante Fabiola Alves
Category : Ensaio Gestante
Color Mode : RGB
ICC Profile Name : sRGB IEC61966-2.1
Additional Model Information : Fabiola Alves
Marked : True
Web Statement : www.bonnanostudio.com.br
Intellectual Genre : Ensaio Gestante
Model Release Status : Unlimited Model Releases
PLUS Version : 1.2.0
Version : 8.1
Process Version : 6.7
Color Temperature : 5600
Tint : -16
Luminance Smoothing : 0
Color Noise Reduction : 25
Vignette Amount : 0
Shadow Tint : 0
Red Hue : 0
Red Saturation : 0
Green Hue : 0
Green Saturation : 0
Blue Hue : 0
Blue Saturation : 0
Vibrance : -28
Hue Adjustment Red : 0
Hue Adjustment Orange : 0
Hue Adjustment Yellow : 0
Hue Adjustment Green : 0
Hue Adjustment Aqua : 0
Hue Adjustment Blue : 0
Hue Adjustment Purple : 0
Hue Adjustment Magenta : 0
Saturation Adjustment Red : +16
Saturation Adjustment Orange : +16
Saturation Adjustment Yellow : 0
Saturation Adjustment Green : 0
Saturation Adjustment Aqua : -22
Saturation Adjustment Blue : -22
Saturation Adjustment Purple : 0
Saturation Adjustment Magenta : 0
Luminance Adjustment Red : 0
Luminance Adjustment Orange : 0
Luminance Adjustment Yellow : 0
Luminance Adjustment Green : 0
Luminance Adjustment Aqua : 0
Luminance Adjustment Blue : 0
Luminance Adjustment Purple : 0
Luminance Adjustment Magenta : 0
Split Toning Shadow Hue : 0
Split Toning Shadow Saturation : 0
Split Toning Highlight Hue : 0
Split Toning Highlight Saturation : 0
Split Toning Balance : 0
Parametric Shadows : 0
Parametric Darks : 0
Parametric Lights : 0
Parametric Highlights : 0
Parametric Shadow Split : 25
Parametric Midtone Split : 50
Parametric Highlight Split : 75
Sharpen Radius : +0.8
Sharpen Detail : 32
Sharpen Edge Masking : 20
Post Crop Vignette Amount : -23
Post Crop Vignette Midpoint : 49
Post Crop Vignette Feather : 71
Post Crop Vignette Roundness : -51
Post Crop Vignette Style : Highlight Priority
Post Crop Vignette Highlight Contrast : 0
Grain Amount : 0
Color Noise Reduction Detail : 50
Lens Profile Enable : 0
Lens Manual Distortion Amount : 0
Perspective Vertical : 0
Perspective Horizontal : 0
Perspective Rotate : 0.0
Perspective Scale : 100
Perspective Aspect : 0
Perspective Upright : Off
Auto Lateral CA : 0
Exposure 2012 : 0.00
Contrast 2012 : 0
Highlights 2012 : 0
Shadows 2012 : +31
Whites 2012 : 0
Blacks 2012 : +28
Clarity 2012 : -43
Defringe Purple Amount : 0
Defringe Purple Hue Lo : 30
Defringe Purple Hue Hi : 70
Defringe Green Amount : 0
Defringe Green Hue Lo : 40
Defringe Green Hue Hi : 60
Convert To Grayscale : False
Tone Curve Name 2012 : Custom
Camera Profile : Adobe Standard
Lens Profile Setup : LensDefaults
Has Settings : True
Has Crop : False
Already Applied : True
Raw File Name : 054-001-1332.jpg
Creator : André Bonnano
Title : Ensaio Gestante - Fabiola Alves
Rights : © 2012 André Bonnano - Todos os Direitos Reservados
Subject : André Bonnano, Bonnano Studio, Ensaio, Estudio, Fabiola Alves, Gestante, Pessoas
Organisation In Image Name : Bonnano Studio
Person In Image : Fabiola Alves
Model Age : 27
Usage Terms : Essas imagens estão protegidas pela Lei n.º 9.610 de 19/02/98. Proibida a cópia ou reprodução sem autorização prévia.
Creator Country : Brasil
Creator Work Email : andre@bonnanostudio.com.br
Creator Work Telephone : +55 11 96631-1221
Creator Region : São Paulo
Creator City : São Paulo
Creator Work URL : www.bonnanostudio.com.br
Model Release ID : 054-001
Tone Curve PV2012 : 0, 0, 48, 48, 106, 116, 165, 181, 255, 255
Tone Curve PV2012 Red : 0, 0, 255, 255
Tone Curve PV2012 Green : 10, 9, 255, 255
Tone Curve PV2012 Blue : 29, 52, 247, 235
Hierarchical Subject : Bonnano Studio, Ensaio, Estudio, Fabiola Alves, Gestante, Pessoas, Pessoas|André Bonnano
Image Width : 199
Image Height : 300
Bits Per Sample : 8
Color Components : 3
Aperture : 9.0
Image Size : 199x300
Megapixels : 0.060
Scale Factor To 35 mm Equivalent : 1.5
Shutter Speed : 1/125
Create Date : 2013:08:06 21:11:44.5
Date/Time Original : 2013:08:06 21:11:44.5
Circle Of Confusion : 0.020 mm
Depth Of Field : 0.93 m (1.74 - 2.68 m)
Field Of View : 31.9 deg
Focal Length : 42.0 mm (35 mm equivalent: 63.0 mm)
Hyperfocal Distance : 9.78 m
Light Value : 13.3
Lens ID : AF-S DX VR Zoom-Nikkor 18-105mm f/3.5-5.6G ED