Uber Exif Photo
Keywords : Weerterbos
By-line : Patrick-V
Province-State : Limburg
Country-Primary Location Name : Nederland
Copyright Notice : Patrick-V
Make : NIKON CORPORATION
Camera Model Name : NIKON D600
Software : Adobe Photoshop Lightroom 5.0 (Windows)
Modify Date : 2013:09:26 17:55:19
Artist : Patrick-V
Copyright : Patrick-V
Exposure Time : 1/200
F Number : 7.1
Exposure Program : Manual
ISO : 2800
Sensitivity Type : Recommended Exposure Index
Date/Time Original : 2013:09:26 08:11:46
Create Date : 2013:09:26 08:11:46
Shutter Speed Value : 1/200
Aperture Value : 7.1
Exposure Compensation : -2/3
Max Aperture Value : 5.7
Metering Mode : Multi-segment
Light Source : Unknown
Flash : Off, Did not fire
Focal Length : 600.0 mm
Sensing Method : One-chip color area
Scene Type : Directly photographed
CFA Pattern : [Red,Green][Green,Blue]
Custom Rendered : Normal
Exposure Mode : Manual
White Balance : Auto
Digital Zoom Ratio : 1
Focal Length In 35mm Format : 600 mm
Scene Capture Type : Standard
Gain Control : High gain up
Contrast : Normal
Saturation : Normal
Sharpness : Normal
Subject Distance Range : Unknown
Serial Number : 6031126
Lens Info : 300mm f/2.8
Lens Model : 300.0 mm f/2.8
GPS Version ID : 2.2.0.0
GPS Latitude Ref : North
GPS Longitude Ref : East
Profile Description : sRGB IEC61966-2.1
Urgency : 1 (most urgent)
Date Created : 2013:09:26 08:11:46.00
City : Nederweert
State : Limburg
Country : Nederland
Label : Afdrukken
Creator Tool : Adobe Photoshop Lightroom 5.0 (Windows)
Rating : 3
Rating Percent : 0
Format : image/jpeg
Lens : 300.0 mm f/2.8
Image Number : 56603
Approximate Focus Distance : 4294967295
Version : 8.2
Process Version : 6.7
Auto White Version : 134348800
Color Temperature : 6050
Tint : +30
Luminance Smoothing : 29
Color Noise Reduction : 25
Vignette Amount : 0
Shadow Tint : 0
Red Hue : 0
Red Saturation : 0
Green Hue : 0
Green Saturation : 0
Blue Hue : 0
Blue Saturation : 0
Vibrance : +25
Hue Adjustment Red : 0
Hue Adjustment Orange : 0
Hue Adjustment Yellow : 0
Hue Adjustment Green : 0
Hue Adjustment Aqua : 0
Hue Adjustment Blue : 0
Hue Adjustment Purple : 0
Hue Adjustment Magenta : 0
Saturation Adjustment Red : 0
Saturation Adjustment Orange : 0
Saturation Adjustment Yellow : 0
Saturation Adjustment Green : 0
Saturation Adjustment Aqua : 0
Saturation Adjustment Blue : 0
Saturation Adjustment Purple : 0
Saturation Adjustment Magenta : 0
Luminance Adjustment Red : 0
Luminance Adjustment Orange : 0
Luminance Adjustment Yellow : 0
Luminance Adjustment Green : 0
Luminance Adjustment Aqua : 0
Luminance Adjustment Blue : 0
Luminance Adjustment Purple : 0
Luminance Adjustment Magenta : 0
Split Toning Shadow Hue : 0
Split Toning Shadow Saturation : 0
Split Toning Highlight Hue : 0
Split Toning Highlight Saturation : 0
Split Toning Balance : 0
Parametric Shadows : 0
Parametric Darks : 0
Parametric Lights : 0
Parametric Highlights : 0
Parametric Shadow Split : 25
Parametric Midtone Split : 50
Parametric Highlight Split : 75
Sharpen Radius : +1.0
Sharpen Detail : 25
Sharpen Edge Masking : 0
Post Crop Vignette Amount : 0
Grain Amount : 0
Luminance Noise Reduction Detail : 50
Color Noise Reduction Detail : 50
Luminance Noise Reduction Contrast : 0
Color Noise Reduction Smoothness : 50
Lens Profile Enable : 1
Lens Manual Distortion Amount : 0
Perspective Vertical : 0
Perspective Horizontal : 0
Perspective Rotate : 0.0
Perspective Scale : 100
Perspective Aspect : 0
Perspective Upright : Off
Auto Lateral CA : 1
Exposure 2012 : 0.00
Contrast 2012 : +13
Highlights 2012 : 0
Shadows 2012 : 0
Whites 2012 : +35
Blacks 2012 : -62
Clarity 2012 : +50
Defringe Purple Amount : 1
Defringe Purple Hue Lo : 30
Defringe Purple Hue Hi : 70
Defringe Green Amount : 1
Defringe Green Hue Lo : 40
Defringe Green Hue Hi : 60
Convert To Grayscale : False
Tone Curve Name 2012 : Linear
Camera Profile : Camera Neutral
Lens Profile Setup : Custom
Lens Profile Name : Adobe (Nikon AF-S NIKKOR 300mm f/2.8G ED VR II)
Lens Profile Filename : NIKON D3X (Nikon AF-S NIKKOR 300mm f2.8G ED VR II) - RAW.lcp
Lens Profile Distortion Scale : 100
Lens Profile Chromatic Aberration Scale : 100
Lens Profile Vignetting Scale : 100
Has Settings : True
Crop Top : 0.281528
Crop Left : 0
Crop Bottom : 0.980153
Crop Right : 0.829101
Crop Angle : 0
Crop Constrain To Warp : 0
Has Crop : True
Already Applied : True
Creator : Patrick-V
Rights : Patrick-V
Subject : Weerterbos
Tone Curve PV2012 : 0, 0, 255, 255
Tone Curve PV2012 Red : 0, 0, 255, 255
Tone Curve PV2012 Green : 0, 0, 255, 255
Tone Curve PV2012 Blue : 0, 0, 255, 255
Image Width : 300
Image Height : 169
Bits Per Sample : 8
Color Components : 3
Aperture : 7.1
Image Size : 300x169
Megapixels : 0.051
Scale Factor To 35 mm Equivalent : 1.0
Shutter Speed : 1/200
Create Date : 2013:09:26 08:11:46.00
Date/Time Original : 2013:09:26 08:11:46.00
GPS Latitude : 51 deg 18' 16.25" N
GPS Longitude : 5 deg 39' 36.53" E
Circle Of Confusion : 0.030 mm
Depth Of Field : inf (1687.54 m - inf)
Field Of View : 3.4 deg
Focal Length : 600.0 mm (35 mm equivalent: 600.0 mm)
GPS Position : 51 deg 18' 16.25" N, 5 deg 39' 36.53" E
Hyperfocal Distance : 1687.54 m
Light Value : 8.5
Lens ID : AF-S Nikkor 300mm f/2.8G IF-ED VR II