Uber Exif Photo
By-line : J. EVAN HANNEMAN 425-213-6374
Copyright Notice : J. EVAN HANNEMAN PHOTOGRAPHY
Photometric Interpretation : RGB
Make : NIKON CORPORATION
Camera Model Name : NIKON D300S
Orientation : Horizontal (normal)
Samples Per Pixel : 3
Software : Adobe Photoshop CS5.1 Macintosh
Modify Date : 2013:10:16 21:27:27
Artist : J. EVAN HANNEMAN 425-213-6374
Copyright : J. EVAN HANNEMAN PHOTOGRAPHY
Exposure Time : 1/100
F Number : 4.0
Exposure Program : Aperture-priority AE
ISO : 500
Date/Time Original : 2011:09:18 21:13:07
Create Date : 2011:09:18 21:13:07
Shutter Speed Value : 1/100
Aperture Value : 4.0
Exposure Compensation : 0
Max Aperture Value : 4.0
Subject Distance : 20 m
Metering Mode : Multi-segment
Light Source : Fine Weather
Flash : No Flash
Focal Length : 280.0 mm
Color Space : Uncalibrated
Exif Image Width : 2400
Exif Image Height : 1594
Sensing Method : One-chip color area
Scene Type : Directly photographed
CFA Pattern : [Red,Green][Green,Blue]
Custom Rendered : Normal
Exposure Mode : Auto
White Balance : Manual
Digital Zoom Ratio : 1
Focal Length In 35mm Format : 420 mm
Scene Capture Type : Standard
Gain Control : Low gain up
Contrast : Normal
Saturation : Normal
Sharpness : Normal
Subject Distance Range : Unknown
Serial Number : 3047790
Lens Info : 70-200mm f/2.8
Lens Model : 70.0-200.0 mm f/2.8
Profile Description : Adobe RGB (1998)
Format : image/jpeg
Creator Tool : Adobe Photoshop CS5.1 Macintosh
Rating : 0
Lens : 70.0-200.0 mm f/2.8
Image Number : 7996
Approximate Focus Distance : 20
Date Created : 2011:09:18 21:13:07.008
Color Mode : RGB
ICC Profile Name : Adobe RGB (1998)
Raw File Name : JEH_8814.NEF
Version : 6.4.1
Process Version : 5.7
Color Temperature : 6050
Tint : -3
Exposure : 0.00
Shadows : 5
Brightness : +50
Luminance Smoothing : 0
Color Noise Reduction : 25
Chromatic Aberration R : 0
Chromatic Aberration B : 0
Vignette Amount : 0
Shadow Tint : 0
Red Hue : 0
Red Saturation : 0
Green Hue : 0
Green Saturation : 0
Blue Hue : 0
Blue Saturation : 0
Fill Light : 0
Vibrance : 0
Highlight Recovery : 32
Clarity : 0
Defringe : 0
Hue Adjustment Red : 0
Hue Adjustment Orange : 0
Hue Adjustment Yellow : 0
Hue Adjustment Green : 0
Hue Adjustment Aqua : 0
Hue Adjustment Blue : 0
Hue Adjustment Purple : 0
Hue Adjustment Magenta : 0
Saturation Adjustment Red : 0
Saturation Adjustment Orange : 0
Saturation Adjustment Yellow : 0
Saturation Adjustment Green : 0
Saturation Adjustment Aqua : 0
Saturation Adjustment Blue : 0
Saturation Adjustment Purple : 0
Saturation Adjustment Magenta : 0
Luminance Adjustment Red : 0
Luminance Adjustment Orange : 0
Luminance Adjustment Yellow : 0
Luminance Adjustment Green : 0
Luminance Adjustment Aqua : 0
Luminance Adjustment Blue : 0
Luminance Adjustment Purple : 0
Luminance Adjustment Magenta : 0
Split Toning Shadow Hue : 0
Split Toning Shadow Saturation : 0
Split Toning Highlight Hue : 0
Split Toning Highlight Saturation : 0
Split Toning Balance : 0
Parametric Shadows : 0
Parametric Darks : 0
Parametric Lights : 0
Parametric Highlights : 0
Parametric Shadow Split : 25
Parametric Midtone Split : 50
Parametric Highlight Split : 75
Sharpen Radius : +1.0
Sharpen Detail : 25
Sharpen Edge Masking : 0
Post Crop Vignette Amount : 0
Grain Amount : 0
Color Noise Reduction Detail : 50
Lens Profile Enable : 0
Lens Manual Distortion Amount : 0
Perspective Vertical : 0
Perspective Horizontal : 0
Perspective Rotate : 0.0
Perspective Scale : 100
Convert To Grayscale : False
Tone Curve Name : Medium Contrast
Camera Profile : Adobe Standard
Lens Profile Setup : LensDefaults
Has Settings : True
Has Crop : False
Already Applied : True
Creator : J. EVAN HANNEMAN 425-213-6374
Rights : J. EVAN HANNEMAN PHOTOGRAPHY
Tone Curve : 0, 0, 32, 22, 64, 56, 128, 128, 192, 196, 255, 255
Image Width : 300
Image Height : 199
Bits Per Sample : 8
Color Components : 3
Aperture : 4.0
Image Size : 300x199
Megapixels : 0.060
Scale Factor To 35 mm Equivalent : 1.5
Shutter Speed : 1/100
Create Date : 2011:09:18 21:13:07.08
Date/Time Original : 2011:09:18 21:13:07.08
Modify Date : 2013:10:16 21:27:27.08
Circle Of Confusion : 0.020 mm
Depth Of Field : 0.81 m (19.60 - 20.41 m)
Field Of View : 4.9 deg
Focal Length : 280.0 mm (35 mm equivalent: 420.0 mm)
Hyperfocal Distance : 978.49 m
Light Value : 8.3
Lens ID : AF-S Nikkor 70-200mm f/2.8G ED VR II