Uber Exif Photo
By-line : Wim Hazenhoek
Make : NIKON CORPORATION
Camera Model Name : NIKON D3
Orientation : Horizontal (normal)
Software : Capture NX 2.4.5 W
Modify Date : 2014:01:11 21:53:24
Artist : Wim Hazenhoek
Copyright : WIMHAZENHOEK
Exposure Time : 0.3
F Number : 8.0
Exposure Program : Aperture-priority AE
ISO : 400
Date/Time Original : 2014:01:11 17:02:00
Create Date : 2014:01:11 17:02:00
Shutter Speed Value : 0.6
Aperture Value : 8.0
Exposure Compensation : 0
Max Aperture Value : 2.8
Subject Distance : 4294967295 m
Metering Mode : Multi-segment
Light Source : Cloudy
Focal Length : 105.0 mm
Maker Note Version : 2.11
Image Data Size : 3525132
Nikon Capture Version : Capture NX 2.4.5 W
IFD0 Offset : 1134
Preview IFD Offset : 1034
NEF Bit Depth : n/a (JPEG)
Color Space : Uncalibrated
Exif Image Width : 2600
Exif Image Height : 1615
Sensing Method : One-chip color area
Scene Type : Directly photographed
Custom Rendered : Normal
Exposure Mode : Auto
White Balance : Manual
Digital Zoom Ratio : 1
Focal Length In 35mm Format : 105 mm
Scene Capture Type : Standard
Gain Control : Low gain up
Contrast : Normal
Saturation : Normal
Sharpness : Normal
Subject Distance Range : Unknown
Profile Description : sRGB IEC61966-2.1
Rating : 5
Creator Tool : Adobe Photoshop CS2 Windows
Rating Percent : 99
Date Created : 2014:01:11
Color Mode : RGB
ICC Profile Name : sRGB IEC61966-2.1
Date/Time Digitized : 2014:01:11 17:02:00.50+01:00
Flash Fired : False
Flash Return : No return detection
Flash Mode : Unknown
Flash Function : False
Flash Red Eye Mode : False
Serial Number : 2039518
Lens Info : 80-200mm f/2.8
Lens : 80.0-200.0 mm f/2.8
Image Number : 79256
Version : 6.1
Process Version : 5.7
Incremental Temperature : 0
Incremental Tint : 0
Exposure : +0.55
Shadows : 6
Brightness : 0
Luminance Smoothing : 42
Color Noise Reduction : 48
Chromatic Aberration R : 0
Chromatic Aberration B : 0
Vignette Amount : 0
Shadow Tint : 0
Red Hue : 0
Red Saturation : 0
Green Hue : 0
Green Saturation : 0
Blue Hue : 0
Blue Saturation : 0
Fill Light : 8
Vibrance : +42
Highlight Recovery : 0
Clarity : 0
Defringe : 0
Hue Adjustment Red : 0
Hue Adjustment Orange : 0
Hue Adjustment Yellow : +14
Hue Adjustment Green : +24
Hue Adjustment Aqua : 0
Hue Adjustment Blue : -6
Hue Adjustment Purple : 0
Hue Adjustment Magenta : 0
Saturation Adjustment Red : -42
Saturation Adjustment Orange : 0
Saturation Adjustment Yellow : +14
Saturation Adjustment Green : +57
Saturation Adjustment Aqua : 0
Saturation Adjustment Blue : 0
Saturation Adjustment Purple : 0
Saturation Adjustment Magenta : 0
Luminance Adjustment Red : -65
Luminance Adjustment Orange : 0
Luminance Adjustment Yellow : +52
Luminance Adjustment Green : +49
Luminance Adjustment Aqua : 0
Luminance Adjustment Blue : 0
Luminance Adjustment Purple : 0
Luminance Adjustment Magenta : 0
Split Toning Shadow Hue : 0
Split Toning Shadow Saturation : 0
Split Toning Highlight Hue : 0
Split Toning Highlight Saturation : 0
Split Toning Balance : 0
Parametric Shadows : 0
Parametric Darks : 0
Parametric Lights : -2
Parametric Highlights : -49
Parametric Shadow Split : 25
Parametric Midtone Split : 50
Parametric Highlight Split : 75
Sharpen Radius : +1.7
Sharpen Detail : 28
Sharpen Edge Masking : 0
Post Crop Vignette Amount : 0
Grain Amount : 0
Luminance Noise Reduction Detail : 50
Color Noise Reduction Detail : 50
Luminance Noise Reduction Contrast : 46
Lens Profile Enable : 1
Lens Manual Distortion Amount : 0
Perspective Vertical : 0
Perspective Horizontal : 0
Perspective Rotate : 0.0
Perspective Scale : 100
Convert To Grayscale : False
Tone Curve Name : Linear
Camera Profile : Embedded
Lens Profile Setup : Custom
Has Settings : True
Has Crop : False
Already Applied : True
Tone Curve : 0, 0, 255, 255
Creator City : Appingedam
Creator Country : Nederland
Creator Work Email : whazenhoek@gmail .com
Creator Work Telephone : 0622537001
Creator Work URL : Flickr
Format : image/jpeg
Creator : Wim Hazenhoek
Image Width : 300
Image Height : 186
Bits Per Sample : 8
Color Components : 3
Aperture : 8.0
Image Size : 300x186
Megapixels : 0.056
Scale Factor To 35 mm Equivalent : 1.0
Shutter Speed : 0.3
Create Date : 2014:01:11 17:02:00.50
Date/Time Original : 2014:01:11 17:02:00.50
Flash : No Flash
Circle Of Confusion : 0.030 mm
Depth Of Field : inf (45.87 m - inf)
Field Of View : 19.5 deg
Focal Length : 105.0 mm (35 mm equivalent: 105.0 mm)
Hyperfocal Distance : 45.87 m
Light Value : 5.6
Lens ID : AF Zoom-Nikkor 80-200mm f/2.8D ED