Uber Exif Photo
By-line : WIMHAZENHOEK
Copyright Notice : WIMHAZENHOEK
Make : NIKON CORPORATION
Camera Model Name : NIKON D700
Orientation : Horizontal (normal)
Software : Capture NX 2.4.5 W
Modify Date : 2014:01:24 21:40:52
Artist : WIMHAZENHOEK
Copyright : WIMHAZENHOEK
Exposure Time : 2.5
F Number : 4.5
Exposure Program : Manual
ISO : 100
Date/Time Original : 2012:10:30 22:41:44
Create Date : 2012:10:30 22:41:44
Shutter Speed Value : 1.6
Aperture Value : 4.5
Exposure Compensation : 0
Max Aperture Value : 2.8
Subject Distance : 4294967295 m
Metering Mode : Multi-segment
Light Source : Unknown
Flash : No Flash
Focal Length : 52.0 mm
Maker Note Version : 2.11
Image Data Size : 2866194
Nikon Capture Version : Capture NX 2.4.5 W
IFD0 Offset : 1252
Preview IFD Offset : 1152
NEF Bit Depth : n/a (JPEG)
Color Space : Uncalibrated
Exif Image Width : 2600
Exif Image Height : 1730
Sensing Method : One-chip color area
Scene Type : Directly photographed
CFA Pattern : [Red,Green][Green,Blue]
Custom Rendered : Custom
Exposure Mode : Manual
White Balance : Auto
Digital Zoom Ratio : 1
Focal Length In 35mm Format : 52 mm
Scene Capture Type : Standard
Gain Control : None
Contrast : Normal
Saturation : Normal
Sharpness : Normal
Subject Distance Range : Unknown
Serial Number : 2513575
Lens Info : 28-70mm f/2.8
Lens Model : 28.0-70.0 mm f/2.8
Profile Description : sRGB IEC61966-2.1
Creator Tool : Adobe Photoshop Lightroom 5.3 (Windows)
Lens : 28.0-70.0 mm f/2.8
Image Number : 4562
Approximate Focus Distance : 4294967295
Format : image/jpeg
Version : 8.3
Process Version : 5.7
Auto White Version : 134348800
Color Temperature : 3700
Tint : +6
Exposure : 0.00
Shadows : 20
Brightness : +71
Luminance Smoothing : 36
Color Noise Reduction : 31
Vignette Amount : 0
Shadow Tint : 0
Red Hue : 0
Red Saturation : 0
Green Hue : 0
Green Saturation : 0
Blue Hue : 0
Blue Saturation : 0
Fill Light : 51
Vibrance : +15
Highlight Recovery : 39
Clarity : 0
Hue Adjustment Red : 0
Hue Adjustment Orange : +14
Hue Adjustment Yellow : +16
Hue Adjustment Green : 0
Hue Adjustment Aqua : 0
Hue Adjustment Blue : 0
Hue Adjustment Purple : 0
Hue Adjustment Magenta : 0
Saturation Adjustment Red : +28
Saturation Adjustment Orange : +19
Saturation Adjustment Yellow : +16
Saturation Adjustment Green : 0
Saturation Adjustment Aqua : 0
Saturation Adjustment Blue : 0
Saturation Adjustment Purple : 0
Saturation Adjustment Magenta : 0
Luminance Adjustment Red : +43
Luminance Adjustment Orange : +19
Luminance Adjustment Yellow : +36
Luminance Adjustment Green : 0
Luminance Adjustment Aqua : 0
Luminance Adjustment Blue : 0
Luminance Adjustment Purple : 0
Luminance Adjustment Magenta : 0
Split Toning Shadow Hue : 53
Split Toning Shadow Saturation : 8
Split Toning Highlight Hue : 211
Split Toning Highlight Saturation : 25
Split Toning Balance : 0
Parametric Shadows : 0
Parametric Darks : 0
Parametric Lights : -15
Parametric Highlights : -61
Parametric Shadow Split : 25
Parametric Midtone Split : 50
Parametric Highlight Split : 75
Sharpen Radius : +1.3
Sharpen Detail : 29
Sharpen Edge Masking : 0
Post Crop Vignette Amount : 0
Grain Amount : 0
Luminance Noise Reduction Detail : 50
Color Noise Reduction Detail : 50
Luminance Noise Reduction Contrast : 0
Color Noise Reduction Smoothness : 50
Lens Profile Enable : 1
Lens Manual Distortion Amount : 0
Perspective Vertical : 0
Perspective Horizontal : 0
Perspective Rotate : 0.0
Perspective Scale : 100
Perspective Aspect : 0
Perspective Upright : Off
Auto Lateral CA : 0
Defringe Purple Amount : 0
Defringe Purple Hue Lo : 30
Defringe Purple Hue Hi : 70
Defringe Green Amount : 0
Defringe Green Hue Lo : 40
Defringe Green Hue Hi : 60
Convert To Grayscale : False
Tone Curve Name : Medium Contrast
Camera Profile : Adobe Standard
Lens Profile Setup : Custom
Lens Profile Name : Adobe (Nikon AF-S NIKKOR 24-70mm f/2.8G ED)
Lens Profile Filename : NIKON D3X (Nikon FX 24-70mm f2.8 G ED) - RAW.lcp
Lens Profile Distortion Scale : 100
Lens Profile Chromatic Aberration Scale : 100
Lens Profile Vignetting Scale : 100
Has Settings : True
Has Crop : False
Already Applied : True
Date Created : 2012:10:30 22:41:44.84+01:00
Creator : WIMHAZENHOEK
Rights : WIMHAZENHOEK
Tone Curve : 0, 0, 32, 22, 64, 56, 128, 128, 192, 196, 255, 255
Tone Curve Red : 0, 0, 255, 255
Tone Curve Green : 0, 0, 255, 255
Tone Curve Blue : 0, 0, 255, 255
Derived From :
Image Width : 300
Image Height : 200
Bits Per Sample : 8
Color Components : 3
Aperture : 4.5
Image Size : 300x200
Megapixels : 0.060
Scale Factor To 35 mm Equivalent : 1.0
Shutter Speed : 2.5
Create Date : 2012:10:30 22:41:44.84
Date/Time Original : 2012:10:30 22:41:44.84
Circle Of Confusion : 0.030 mm
Depth Of Field : inf (20.00 m - inf)
Field Of View : 38.2 deg
Focal Length : 52.0 mm (35 mm equivalent: 52.0 mm)
Hyperfocal Distance : 20.00 m
Light Value : 3.0
Lens ID : AF-S Zoom-Nikkor 28-70mm f/2.8D IF-ED
Display settings: ORIGINAL format thumbnails | High quality JPEG thumbnails
Use Display settings menu option from the top menu to change