Uber Exif Photo
Photometric Interpretation : RGB
Planar Configuration : Chunky
Modify Date : 2014:01:25 16:04:55
Make : NIKON CORPORATION
Camera Model Name : NIKON D610
Software : PaintShop Pro 15.00
Artist : Geir Walmann
Copyright : GAW Photograpyy
Copyright Notice : GAW Photograpyy
By-line : Geir Walmann
Color Space : Uncalibrated
Exif Image Width : 1223
Exif Image Height : 816
Date/Time Original : 2014:01:24 15:15:59
Create Date : 2014:01:24 15:15:59
Exposure Time : 1/15
F Number : 9.0
Exposure Program : Aperture-priority AE
ISO : 320
Shutter Speed Value : 1/15
Aperture Value : 9.0
Exposure Compensation : 0
Max Aperture Value : 4.0
Metering Mode : Multi-segment
Light Source : Cloudy
Focal Length : 17.0 mm
Sensing Method : One-chip color area
Scene Type : Directly photographed
CFA Pattern : [Red,Green][Green,Blue]
Custom Rendered : Normal
Exposure Mode : Auto
White Balance : Manual
Digital Zoom Ratio : 1
Focal Length In 35mm Format : 17 mm
Scene Capture Type : Standard
Gain Control : None
Contrast : Normal
Saturation : High
Sharpness : Hard
Subject Distance Range : Unknown
Sensitivity Type : Recommended Exposure Index
Serial Number : 6000826
Lens Info : 16-35mm f/4
Lens Model : 16.0-35.0 mm f/4.0
Format : image/jpeg
Creator : Geir Walmann
Rights : GAW Photograpyy
Creator Tool : PaintShop Pro 15.00
Lens : 16.0-35.0 mm f/4.0
Image Number : 1810
Approximate Focus Distance : 2
Date Created : 2014:01:24 15:15:59.60
Version : 8.3
Process Version : 6.7
Auto White Version : 134348800
Color Temperature : 5750
Tint : 0
Luminance Smoothing : 0
Color Noise Reduction : 25
Vignette Amount : 0
Shadow Tint : 0
Red Hue : 0
Red Saturation : 0
Green Hue : 0
Green Saturation : 0
Blue Hue : 0
Blue Saturation : 0
Vibrance : +29
Hue Adjustment Red : 0
Hue Adjustment Orange : 0
Hue Adjustment Yellow : 0
Hue Adjustment Green : 0
Hue Adjustment Aqua : 0
Hue Adjustment Blue : 0
Hue Adjustment Purple : 0
Hue Adjustment Magenta : 0
Saturation Adjustment Red : 0
Saturation Adjustment Orange : 0
Saturation Adjustment Yellow : 0
Saturation Adjustment Green : 0
Saturation Adjustment Aqua : 0
Saturation Adjustment Blue : 0
Saturation Adjustment Purple : 0
Saturation Adjustment Magenta : 0
Luminance Adjustment Red : 0
Luminance Adjustment Orange : 0
Luminance Adjustment Yellow : 0
Luminance Adjustment Green : 0
Luminance Adjustment Aqua : 0
Luminance Adjustment Blue : 0
Luminance Adjustment Purple : 0
Luminance Adjustment Magenta : 0
Split Toning Shadow Hue : 0
Split Toning Shadow Saturation : 0
Split Toning Highlight Hue : 0
Split Toning Highlight Saturation : 0
Split Toning Balance : 0
Parametric Shadows : 0
Parametric Darks : 0
Parametric Lights : 0
Parametric Highlights : 0
Parametric Shadow Split : 25
Parametric Midtone Split : 50
Parametric Highlight Split : 75
Sharpen Radius : +1.0
Sharpen Detail : 25
Sharpen Edge Masking : 0
Post Crop Vignette Amount : 0
Grain Amount : 0
Color Noise Reduction Detail : 50
Color Noise Reduction Smoothness : 50
Lens Profile Enable : 0
Lens Manual Distortion Amount : 0
Perspective Vertical : 0
Perspective Horizontal : 0
Perspective Rotate : 0.0
Perspective Scale : 100
Perspective Aspect : 0
Perspective Upright : Off
Auto Lateral CA : 0
Exposure 2012 : +0.36
Contrast 2012 : 0
Highlights 2012 : 0
Shadows 2012 : 0
Whites 2012 : 0
Blacks 2012 : 0
Clarity 2012 : 0
Defringe Purple Amount : 0
Defringe Purple Hue Lo : 30
Defringe Purple Hue Hi : 70
Defringe Green Amount : 0
Defringe Green Hue Lo : 40
Defringe Green Hue Hi : 60
Convert To Grayscale : False
Tone Curve Name 2012 : Linear
Camera Profile : Adobe Standard
Lens Profile Setup : LensDefaults
Has Settings : True
Crop Top : 0.020625
Crop Left : 0.005717
Crop Bottom : 0.979375
Crop Right : 0.994283
Crop Angle : -0.805405
Crop Constrain To Warp : 0
Has Crop : True
Already Applied : True
Tone Curve PV2012 : 0, 0, 255, 255
Tone Curve PV2012 Red : 0, 0, 255, 255
Tone Curve PV2012 Green : 0, 0, 255, 255
Tone Curve PV2012 Blue : 0, 0, 255, 255
Gradient Based Corr What : Correction
Gradient Based Corr Amount : 1.000000
Gradient Based Corr Active : true
Gradient Based Corr Saturation : 0.379310
Gradient Based Corr Sharpness : 0.287360
Gradient Based Corr Brightness : 0.000000
Gradient Based Corr Toning Hue : 0.000000
Gradient Based Corr Toning Saturation : 0.000000
Gradient Based Corr Exposure 2012 : -0.172500
Gradient Based Corr Contrast 2012 : 0.103450
Gradient Based Corr Highlights 2012 : -0.126440
Gradient Based Corr Shadows 2012 : 0.563220
Gradient Based Corr Clarity 2012 : 0.264370
Gradient Based Corr Luminance Noise : 0.000000
Gradient Based Corr Moire : 0.000000
Gradient Based Corr Defringe : 0.000000
Gradient Based Corr Temperature : 0.000000
Gradient Based Corr Tint : 0.000000
Gradient Based Corr Mask What : Mask/Gradient
Gradient Based Corr Mask Value : 1.000000
Gradient Based Corr Mask Zero X : 0.494610
Gradient Based Corr Mask Zero Y : 0.987907
Gradient Based Corr Mask Full X : 0.579764
Gradient Based Corr Mask Full Y : 0.289266
Flash Fired : False
Flash Return : No return detection
Flash Mode : Off
Flash Function : False
Flash Red Eye Mode : False
CFA Pattern Columns : 2
CFA Pattern Rows : 2
CFA Pattern Values : 0, 1, 1, 2
Image Width : 300
Image Height : 200
Bits Per Sample : 8
Color Components : 3
Aperture : 9.0
Image Size : 300x200
Megapixels : 0.060
Scale Factor To 35 mm Equivalent : 1.0
Shutter Speed : 1/15
Create Date : 2014:01:24 15:15:59.60
Date/Time Original : 2014:01:24 15:15:59.60
Flash : Off, Did not fire
Circle Of Confusion : 0.030 mm
Depth Of Field : inf (0.70 m - inf)
Field Of View : 93.3 deg
Focal Length : 17.0 mm (35 mm equivalent: 17.0 mm)
Hyperfocal Distance : 1.07 m
Light Value : 8.6
Lens ID : AF-S Nikkor 16-35mm f/4G ED VR