Uber Exif Photo
By-line : WIMHAZENHOEK
Copyright Notice : WIMHAZENHOEK
Make : NIKON CORPORATION
Camera Model Name : NIKON D3
Orientation : Horizontal (normal)
Software : Capture NX 2.4.5 W
Modify Date : 2014:02:02 21:00:07
Artist : WIMHAZENHOEK
Copyright : WIMHAZENHOEK
Exposure Time : 1/6
F Number : 16.0
Exposure Program : Aperture-priority AE
ISO : 200
Date/Time Original : 2014:02:02 17:01:25
Create Date : 2014:02:02 17:01:25
Shutter Speed Value : 0.3
Aperture Value : 16.0
Exposure Compensation : 0
Max Aperture Value : 2.8
Metering Mode : Multi-segment
Light Source : Unknown
Flash : No Flash
Focal Length : 28.0 mm
Maker Note Version : 2.11
Image Data Size : 2501289
Nikon Capture Version : Capture NX 2.4.5 W
IFD0 Offset : 1210
Preview IFD Offset : 1110
NEF Bit Depth : n/a (JPEG)
Color Space : Uncalibrated
Exif Image Width : 1999
Exif Image Height : 1433
Sensing Method : One-chip color area
Scene Type : Directly photographed
Custom Rendered : Normal
Exposure Mode : Auto
White Balance : Auto
Digital Zoom Ratio : 1
Focal Length In 35mm Format : 28 mm
Scene Capture Type : Standard
Gain Control : None
Contrast : Normal
Saturation : Normal
Sharpness : Normal
Subject Distance Range : Unknown
Serial Number : 2039518
Lens Info : 28-70mm f/2.8
Lens Model : 28.0-70.0 mm f/2.8
Profile Description : sRGB IEC61966-2.1
Format : image/jpeg
Creator Tool : Adobe Photoshop Lightroom 5.3 (Windows)
Lens : 28.0-70.0 mm f/2.8
Image Number : 79538
Approximate Focus Distance : 4294967295
Date Created : 2014:02:02 17:01:25.00
Version : 8.3
Process Version : 6.7
Auto White Version : 134348800
Incremental Temperature : 0
Incremental Tint : 0
Luminance Smoothing : 36
Color Noise Reduction : 0
Vignette Amount : 0
Shadow Tint : 0
Red Hue : 0
Red Saturation : 0
Green Hue : 0
Green Saturation : 0
Blue Hue : 0
Blue Saturation : 0
Vibrance : +31
Hue Adjustment Red : 0
Hue Adjustment Orange : -14
Hue Adjustment Yellow : 0
Hue Adjustment Green : +43
Hue Adjustment Aqua : 0
Hue Adjustment Blue : 0
Hue Adjustment Purple : 0
Hue Adjustment Magenta : 0
Saturation Adjustment Red : 0
Saturation Adjustment Orange : +31
Saturation Adjustment Yellow : +11
Saturation Adjustment Green : +38
Saturation Adjustment Aqua : 0
Saturation Adjustment Blue : +11
Saturation Adjustment Purple : 0
Saturation Adjustment Magenta : 0
Luminance Adjustment Red : 0
Luminance Adjustment Orange : +16
Luminance Adjustment Yellow : -6
Luminance Adjustment Green : -53
Luminance Adjustment Aqua : 0
Luminance Adjustment Blue : -36
Luminance Adjustment Purple : 0
Luminance Adjustment Magenta : 0
Split Toning Shadow Hue : 0
Split Toning Shadow Saturation : 0
Split Toning Highlight Hue : 0
Split Toning Highlight Saturation : 0
Split Toning Balance : 0
Parametric Shadows : 0
Parametric Darks : 0
Parametric Lights : 0
Parametric Highlights : 0
Parametric Shadow Split : 25
Parametric Midtone Split : 50
Parametric Highlight Split : 75
Sharpen Radius : +1.0
Sharpen Detail : 25
Sharpen Edge Masking : 0
Post Crop Vignette Amount : 0
Grain Amount : 0
Luminance Noise Reduction Detail : 50
Luminance Noise Reduction Contrast : 0
Lens Profile Enable : 0
Lens Manual Distortion Amount : 0
Perspective Vertical : 0
Perspective Horizontal : 0
Perspective Rotate : 0.0
Perspective Scale : 100
Perspective Aspect : 0
Perspective Upright : Off
Auto Lateral CA : 0
Exposure 2012 : +0.75
Contrast 2012 : +2
Highlights 2012 : -20
Shadows 2012 : +20
Whites 2012 : -89
Blacks 2012 : -7
Clarity 2012 : 0
Defringe Purple Amount : 0
Defringe Purple Hue Lo : 30
Defringe Purple Hue Hi : 70
Defringe Green Amount : 0
Defringe Green Hue Lo : 40
Defringe Green Hue Hi : 60
Convert To Grayscale : False
Tone Curve Name 2012 : Linear
Camera Profile : Embedded
Lens Profile Setup : LensDefaults
Has Settings : True
Has Crop : False
Already Applied : True
Creator : WIMHAZENHOEK
Rights : WIMHAZENHOEK
Tone Curve PV2012 : 0, 0, 255, 255
Tone Curve PV2012 Red : 0, 0, 255, 255
Tone Curve PV2012 Green : 0, 0, 255, 255
Tone Curve PV2012 Blue : 0, 0, 255, 255
Image Width : 300
Image Height : 215
Bits Per Sample : 8
Color Components : 3
Aperture : 16.0
Image Size : 300x215
Megapixels : 0.065
Scale Factor To 35 mm Equivalent : 1.0
Shutter Speed : 1/6
Create Date : 2014:02:02 17:01:25.00
Date/Time Original : 2014:02:02 17:01:25.00
Circle Of Confusion : 0.030 mm
Depth Of Field : inf (1.63 m - inf)
Field Of View : 65.5 deg
Focal Length : 28.0 mm (35 mm equivalent: 28.0 mm)
Hyperfocal Distance : 1.63 m
Light Value : 9.6
Lens ID : AF-S Zoom-Nikkor 28-70mm f/2.8D IF-ED