Uber Exif Photo
By-line : Maciej Reizer
Copyright Notice : Copyright  Maciej Reizer
Copyright Flag : True
Make : NIKON CORPORATION
Camera Model Name : NIKON D300
Software : Adobe Photoshop Lightroom 3.6 (Windows)
Modify Date : 2014:02:23 14:25:34
Artist : Maciej Reizer
Copyright : Copyright  Maciej Reizer
Exposure Time : 1/800
F Number : 5.6
Exposure Program : Shutter speed priority AE
ISO : 900
Date/Time Original : 2013:08:25 09:39:28
Create Date : 2013:08:25 09:39:28
Shutter Speed Value : 1/800
Aperture Value : 5.6
Exposure Compensation : -1
Max Aperture Value : 5.7
Subject Distance : 10 m
Metering Mode : Spot
Light Source : Shade
Flash : No Flash
Focal Length : 420.0 mm
Sensing Method : One-chip color area
Scene Type : Directly photographed
CFA Pattern : [Red,Green][Green,Blue]
Custom Rendered : Normal
Exposure Mode : Auto
White Balance : Manual
Digital Zoom Ratio : 1
Focal Length In 35mm Format : 630 mm
Scene Capture Type : Standard
Gain Control : High gain up
Contrast : Normal
Saturation : Normal
Sharpness : Normal
Subject Distance Range : Unknown
Serial Number : 4141472
Lens Info : 300mm f/4
Lens Model : 300.0 mm f/4.0
Profile Description : sRGB IEC61966-2.1
Creator Tool : Adobe Photoshop Lightroom 3.6 (Windows)
Lens : 300.0 mm f/4.0
Image Number : 29618
Approximate Focus Distance : 10
Date Created : 2013:08:25 09:39:28.68
Format : image/jpeg
Marked : True
Version : 6.6
Process Version : 5.7
Color Temperature : 7200
Tint : +10
Exposure : -1.15
Shadows : 9
Brightness : +40
Luminance Smoothing : 51
Color Noise Reduction : 25
Chromatic Aberration R : 0
Chromatic Aberration B : 0
Vignette Amount : 0
Shadow Tint : 0
Red Hue : 0
Red Saturation : 0
Green Hue : 0
Green Saturation : 0
Blue Hue : 0
Blue Saturation : 0
Fill Light : 36
Vibrance : 0
Highlight Recovery : 100
Clarity : 0
Defringe : 0
Hue Adjustment Red : 0
Hue Adjustment Orange : 0
Hue Adjustment Yellow : 0
Hue Adjustment Green : 0
Hue Adjustment Aqua : 0
Hue Adjustment Blue : 0
Hue Adjustment Purple : 0
Hue Adjustment Magenta : 0
Saturation Adjustment Red : 0
Saturation Adjustment Orange : 0
Saturation Adjustment Yellow : 0
Saturation Adjustment Green : 0
Saturation Adjustment Aqua : 0
Saturation Adjustment Blue : 0
Saturation Adjustment Purple : 0
Saturation Adjustment Magenta : 0
Luminance Adjustment Red : 0
Luminance Adjustment Orange : 0
Luminance Adjustment Yellow : 0
Luminance Adjustment Green : 0
Luminance Adjustment Aqua : 0
Luminance Adjustment Blue : 0
Luminance Adjustment Purple : 0
Luminance Adjustment Magenta : 0
Split Toning Shadow Hue : 0
Split Toning Shadow Saturation : 0
Split Toning Highlight Hue : 0
Split Toning Highlight Saturation : 0
Split Toning Balance : 0
Parametric Shadows : 0
Parametric Darks : 0
Parametric Lights : 0
Parametric Highlights : 0
Parametric Shadow Split : 25
Parametric Midtone Split : 50
Parametric Highlight Split : 75
Sharpen Radius : +1.0
Sharpen Detail : 25
Sharpen Edge Masking : 0
Post Crop Vignette Amount : 0
Grain Amount : 0
Luminance Noise Reduction Detail : 50
Color Noise Reduction Detail : 50
Luminance Noise Reduction Contrast : 0
Lens Profile Enable : 0
Lens Manual Distortion Amount : 0
Perspective Vertical : 0
Perspective Horizontal : 0
Perspective Rotate : 0.0
Perspective Scale : 100
Convert To Grayscale : False
Tone Curve Name : Medium Contrast
Camera Profile : Camera D2X Mode 2 v4
Lens Profile Setup : LensDefaults
Has Settings : True
Crop Top : 0
Crop Left : 0
Crop Bottom : 1
Crop Right : 0.75334
Crop Angle : 0
Crop Constrain To Warp : 0
Crop Width : 896
Crop Height : 790
Crop Unit : pixels
Has Crop : True
Already Applied : True
Creator : Maciej Reizer
Rights : Copyright  Maciej Reizer
Usage Terms : no reproduction of any kind without prior written permission
Tone Curve : 0, 0, 32, 22, 64, 56, 128, 128, 192, 196, 255, 255
Image Width : 300
Image Height : 265
Bits Per Sample : 8
Color Components : 3
Aperture : 5.6
Image Size : 300x265
Megapixels : 0.080
Scale Factor To 35 mm Equivalent : 1.5
Shutter Speed : 1/800
Create Date : 2013:08:25 09:39:28.68
Date/Time Original : 2013:08:25 09:39:28.68
Circle Of Confusion : 0.020 mm
Depth Of Field : 0.12 m (9.94 - 10.06 m)
Field Of View : 3.3 deg
Focal Length : 420.0 mm (35 mm equivalent: 630.0 mm)
Hyperfocal Distance : 1572.58 m
Light Value : 11.4
Lens ID : AF-S Nikkor 300mm f/4D IF-ED