Uber Exif Photo
Keywords : Alenquer, Atalaia
Copyright Notice : José Alberto Brioso
Copyright Flag : True
Make : NIKON CORPORATION
Camera Model Name : NIKON D5100
Software : Adobe Photoshop Lightroom 4.4 (Windows)
Modify Date : 2014:06:13 09:20:06
Copyright : José Alberto Brioso
Exposure Time : 1/125
F Number : 13.0
Exposure Program : Shutter speed priority AE
ISO : 100
Sensitivity Type : Recommended Exposure Index
Date/Time Original : 2014:05:11 10:51:40
Create Date : 2014:05:11 10:51:40
Shutter Speed Value : 1/125
Aperture Value : 13.0
Exposure Compensation : -2/3
Max Aperture Value : 4.8
Metering Mode : Multi-segment
Light Source : Unknown
Flash : No Flash
Focal Length : 45.0 mm
Sensing Method : One-chip color area
Scene Type : Directly photographed
CFA Pattern : [Red,Green][Green,Blue]
Custom Rendered : Normal
Exposure Mode : Auto
White Balance : Auto
Digital Zoom Ratio : 1
Focal Length In 35mm Format : 67 mm
Scene Capture Type : Standard
Gain Control : None
Contrast : Normal
Saturation : Normal
Sharpness : Normal
Subject Distance Range : Unknown
Serial Number : 6157673
Lens Info : 18-105mm f/3.5-5.6
Lens Model : 18.0-105.0 mm f/3.5-5.6
Profile Description : sRGB IEC61966-2.1
Date Acquired : 2014:05:11 16:07:55.020
Format : image/jpeg
Creator Tool : Adobe Photoshop Lightroom 4.4 (Windows)
Lens : 18.0-105.0 mm f/3.5-5.6
Image Number : 33525
Approximate Focus Distance : 4294967295
Date Created : 2014:05:11 10:51:40.20
Marked : True
Version : 7.4
Process Version : 6.7
Incremental Temperature : 0
Incremental Tint : 0
Luminance Smoothing : 0
Color Noise Reduction : 25
Vignette Amount : 0
Shadow Tint : 0
Red Hue : 0
Red Saturation : 0
Green Hue : 0
Green Saturation : 0
Blue Hue : 0
Blue Saturation : 0
Vibrance : 0
Hue Adjustment Red : 0
Hue Adjustment Orange : 0
Hue Adjustment Yellow : 0
Hue Adjustment Green : 0
Hue Adjustment Aqua : 0
Hue Adjustment Blue : 0
Hue Adjustment Purple : 0
Hue Adjustment Magenta : 0
Saturation Adjustment Red : 0
Saturation Adjustment Orange : +13
Saturation Adjustment Yellow : +23
Saturation Adjustment Green : +10
Saturation Adjustment Aqua : +50
Saturation Adjustment Blue : +58
Saturation Adjustment Purple : +23
Saturation Adjustment Magenta : 0
Luminance Adjustment Red : 0
Luminance Adjustment Orange : 0
Luminance Adjustment Yellow : 0
Luminance Adjustment Green : 0
Luminance Adjustment Aqua : 0
Luminance Adjustment Blue : 0
Luminance Adjustment Purple : 0
Luminance Adjustment Magenta : 0
Split Toning Shadow Hue : 0
Split Toning Shadow Saturation : 0
Split Toning Highlight Hue : 0
Split Toning Highlight Saturation : 0
Split Toning Balance : 0
Parametric Shadows : 0
Parametric Darks : 0
Parametric Lights : +10
Parametric Highlights : +60
Parametric Shadow Split : 25
Parametric Midtone Split : 50
Parametric Highlight Split : 75
Sharpen Radius : +1.0
Sharpen Detail : 25
Sharpen Edge Masking : 0
Post Crop Vignette Amount : 0
Grain Amount : 0
Color Noise Reduction Detail : 50
Lens Profile Enable : 0
Lens Manual Distortion Amount : 0
Perspective Vertical : 0
Perspective Horizontal : 0
Perspective Rotate : 0.0
Perspective Scale : 100
Auto Lateral CA : 0
Exposure 2012 : 0.00
Contrast 2012 : 0
Highlights 2012 : -40
Shadows 2012 : 0
Whites 2012 : 0
Blacks 2012 : -20
Clarity 2012 : 0
Defringe Purple Amount : 0
Defringe Purple Hue Lo : 30
Defringe Purple Hue Hi : 70
Defringe Green Amount : 0
Defringe Green Hue Lo : 40
Defringe Green Hue Hi : 60
Convert To Grayscale : False
Tone Curve Name 2012 : Linear
Camera Profile : Adobe Standard
Lens Profile Setup : LensDefaults
Has Settings : True
Has Crop : False
Already Applied : True
Last Keyword XMP : Atalaia
Rights : José Alberto Brioso
Subject : Alenquer, Atalaia
Tone Curve PV2012 : 0, 0, 255, 255
Tone Curve PV2012 Red : 0, 0, 255, 255
Tone Curve PV2012 Green : 0, 0, 255, 255
Tone Curve PV2012 Blue : 0, 0, 255, 255
Image Width : 300
Image Height : 199
Bits Per Sample : 8
Color Components : 3
Aperture : 13.0
Image Size : 300x199
Megapixels : 0.060
Scale Factor To 35 mm Equivalent : 1.5
Shutter Speed : 1/125
Create Date : 2014:05:11 10:51:40.20
Date/Time Original : 2014:05:11 10:51:40.20
Circle Of Confusion : 0.020 mm
Depth Of Field : inf (7.72 m - inf)
Field Of View : 30.1 deg
Focal Length : 45.0 mm (35 mm equivalent: 67.0 mm)
Hyperfocal Distance : 7.72 m
Light Value : 14.4
Lens ID : AF-S DX VR Zoom-Nikkor 18-105mm f/3.5-5.6G ED