Uber Exif Photo
By-line : Wm. R. Anderson
Copyright Notice : Wm. R. Anderson
Make : NIKON CORPORATION
Camera Model Name : NIKON D800
Software : Adobe Photoshop Lightroom 5.6 (Macintosh)
Modify Date : 2014:08:09 23:00:44
Artist : Wm. R. Anderson
Copyright : Wm. R. Anderson
Exposure Time : 1/1000
F Number : 16.0
Exposure Program : Program AE
ISO : 400
Sensitivity Type : Recommended Exposure Index
Date/Time Original : 2014:08:09 22:39:05
Create Date : 2014:08:09 22:39:05
Shutter Speed Value : 1/1000
Aperture Value : 16.0
Exposure Compensation : -5/3
Max Aperture Value : 3.6
Metering Mode : Multi-segment
Light Source : Unknown
Flash : Off, Did not fire
Focal Length : 60.0 mm
Sensing Method : One-chip color area
Scene Type : Directly photographed
CFA Pattern : [Red,Green][Green,Blue]
Custom Rendered : Custom
Exposure Mode : Auto
White Balance : Auto
Digital Zoom Ratio : 1
Focal Length In 35mm Format : 60 mm
Scene Capture Type : Standard
Gain Control : Low gain up
Contrast : Normal
Saturation : Normal
Sharpness : Normal
Subject Distance Range : Unknown
Serial Number : 3009733
Lens Info : 60mm f/2.8
Lens Model : 60.0 mm f/2.8
Profile Description : sRGB IEC61966-2.1
Format : image/jpeg
Creator Tool : Adobe Photoshop Lightroom 5.6 (Macintosh)
Lens : 60.0 mm f/2.8
Image Number : 12263
Approximate Focus Distance : 0.25
Date Created : 2014:08:09 22:39:05.50
Version : 8.6
Process Version : 6.7
Auto White Version : 134348800
Color Temperature : 3702
Tint : 0
Luminance Smoothing : 57
Color Noise Reduction : 25
Vignette Amount : 0
Shadow Tint : -100
Red Hue : +100
Red Saturation : -100
Green Hue : -100
Green Saturation : -100
Blue Hue : +100
Blue Saturation : -100
Vibrance : +47
Hue Adjustment Red : 0
Hue Adjustment Orange : 0
Hue Adjustment Yellow : 0
Hue Adjustment Green : 0
Hue Adjustment Aqua : 0
Hue Adjustment Blue : -11
Hue Adjustment Purple : -16
Hue Adjustment Magenta : 0
Saturation Adjustment Red : 0
Saturation Adjustment Orange : 0
Saturation Adjustment Yellow : 0
Saturation Adjustment Green : 0
Saturation Adjustment Aqua : 0
Saturation Adjustment Blue : +23
Saturation Adjustment Purple : +32
Saturation Adjustment Magenta : 0
Luminance Adjustment Red : 0
Luminance Adjustment Orange : 0
Luminance Adjustment Yellow : 0
Luminance Adjustment Green : 0
Luminance Adjustment Aqua : 0
Luminance Adjustment Blue : -38
Luminance Adjustment Purple : -52
Luminance Adjustment Magenta : 0
Split Toning Shadow Hue : 0
Split Toning Shadow Saturation : 0
Split Toning Highlight Hue : 0
Split Toning Highlight Saturation : 0
Split Toning Balance : +19
Parametric Shadows : -40
Parametric Darks : -17
Parametric Lights : 0
Parametric Highlights : +28
Parametric Shadow Split : 25
Parametric Midtone Split : 50
Parametric Highlight Split : 75
Sharpen Radius : +1.3
Sharpen Detail : 53
Sharpen Edge Masking : 0
Post Crop Vignette Amount : 0
Grain Amount : 0
Luminance Noise Reduction Detail : 50
Color Noise Reduction Detail : 50
Luminance Noise Reduction Contrast : 41
Color Noise Reduction Smoothness : 50
Lens Profile Enable : 1
Lens Manual Distortion Amount : 0
Perspective Vertical : 0
Perspective Horizontal : 0
Perspective Rotate : 0.0
Perspective Scale : 100
Perspective Aspect : 0
Perspective Upright : Auto
Auto Lateral CA : 1
Exposure 2012 : 0.00
Contrast 2012 : 0
Highlights 2012 : +100
Shadows 2012 : +70
Whites 2012 : 0
Blacks 2012 : -10
Clarity 2012 : +100
Defringe Purple Amount : 0
Defringe Purple Hue Lo : 30
Defringe Purple Hue Hi : 70
Defringe Green Amount : 0
Defringe Green Hue Lo : 40
Defringe Green Hue Hi : 60
Convert To Grayscale : False
Tone Curve Name : Linear
Tone Curve Name 2012 : Linear
Camera Profile : ACR 2.4
Lens Profile Setup : LensDefaults
Lens Profile Name : Adobe (Nikon AF Micro-NIKKOR 60mm f/2.8D)
Lens Profile Filename : NIKON D3X (Nikon AF Micro-NIKKOR 60mm f2.8D) - RAW.lcp
Lens Profile Distortion Scale : 100
Lens Profile Chromatic Aberration Scale : 100
Lens Profile Vignetting Scale : 100
Has Settings : True
Crop Top : 0
Crop Left : 0.07866
Crop Bottom : 0.970773
Crop Right : 0.913111
Crop Angle : 0
Crop Constrain To Warp : 1
Has Crop : True
Already Applied : True
Creator : Wm. R. Anderson
Rights : Wm. R. Anderson
Usage Terms : All Rights Reserved
Tone Curve : 0, 0, 255, 255
Tone Curve Red : 0, 0, 255, 255
Tone Curve Green : 0, 0, 255, 255
Tone Curve Blue : 0, 0, 255, 255
Tone Curve PV2012 : 0, 0, 255, 255
Tone Curve PV2012 Red : 0, 0, 255, 255
Tone Curve PV2012 Green : 0, 0, 255, 255
Tone Curve PV2012 Blue : 0, 0, 255, 255
Image Width : 300
Image Height : 233
Bits Per Sample : 8
Color Components : 3
Aperture : 16.0
Image Size : 300x233
Megapixels : 0.070
Scale Factor To 35 mm Equivalent : 1.0
Shutter Speed : 1/1000
Create Date : 2014:08:09 22:39:05.50
Date/Time Original : 2014:08:09 22:39:05.50
Circle Of Confusion : 0.030 mm
Depth Of Field : 0.013 m (0.244 - 0.257 m)
Field Of View : 33.4 deg
Focal Length : 60.0 mm (35 mm equivalent: 60.0 mm)
Hyperfocal Distance : 7.49 m
Light Value : 16.0
Lens ID : AF Micro-Nikkor 60mm f/2.8D