Uber Exif Photo
Photometric Interpretation : RGB
Camera Model Name : NIKON D7000
Orientation : Horizontal (normal)
Samples Per Pixel : 3
Software : Adobe Photoshop CS5 Macintosh
Modify Date : 2014:09:21 22:12:22
Exposure Time : 1.3
F Number : 18.0
ISO : 100
Date/Time Original : 2014:09:19 19:21:03
Create Date : 2014:09:19 19:21:03
Shutter Speed Value : 1.3
Aperture Value : 18.0
Focal Length : 18.0 mm
Color Space : sRGB
Exif Image Width : 800
Exif Image Height : 529
Profile Description : sRGB IEC61966-2.1
Method : Details Enhancer
Strength : 56.0
Color Saturation : 54.0
Luminosity : 1.0
White Clip : 2.427700
Black Clip : 0.366850
Smoothing Mode : Light
Smoothing : Low
Microcontrast : 6.8
Microsmoothing : 2.3
Gamma : 0.77
Highlights Smoothing : 74.0
Shadows Smoothing : 6.0
Shadows Clipping : 0.0
Color Temperature : 0.7
Saturation Highlights : 5.2
Saturation Shadows : -3.5
Is Pano 360 : No
Creator Tool : Adobe Photoshop Lightroom 3.4.1
Date Created : 2014:09:19 19:21:03
Color Mode : RGB
ICC Profile Name : sRGB IEC61966-2.1
Format : image/jpeg
Version : 6.4.1
Process Version : 5.7
White Balance : Custom
Incremental Temperature : +6
Incremental Tint : 0
Exposure : -0.15
Shadows : 0
Brightness : -4
Contrast : +3
Saturation : +1
Sharpness : 0
Luminance Smoothing : 17
Color Noise Reduction : 0
Chromatic Aberration R : 0
Chromatic Aberration B : 0
Vignette Amount : 0
Shadow Tint : 0
Red Hue : 0
Red Saturation : 0
Green Hue : 0
Green Saturation : 0
Blue Hue : 0
Blue Saturation : 0
Fill Light : 0
Vibrance : +1
Highlight Recovery : 19
Clarity : +47
Defringe : 0
Hue Adjustment Red : 0
Hue Adjustment Orange : 0
Hue Adjustment Yellow : 0
Hue Adjustment Green : 0
Hue Adjustment Aqua : 0
Hue Adjustment Blue : 0
Hue Adjustment Purple : 0
Hue Adjustment Magenta : 0
Saturation Adjustment Red : 0
Saturation Adjustment Orange : 0
Saturation Adjustment Yellow : 0
Saturation Adjustment Green : 0
Saturation Adjustment Aqua : 0
Saturation Adjustment Blue : 0
Saturation Adjustment Purple : 0
Saturation Adjustment Magenta : 0
Luminance Adjustment Red : 0
Luminance Adjustment Orange : 0
Luminance Adjustment Yellow : 0
Luminance Adjustment Green : 0
Luminance Adjustment Aqua : 0
Luminance Adjustment Blue : 0
Luminance Adjustment Purple : 0
Luminance Adjustment Magenta : 0
Split Toning Shadow Hue : 0
Split Toning Shadow Saturation : 0
Split Toning Highlight Hue : 0
Split Toning Highlight Saturation : 0
Split Toning Balance : 0
Parametric Shadows : -4
Parametric Darks : +1
Parametric Lights : +8
Parametric Highlights : -19
Parametric Shadow Split : 25
Parametric Midtone Split : 50
Parametric Highlight Split : 75
Sharpen Radius : +1.0
Sharpen Detail : 25
Sharpen Edge Masking : 0
Post Crop Vignette Amount : 0
Grain Amount : 0
Luminance Noise Reduction Detail : 0
Luminance Noise Reduction Contrast : 0
Lens Profile Enable : 0
Lens Manual Distortion Amount : 0
Perspective Vertical : 0
Perspective Horizontal : 0
Perspective Rotate : 0.0
Perspective Scale : 100
Convert To Grayscale : False
Tone Curve Name : Linear
Camera Profile : Embedded
Lens Profile Setup : LensDefaults
Has Settings : True
Has Crop : False
Already Applied : True
Tone Curve : 0, 0, 255, 255
Image Width : 300
Image Height : 198
Bits Per Sample : 8
Color Components : 3
Aperture : 18.0
Image Size : 300x198
Megapixels : 0.059
Shutter Speed : 1.3
Light Value : 8.0