Uber Exif Photo
Caption-Abstract : Photography by Danny Gilleland
By-line : Danny Gilleland
Object Name : 1106Orchid_
Keywords : 1106Orchid_
Image Description : Photography by Danny Gilleland
Make : NIKON CORPORATION
Camera Model Name : NIKON D90
Orientation : Horizontal (normal)
Software : Adobe Photoshop Elements 9.0 Windows
Modify Date : 2014:11:06 09:34:22
Artist : Danny Gilleland
Exposure Time : 1/125
F Number : 3.5
Exposure Program : Shutter speed priority AE
ISO : 320
Date/Time Original : 2001:01:11 17:15:32
Create Date : 2001:01:11 17:15:32
Shutter Speed Value : 1/125
Aperture Value : 3.5
Exposure Compensation : 0
Max Aperture Value : 3.5
Metering Mode : Multi-segment
Light Source : Unknown
Focal Length : 10.0 mm
User Comment : PHOTO BY DANNY GILLELAND
Color Space : sRGB
Exif Image Width : 1787
Exif Image Height : 1187
Sensing Method : One-chip color area
Scene Type : Directly photographed
CFA Pattern : [Green,Blue][Red,Green]
Custom Rendered : Normal
Exposure Mode : Auto
White Balance : Auto
Digital Zoom Ratio : 1
Focal Length In 35mm Format : 15 mm
Scene Capture Type : Portrait
Gain Control : None
Contrast : Normal
Saturation : Normal
Sharpness : Normal
Subject Distance Range : Unknown
Profile Description : sRGB IEC61966-2.1
Date Created : 2001:01:11
City : Fort Valley
Headline : 1106Orchid_
Sidecar For Extension : NEF
Color Mode : RGB
ICC Profile Name : sRGB IEC61966-2.1
Format : image/jpeg
Date/Time Digitized : 2001:01:11 17:15:32.00-05:00
Creator Tool : Ver.1.00
Rating : 0
Serial Number : 3050141
Lens Info : 10-17mm f/3.5-4.5
Lens : 10.0-17.0 mm f/3.5-4.5
Image Number : 114106
Raw File Name : 1106Orchid_0012.NEF
Version : 6.1
Process Version : 5.7
Color Temperature : 4100
Tint : +10
Exposure : -0.05
Shadows : 2
Brightness : +38
Luminance Smoothing : 0
Color Noise Reduction : 25
Chromatic Aberration R : 0
Chromatic Aberration B : 0
Vignette Amount : 0
Shadow Tint : 0
Red Hue : 0
Red Saturation : 0
Green Hue : 0
Green Saturation : 0
Blue Hue : 0
Blue Saturation : 0
Fill Light : 15
Vibrance : 0
Highlight Recovery : 36
Clarity : +43
Defringe : 0
Hue Adjustment Red : 0
Hue Adjustment Orange : 0
Hue Adjustment Yellow : 0
Hue Adjustment Green : 0
Hue Adjustment Aqua : 0
Hue Adjustment Blue : 0
Hue Adjustment Purple : 0
Hue Adjustment Magenta : 0
Saturation Adjustment Red : 0
Saturation Adjustment Orange : 0
Saturation Adjustment Yellow : 0
Saturation Adjustment Green : 0
Saturation Adjustment Aqua : 0
Saturation Adjustment Blue : 0
Saturation Adjustment Purple : 0
Saturation Adjustment Magenta : 0
Luminance Adjustment Red : 0
Luminance Adjustment Orange : 0
Luminance Adjustment Yellow : 0
Luminance Adjustment Green : 0
Luminance Adjustment Aqua : 0
Luminance Adjustment Blue : 0
Luminance Adjustment Purple : 0
Luminance Adjustment Magenta : 0
Split Toning Shadow Hue : 0
Split Toning Shadow Saturation : 0
Split Toning Highlight Hue : 0
Split Toning Highlight Saturation : 0
Split Toning Balance : 0
Parametric Shadows : 0
Parametric Darks : 0
Parametric Lights : 0
Parametric Highlights : 0
Parametric Shadow Split : 25
Parametric Midtone Split : 50
Parametric Highlight Split : 75
Sharpen Radius : +1.0
Sharpen Detail : 25
Sharpen Edge Masking : 0
Post Crop Vignette Amount : 0
Grain Amount : 0
Color Noise Reduction Detail : 50
Lens Profile Enable : 0
Lens Manual Distortion Amount : 0
Perspective Vertical : 0
Perspective Horizontal : 0
Perspective Rotate : 0.0
Perspective Scale : 100
Convert To Grayscale : False
Tone Curve Name : Medium Contrast
Camera Profile : Adobe Standard
Lens Profile Setup : LensDefaults
Has Settings : True
Has Crop : False
Already Applied : True
Supplemental Categories : 114106
Title : 1106Orchid_
Subject : 1106Orchid_
Creator : Danny Gilleland
Description : Photography by Danny Gilleland
Flash Fired : False
Flash Return : No return detection
Flash Mode : Unknown
Flash Function : False
Flash Red Eye Mode : False
Tone Curve : 0, 0, 32, 22, 64, 56, 128, 128, 192, 196, 255, 255
Image Width : 300
Image Height : 199
Bits Per Sample : 8
Color Components : 3
Aperture : 3.5
Image Size : 300x199
Megapixels : 0.060
Scale Factor To 35 mm Equivalent : 1.5
Shutter Speed : 1/125
Create Date : 2001:01:11 17:15:32.00
Date/Time Original : 2001:01:11 17:15:32.00
Modify Date : 2014:11:06 09:34:22.00
Flash : No Flash
Circle Of Confusion : 0.020 mm
Field Of View : 100.4 deg
Focal Length : 10.0 mm (35 mm equivalent: 15.0 mm)
Hyperfocal Distance : 1.43 m
Light Value : 8.9
Lens ID : 10.0-17.0mm f/3.5-4.5